Workbook

Sheet 27
R1: Додаток 3
R2: до наказу управління освіти і науки
R3: виконкому міської ради
R4: від 23.02.2016 №56
A5: Інформація
A6: щодо фактичного використання бюджетних коштів у 2026
C7: Січень | F7: Лютий | I7: Березень | L7: Квітень | O7: Травень | R7: Червень | U7: Липень | X7: Серпень | AA7: Вересень | AD7: Жовтень | AG7: Листопад | AJ7: Грудень | AM7: Разом
C8: державний | D8: місцевий | E8: разом | F8: державний | G8: місцевий | H8: разом | I8: державний | J8: місцевий | K8: разом | L8: державний | M8: місцевий | N8: разом | O8: державний | P8: місцевий | Q8: разом | R8: державний | S8: місцевий | T8: разом | U8: державний | V8: місцевий | W8: разом | X8: державний | Y8: місцевий | Z8: разом | AA8: державний | AB8: місцевий | AC8: разом | AD8: державний | AE8: місцевий | AF8: разом | AG8: державний | AH8: місцевий | AI8: разом | AJ8: державний | AK8: місцевий | AL8: разом | AM8: державний | AN8: місцевий | AO8: разом
A9: 2111 | B9: Заробітна плата | D9: 230622.39 | E9: =D9+C9 -> 230622.39 | G9: 234321.42 | H9: =G9+F9 -> 234321.42 | J9: 242451.68 | K9: =J9+I9 -> 242451.68 | M9: 242488.04 | N9: =M9+L9 -> 242488.04 | P9: 240735.64 | Q9: =P9+O9 -> 240735.64 | S9: 281083.22 | T9: =S9+R9 -> 281083.22 | V9: 265994.53 | W9: =V9+U9 -> 265994.53 | Y9: 204640.19 | Z9: =Y9+X9 -> 204640.19 | AB9: 248702.59 | AC9: =AB9+AA9 -> 248702.59 | AF9: =AE9+AD9 -> 0 | AI9: =AH9+AG9 -> 0 | AL9: =AK9+AJ9 -> 0 | AM9: =AJ9+AG9+AD9+AA9+X9+U9+R9+O9+L9+I9+F9+C9 -> 0 | AN9: =AK9+AH9+AE9+AB9+Y9+V9+S9+P9+M9+J9+G9+D9 -> 2191039.7 | AO9: =AL9+AI9+AF9+AC9+Z9+W9+T9+Q9+N9+K9+H9+E9 -> 2191039.7
A10: 2120 | B10: Нарахування на оплату праці | D10: 50115.76 | E10: =D10+C10 -> 50115.76 | G10: 51939.35 | H10: =G10+F10 -> 51939.35 | J10: 53168.95 | K10: =J10+I10 -> 53168.95 | M10: 52995.42 | N10: =M10+L10 -> 52995.42 | P10: 52502.81 | Q10: =P10+O10 -> 52502.81 | S10: 59912.67 | T10: =S10+R10 -> 59912.67 | V10: 56568.33 | W10: =V10+U10 -> 56568.33 | Y10: 45032.67 | Z10: =Y10+X10 -> 45032.67 | AB10: 53516.94 | AC10: =AB10+AA10 -> 53516.94 | AF10: =AE10+AD10 -> 0 | AI10: =AH10+AG10 -> 0 | AL10: =AK10+AJ10 -> 0 | AM10: =AJ10+AG10+AD10+AA10+X10+U10+R10+O10+L10+I10+F10+C10 -> 0 | AN10: =AK10+AH10+AE10+AB10+Y10+V10+S10+P10+M10+J10+G10+D10 -> 475752.9 | AO10: =AL10+AI10+AF10+AC10+Z10+W10+T10+Q10+N10+K10+H10+E10 -> 475752.9
A11: 2210 | B11: Предмети, матеріали, обладнання та інвентар | D11: 2431.12 | E11: =D11+C11 -> 2431.12 | G11: 1751.8 | H11: =G11+F11 -> 1751.8 | J11: 1337.88 | K11: =J11+I11 -> 1337.88 | M11: 1337.88 | N11: =M11+L11 -> 1337.88 | P11: 613.95 | Q11: =P11+O11 -> 613.95 | S11: 619.75 | T11: =S11+R11 -> 619.75 | V11: 278.4 | W11: =V11+U11 -> 278.4 | Y11: 479.6 | Z11: =Y11+X11 -> 479.6 | AB11: 1611.81 | AC11: =AB11+AA11 -> 1611.81 | AF11: =AE11+AD11 -> 0 | AI11: =AH11+AG11 -> 0 | AL11: =AK11+AJ11 -> 0 | AM11: =AJ11+AG11+AD11+AA11+X11+U11+R11+O11+L11+I11+F11+C11 -> 0 | AN11: =AK11+AH11+AE11+AB11+Y11+V11+S11+P11+M11+J11+G11+D11 -> 10462.19 | AO11: =AL11+AI11+AF11+AC11+Z11+W11+T11+Q11+N11+K11+H11+E11 -> 10462.19
A12: 2220 | B12: Медикаменти та перев'язувальні матеріали | D12: 1011.96 | E12: =D12+C12 -> 1011.96 | G12: 1011.96 | H12: =G12+F12 -> 1011.96 | J12: 1110.22 | K12: =J12+I12 -> 1110.22 | M12: 1011.96 | N12: =M12+L12 -> 1011.96 | P12: 1371.89 | Q12: =P12+O12 -> 1371.89 | S12: 582.07 | T12: =S12+R12 -> 582.07 | W12: =V12+U12 -> 0 | Z12: =Y12+X12 -> 0 | AB12: 1113.15 | AC12: =AB12+AA12 -> 1113.15 | AF12: =AE12+AD12 -> 0 | AI12: =AH12+AG12 -> 0 | AL12: =AK12+AJ12 -> 0 | AM12: =AJ12+AG12+AD12+AA12+X12+U12+R12+O12+L12+I12+F12+C12 -> 0 | AN12: =AK12+AH12+AE12+AB12+Y12+V12+S12+P12+M12+J12+G12+D12 -> 7213.21 | AO12: =AL12+AI12+AF12+AC12+Z12+W12+T12+Q12+N12+K12+H12+E12 -> 7213.21
A13: 2230 | B13: Продукти харчування | D13: 8101.55 | E13: =D13+C13 -> 8101.55 | G13: 7851.3 | H13: =G13+F13 -> 7851.3 | J13: 6902.39 | K13: =J13+I13 -> 6902.39 | M13: 12503.07 | N13: =M13+L13 -> 12503.07 | P13: 10351.76 | Q13: =P13+O13 -> 10351.76 | T13: =S13+R13 -> 0 | W13: =V13+U13 -> 0 | Z13: =Y13+X13 -> 0 | AB13: 10551.37 | AC13: =AB13+AA13 -> 10551.37 | AF13: =AE13+AD13 -> 0 | AI13: =AH13+AG13 -> 0 | AL13: =AK13+AJ13 -> 0 | AM13: =AJ13+AG13+AD13+AA13+X13+U13+R13+O13+L13+I13+F13+C13 -> 0 | AN13: =AK13+AH13+AE13+AB13+Y13+V13+S13+P13+M13+J13+G13+D13 -> 56261.44 | AO13: =AL13+AI13+AF13+AC13+Z13+W13+T13+Q13+N13+K13+H13+E13 -> 56261.44
A14: 2240 | B14: Оплата послуг (крім комунальних) | E14: =D14+C14 -> 0 | G14: =150+10804.02 -> 10954.02 | H14: =G14+F14 -> 10954.02 | J14: =17898.43+150 -> 18048.43 | K14: =J14+I14 -> 18048.43 | M14: =150+43571.69 -> 43721.69 | N14: =M14+L14 -> 43721.69 | P14: =17319.25+150 -> 17469.25 | Q14: =P14+O14 -> 17469.25 | S14: =38619.51+150 -> 38769.51 | T14: =S14+R14 -> 38769.51 | V14: =285256.03+150 -> 285406.03 | W14: =V14+U14 -> 285406.03 | Y14: =150+98166.6 -> 98316.6 | Z14: =Y14+X14 -> 98316.6 | AB14: =103617.35+150 -> 103767.35 | AC14: =AB14+AA14 -> 103767.35 | AF14: =AE14+AD14 -> 0 | AI14: =AH14+AG14 -> 0 | AL14: =AK14+AJ14 -> 0 | AM14: =AJ14+AG14+AD14+AA14+X14+U14+R14+O14+L14+I14+F14+C14 -> 0 | AN14: =AK14+AH14+AE14+AB14+Y14+V14+S14+P14+M14+J14+G14+D14 -> 616452.88 | AO14: =AL14+AI14+AF14+AC14+Z14+W14+T14+Q14+N14+K14+H14+E14 -> 616452.88
A15: 2250 | B15: Видатки на відрядження | E15: =D15+C15 -> 0 | H15: =G15+F15 -> 0 | K15: =J15+I15 -> 0 | N15: =M15+L15 -> 0 | Q15: =P15+O15 -> 0 | T15: =S15+R15 -> 0 | W15: =V15+U15 -> 0 | Z15: =Y15+X15 -> 0 | AC15: =AB15+AA15 -> 0 | AF15: =AE15+AD15 -> 0 | AI15: =AH15+AG15 -> 0 | AL15: =AK15+AJ15 -> 0 | AM15: =AJ15+AG15+AD15+AA15+X15+U15+R15+O15+L15+I15+F15+C15 -> 0 | AN15: =AK15+AH15+AE15+AB15+Y15+V15+S15+P15+M15+J15+G15+D15 -> 0 | AO15: =AL15+AI15+AF15+AC15+Z15+W15+T15+Q15+N15+K15+H15+E15 -> 0
A16: 2260 | B16: Видатки та заходи спеціального призначення | E16: =D16+C16 -> 0 | H16: =G16+F16 -> 0 | K16: =J16+I16 -> 0 | N16: =M16+L16 -> 0 | Q16: =P16+O16 -> 0 | T16: =S16+R16 -> 0 | W16: =V16+U16 -> 0 | Z16: =Y16+X16 -> 0 | AC16: =AB16+AA16 -> 0 | AF16: =AE16+AD16 -> 0 | AI16: =AH16+AG16 -> 0 | AL16: =AK16+AJ16 -> 0 | AM16: =AJ16+AG16+AD16+AA16+X16+U16+R16+O16+L16+I16+F16+C16 -> 0 | AN16: =AK16+AH16+AE16+AB16+Y16+V16+S16+P16+M16+J16+G16+D16 -> 0 | AO16: =AL16+AI16+AF16+AC16+Z16+W16+T16+Q16+N16+K16+H16+E16 -> 0
A17: 2271 | B17: Оплата теплопостачання | E17: =D17+C17 -> 0 | G17: 726873.74 | H17: =G17+F17 -> 726873.74 | J17: 845583.79 | K17: =J17+I17 -> 845583.79 | M17: 210821.25 | N17: =M17+L17 -> 210821.25 | Q17: =P17+O17 -> 0 | T17: =S17+R17 -> 0 | W17: =V17+U17 -> 0 | Z17: =Y17+X17 -> 0 | AC17: =AB17+AA17 -> 0 | AF17: =AE17+AD17 -> 0 | AI17: =AH17+AG17 -> 0 | AL17: =AK17+AJ17 -> 0 | AM17: =AJ17+AG17+AD17+AA17+X17+U17+R17+O17+L17+I17+F17+C17 -> 0 | AN17: =AK17+AH17+AE17+AB17+Y17+V17+S17+P17+M17+J17+G17+D17 -> 1783278.8 | AO17: =AL17+AI17+AF17+AC17+Z17+W17+T17+Q17+N17+K17+H17+E17 -> 1783278.8
A18: 2272 | B18: Оплата водопостачання та водовідведення | D18: 9596.16 | E18: =D18+C18 -> 9596.16 | G18: 11712.96 | H18: =G18+F18 -> 11712.96 | J18: 11289.6 | K18: =J18+I18 -> 11289.6 | M18: 10513.44 | N18: =M18+L18 -> 10513.44 | P18: 11995.2 | Q18: =P18+O18 -> 11995.2 | S18: 7081.56 | T18: =S18+R18 -> 7081.56 | V18: 3103.48 | W18: =V18+U18 -> 3103.48 | Y18: 3217.18 | Z18: =Y18+X18 -> 3217.18 | AB18: 4472.67 | AC18: =AB18+AA18 -> 4472.67 | AF18: =AE18+AD18 -> 0 | AI18: =AH18+AG18 -> 0 | AL18: =AK18+AJ18 -> 0 | AM18: =AJ18+AG18+AD18+AA18+X18+U18+R18+O18+L18+I18+F18+C18 -> 0 | AN18: =AK18+AH18+AE18+AB18+Y18+V18+S18+P18+M18+J18+G18+D18 -> 72982.25 | AO18: =AL18+AI18+AF18+AC18+Z18+W18+T18+Q18+N18+K18+H18+E18 -> 72982.25
A19: 2273 | B19: Оплата електроенергії | E19: =D19+C19 -> 0 | G19: 59517.82 | H19: =G19+F19 -> 59517.82 | J19: 73205.73 | K19: =J19+I19 -> 73205.73 | M19: 78866.95 | N19: =M19+L19 -> 78866.95 | P19: 67085.16 | Q19: =P19+O19 -> 67085.16 | S19: 45320.72 | T19: =S19+R19 -> 45320.72 | V19: 10432.26 | W19: =V19+U19 -> 10432.26 | Y19: 381.29 | Z19: =Y19+X19 -> 381.29 | AB19: 2727.19 | AC19: =AB19+AA19 -> 2727.19 | AF19: =AE19+AD19 -> 0 | AI19: =AH19+AG19 -> 0 | AL19: =AK19+AJ19 -> 0 | AM19: =AJ19+AG19+AD19+AA19+X19+U19+R19+O19+L19+I19+F19+C19 -> 0 | AN19: =AK19+AH19+AE19+AB19+Y19+V19+S19+P19+M19+J19+G19+D19 -> 337537.12 | AO19: =AL19+AI19+AF19+AC19+Z19+W19+T19+Q19+N19+K19+H19+E19 -> 337537.12
A20: 2274 | B20: Оплата природного газу | E20: =D20+C20 -> 0 | H20: =G20+F20 -> 0 | K20: =J20+I20 -> 0 | N20: =M20+L20 -> 0 | Q20: =P20+O20 -> 0 | T20: =S20+R20 -> 0 | W20: =V20+U20 -> 0 | Z20: =Y20+X20 -> 0 | AC20: =AB20+AA20 -> 0 | AF20: =AE20+AD20 -> 0 | AI20: =AH20+AG20 -> 0 | AL20: =AK20+AJ20 -> 0 | AM20: =AJ20+AG20+AD20+AA20+X20+U20+R20+O20+L20+I20+F20+C20 -> 0 | AN20: =AK20+AH20+AE20+AB20+Y20+V20+S20+P20+M20+J20+G20+D20 -> 0 | AO20: =AL20+AI20+AF20+AC20+Z20+W20+T20+Q20+N20+K20+H20+E20 -> 0
A21: 2275 | B21: Оплата інших енергоносіїв | D21: 14720.01 | E21: =D21+C21 -> 14720.01 | G21: 9206.07 | H21: =G21+F21 -> 9206.07 | J21: 517.11 | K21: =J21+I21 -> 517.11 | M21: 2272.91 | N21: =M21+L21 -> 2272.91 | P21: 2143.95 | Q21: =P21+O21 -> 2143.95 | S21: 2273.46 | T21: =S21+R21 -> 2273.46 | V21: 2273.38 | W21: =V21+U21 -> 2273.38 | Y21: 3316.39 | Z21: =Y21+X21 -> 3316.39 | AB21: 4158.97 | AC21: =AB21+AA21 -> 4158.97 | AF21: =AE21+AD21 -> 0 | AI21: =AH21+AG21 -> 0 | AL21: =AK21+AJ21 -> 0 | AM21: =AJ21+AG21+AD21+AA21+X21+U21+R21+O21+L21+I21+F21+C21 -> 0 | AN21: =AK21+AH21+AE21+AB21+Y21+V21+S21+P21+M21+J21+G21+D21 -> 40882.25 | AO21: =AL21+AI21+AF21+AC21+Z21+W21+T21+Q21+N21+K21+H21+E21 -> 40882.25
A22: 2282 | B22: Окремі заходи по реалізації державних (регіональних) програм, не віднесені до заходів розвитку | E22: =D22+C22 -> 0 | H22: =G22+F22 -> 0 | K22: =J22+I22 -> 0 | N22: =M22+L22 -> 0 | Q22: =P22+O22 -> 0 | S22: 600 | T22: =S22+R22 -> 600 | W22: =V22+U22 -> 0 | Y22: 320 | Z22: =Y22+X22 -> 320 | AC22: =AB22+AA22 -> 0 | AF22: =AE22+AD22 -> 0 | AI22: =AH22+AG22 -> 0 | AL22: =AK22+AJ22 -> 0 | AM22: =AJ22+AG22+AD22+AA22+X22+U22+R22+O22+L22+I22+F22+C22 -> 0 | AN22: =AK22+AH22+AE22+AB22+Y22+V22+S22+P22+M22+J22+G22+D22 -> 920 | AO22: =AL22+AI22+AF22+AC22+Z22+W22+T22+Q22+N22+K22+H22+E22 -> 920
A23: 2700 | B23: Соціальне забезпечення | E23: =D23+C23 -> 0 | H23: =G23+F23 -> 0 | K23: =J23+I23 -> 0 | N23: =M23+L23 -> 0 | Q23: =P23+O23 -> 0 | T23: =S23+R23 -> 0 | W23: =V23+U23 -> 0 | Z23: =Y23+X23 -> 0 | AC23: =AB23+AA23 -> 0 | AF23: =AE23+AD23 -> 0 | AI23: =AH23+AG23 -> 0 | AL23: =AK23+AJ23 -> 0 | AM23: =AL23+AK23 -> 0 | AN23: =AM23+AL23 -> 0 | AO23: =AN23+AM23 -> 0
A24: 2800 | B24: Інші поточні видатки | E24: =D24+C24 -> 0 | H24: =G24+F24 -> 0 | K24: =J24+I24 -> 0 | N24: =M24+L24 -> 0 | P24: 9735.2 | Q24: =P24+O24 -> 9735.2 | T24: =S24+R24 -> 0 | V24: 12723.72 | W24: =V24+U24 -> 12723.72 | Z24: =Y24+X24 -> 0 | AC24: =AB24+AA24 -> 0 | AF24: =AE24+AD24 -> 0 | AI24: =AH24+AG24 -> 0 | AL24: =AK24+AJ24 -> 0 | AM24: =AL24+AK24 -> 0 | AN24: =AK24+AH24+AE24+AB24+Y24+V24+S24+P24+M24+J24+G24+D24 -> 22458.92 | AO24: =AL24+AI24+AF24+AC24+Z24+W24+T24+Q24+N24+K24+H24+E24 -> 22458.92
A25: 3110 | B25: Придбання обладнання, предметів довгострокового користування | E25: =D25+C25 -> 0 | H25: =G25+F25 -> 0 | K25: =J25+I25 -> 0 | N25: =M25+L25 -> 0 | Q25: =P25+O25 -> 0 | T25: =S25+R25 -> 0 | W25: =V25+U25 -> 0 | Z25: =Y25+X25 -> 0 | AC25: =AB25+AA25 -> 0 | AF25: =AE25+AD25 -> 0 | AI25: =AH25+AG25 -> 0 | AL25: =AK25+AJ25 -> 0 | AM25: =AJ25+AG25+AD25+AA25+X25+U25+R25+O25+L25+I25+F25+C25 -> 0 | AN25: =AK25+AH25+AE25+AB25+Y25+V25+S25+P25+M25+J25+G25+D25 -> 0 | AO25: =AL25+AI25+AF25+AC25+Z25+W25+T25+Q25+N25+K25+H25+E25 -> 0
A26: 3132 | B26: Капітальний ремонт інших об'єктів | E26: =D26+C26 -> 0 | H26: =G26+F26 -> 0 | K26: =J26+I26 -> 0 | N26: =M26+L26 -> 0 | Q26: =P26+O26 -> 0 | T26: =S26+R26 -> 0 | W26: =V26+U26 -> 0 | Z26: =Y26+X26 -> 0 | AC26: =AB26+AA26 -> 0 | AF26: =AE26+AD26 -> 0 | AI26: =AH26+AG26 -> 0 | AL26: =AK26+AJ26 -> 0 | AM26: =AL26+AK26 -> 0 | AN26: =AM26+AL26 -> 0 | AO26: =AN26+AM26 -> 0
E27: =D27+C27 -> 0 | H27: =G27+F27 -> 0 | K27: =J27+I27 -> 0 | N27: =M27+L27 -> 0 | Q27: =P27+O27 -> 0 | T27: =S27+R27 -> 0 | W27: =V27+U27 -> 0 | Z27: =Y27+X27 -> 0 | AC27: =AB27+AA27 -> 0 | AF27: =AE27+AD27 -> 0 | AI27: =AH27+AG27 -> 0 | AL27: =AK27+AJ27 -> 0 | AM27: =AJ27+AG27+AD27+AA27+X27+U27+R27+O27+L27+I27+F27+C27 -> 0 | AN27: =AK27+AH27+AE27+AB27+Y27+V27+S27+P27+M27+J27+G27+D27 -> 0 | AO27: =AL27+AI27+AF27+AC27+Z27+W27+T27+Q27+N27+K27+H27+E27 -> 0
A28: 2730 | E28: =D28+C28 -> 0 | H28: =G28+F28 -> 0 | K28: =J28+I28 -> 0 | N28: =M28+L28 -> 0 | Q28: =P28+O28 -> 0 | T28: =S28+R28 -> 0 | W28: =V28+U28 -> 0 | Z28: =Y28+X28 -> 0 | AC28: =AB28+AA28 -> 0 | AF28: =AE28+AD28 -> 0 | AI28: =AH28+AG28 -> 0 | AL28: =AK28+AJ28 -> 0 | AM28: =AJ28+AG28+AD28+AA28+X28+U28+R28+O28+L28+I28+F28+C28 -> 0 | AN28: =AK28+AH28+AE28+AB28+Y28+V28+S28+P28+M28+J28+G28+D28 -> 0 | AO28: =AL28+AI28+AF28+AC28+Z28+W28+T28+Q28+N28+K28+H28+E28 -> 0
A29: 7520 | B29: Реалізація Національної програми інформатизації | E29: =D29+C29 -> 0 | G29: 1435 | H29: =G29+F29 -> 1435 | J29: 1435 | K29: =J29+I29 -> 1435 | M29: 2360 | N29: =M29+L29 -> 2360 | P29: 1435 | Q29: =P29+O29 -> 1435 | S29: 1435 | T29: =S29+R29 -> 1435 | V29: 2360 | W29: =V29+U29 -> 2360 | Y29: 1435 | Z29: =Y29+X29 -> 1435 | AB29: 1435 | AC29: =AB29+AA29 -> 1435 | AF29: =AE29+AD29 -> 0 | AI29: =AH29+AG29 -> 0 | AL29: =AK29+AJ29 -> 0 | AM29: =AJ29+AG29+AD29+AA29+X29+U29+R29+O29+L29+I29+F29+C29 -> 0 | AN29: =AK29+AH29+AE29+AB29+Y29+V29+S29+P29+M29+J29+G29+D29 -> 13330 | AO29: =AL29+AI29+AF29+AC29+Z29+W29+T29+Q29+N29+K29+H29+E29 -> 13330
B30: Всього | C30: =SUM(C9:C29) -> 0 | D30: =SUM(D9:D29) -> 316598.95 | E30: =SUM(E9:E29) -> 316598.95 | F30: =SUM(F9:F29) -> 0 | G30: =SUM(G9:G29) -> 1116575.4 | H30: =SUM(H9:H29) -> 1116575.4 | I30: =SUM(I9:I29) -> 0 | J30: =SUM(J9:J29) -> 1255050.8 | K30: =J30+I30 -> 1255050.8 | L30: =SUM(L9:L29) -> 0 | M30: =SUM(M9:M29) -> 658892.61 | N30: =M30+L30 -> 658892.61 | O30: =SUM(O9:O29) -> 0 | P30: =SUM(P9:P29) -> 415439.81 | Q30: =P30+O30 -> 415439.81 | R30: =SUM(R9:R29) -> 0 | S30: =SUM(S9:S29) -> 437677.96 | T30: =S30+R30 -> 437677.96 | U30: =SUM(U9:U29) -> 0 | V30: =SUM(V9:V29) -> 639140.13 | W30: =V30+U30 -> 639140.13 | X30: =SUM(X9:X29) -> 0 | Y30: =SUM(Y9:Y29) -> 357138.92 | Z30: =Y30+X30 -> 357138.92 | AA30: =SUM(AA9:AA29) -> 0 | AB30: =SUM(AB9:AB29) -> 432057.04 | AC30: =AB30+AA30 -> 432057.04 | AD30: =SUM(AD9:AD29) -> 0 | AE30: =SUM(AE9:AE29) -> 0 | AF30: =AE30+AD30 -> 0 | AG30: =SUM(AG9:AG29) -> 0 | AH30: =SUM(AH9:AH29) -> 0 | AI30: =AH30+AG30 -> 0 | AJ30: =SUM(AJ9:AJ29) -> 0 | AK30: =SUM(AK9:AK29) -> 0 | AL30: =AK30+AJ30 -> 0 | AM30: =SUM(AM9:AM29) -> 0 | AN30: =SUM(AN9:AN29) -> 5628571.6 | AO30: =SUM(AO9:AO28) -> 5615241.6
A33: Керівник
A35: Виконавець(ПІБ,тел.)

Sheet 37
R1: Додаток 3
R2: до наказу управління освіти і науки
R3: виконкому міської ради
R4: від 23.02.2016 №56
A5: Інформація
A6: щодо фактичного використання бюджетних коштів у 2026
C7: Січень | F7: Лютий | I7: Березень | L7: Квітень | O7: Травень | R7: Червень | U7: Липень | X7: Серпень | AA7: Вересень | AD7: Жовтень | AG7: Листопад | AJ7: Грудень | AM7: Разом
C8: державний | D8: місцевий | E8: разом | F8: державний | G8: місцевий | H8: разом | I8: державний | J8: місцевий | K8: разом | L8: державний | M8: місцевий | N8: разом | O8: державний | P8: місцевий | Q8: разом | R8: державний | S8: місцевий | T8: разом | U8: державний | V8: місцевий | W8: разом | X8: державний | Y8: місцевий | Z8: разом | AA8: державний | AB8: місцевий | AC8: разом | AD8: державний | AE8: місцевий | AF8: разом | AG8: державний | AH8: місцевий | AI8: разом | AJ8: державний | AK8: місцевий | AL8: разом | AM8: державний | AN8: місцевий | AO8: разом
A9: 2111 | B9: Заробітна плата | D9: 144389.33 | E9: =D9+C9 -> 144389.33 | G9: 139650.28 | H9: =G9+F9 -> 139650.28 | J9: 150182.5 | K9: =J9+I9 -> 150182.5 | M9: 150188.68 | N9: =M9+L9 -> 150188.68 | P9: 144820.57 | Q9: =P9+O9 -> 144820.57 | S9: 150146.01 | T9: =S9+R9 -> 150146.01 | V9: 169139.07 | W9: =V9+U9 -> 169139.07 | Y9: 135975.35 | Z9: =Y9+X9 -> 135975.35 | AB9: 176820.66 | AC9: =AB9+AA9 -> 176820.66 | AF9: =AD9+AE9 -> 0 | AI9: =AH9+AG9 -> 0 | AL9: =AJ9+AK9 -> 0 | AM9: =AJ9+AG9+AD9+AA9+X9+U9+R9+O9+L9+I9+F9+C9 -> 0 | AN9: =AK9+AH9+AE9+AB9+Y9+V9+S9+P9+M9+J9+G9+D9 -> 1361312.5 | AO9: =AL9+AI9+AF9+AC9+Z9+W9+T9+Q9+N9+K9+H9+E9 -> 1361312.5
A10: 2120 | B10: Нарахування на оплату праці | D10: 29109.18 | E10: =D10+C10 -> 29109.18 | G10: 28390.96 | H10: =G10+F10 -> 28390.96 | J10: 29905.26 | K10: =J10+I10 -> 29905.26 | M10: 30000.89 | N10: =M10+L10 -> 30000.89 | P10: 29168.97 | Q10: =P10+O10 -> 29168.97 | S10: 30828.07 | T10: =S10+R10 -> 30828.07 | V10: 35163.15 | W10: =V10+U10 -> 35163.15 | Y10: 27074.08 | Z10: =Y10+X10 -> 27074.08 | AB10: 36410.75 | AC10: =AB10+AA10 -> 36410.75 | AF10: =AD10+AE10 -> 0 | AI10: =AH10+AG10 -> 0 | AL10: =AJ10+AK10 -> 0 | AM10: =AJ10+AG10+AD10+AA10+X10+U10+R10+O10+L10+I10+F10+C10 -> 0 | AN10: =AK10+AH10+AE10+AB10+Y10+V10+S10+P10+M10+J10+G10+D10 -> 276051.31 | AO10: =AL10+AI10+AF10+AC10+Z10+W10+T10+Q10+N10+K10+H10+E10 -> 276051.31
A11: 2210 | B11: Предмети, матеріали, обладнання та інвентар | D11: 2158 | E11: =D11+C11 -> 2158 | G11: 1687.43 | H11: =G11+F11 -> 1687.43 | J11: 1148.14 | K11: =J11+I11 -> 1148.14 | M11: 1392.8 | N11: =M11+L11 -> 1392.8 | P11: 2604.74 | Q11: =P11+O11 -> 2604.74 | S11: 877.8 | T11: =S11+R11 -> 877.8 | W11: =V11+U11 -> 0 | Z11: =Y11+X11 -> 0 | AB11: 4254.23 | AC11: =AB11+AA11 -> 4254.23 | AF11: =AD11+AE11 -> 0 | AI11: =AH11+AG11 -> 0 | AL11: =AJ11+AK11 -> 0 | AM11: =AJ11+AG11+AD11+AA11+X11+U11+R11+O11+L11+I11+F11+C11 -> 0 | AN11: =AK11+AH11+AE11+AB11+Y11+V11+S11+P11+M11+J11+G11+D11 -> 14123.14 | AO11: =AL11+AI11+AF11+AC11+Z11+W11+T11+Q11+N11+K11+H11+E11 -> 14123.14
A12: 2220 | B12: Медикаменти та перев'язувальні матеріали | D12: 784 | E12: =D12+C12 -> 784 | G12: 784 | H12: =G12+F12 -> 784 | J12: 444 | K12: =J12+I12 -> 444 | M12: 444 | N12: =M12+L12 -> 444 | P12: 420 | Q12: =P12+O12 -> 420 | S12: 444 | T12: =S12+R12 -> 444 | W12: =V12+U12 -> 0 | Y12: 420 | Z12: =Y12+X12 -> 420 | AB12: 931.5 | AC12: =AB12+AA12 -> 931.5 | AF12: =AD12+AE12 -> 0 | AI12: =AH12+AG12 -> 0 | AL12: =AJ12+AK12 -> 0 | AM12: =AJ12+AG12+AD12+AA12+X12+U12+R12+O12+L12+I12+F12+C12 -> 0 | AN12: =AK12+AH12+AE12+AB12+Y12+V12+S12+P12+M12+J12+G12+D12 -> 4671.5 | AO12: =AL12+AI12+AF12+AC12+Z12+W12+T12+Q12+N12+K12+H12+E12 -> 4671.5
A13: 2230 | B13: Продукти харчування | E13: =D13+C13 -> 0 | H13: =G13+F13 -> 0 | K13: =J13+I13 -> 0 | N13: =M13+L13 -> 0 | Q13: =P13+O13 -> 0 | T13: =S13+R13 -> 0 | W13: =V13+U13 -> 0 | Z13: =Y13+X13 -> 0 | AC13: =AB13+AA13 -> 0 | AF13: =AD13+AE13 -> 0 | AI13: =AH13+AG13 -> 0 | AL13: =AJ13+AK13 -> 0 | AM13: =AJ13+AG13+AD13+AA13+X13+U13+R13+O13+L13+I13+F13+C13 -> 0 | AN13: =AK13+AH13+AE13+AB13+Y13+V13+S13+P13+M13+J13+G13+D13 -> 0 | AO13: =AL13+AI13+AF13+AC13+Z13+W13+T13+Q13+N13+K13+H13+E13 -> 0
A14: 2240 | B14: Оплата послуг (крім комунальних) | E14: =D14+C14 -> 0 | H14: =G14+F14 -> 0 | K14: =J14+I14 -> 0 | M14: 11973 | N14: =M14+L14 -> 11973 | P14: =3991 -> 3991 | Q14: =P14+O14 -> 3991 | S14: 7469.19 | T14: =S14+R14 -> 7469.19 | V14: =625+3991 -> 4616 | W14: =V14+U14 -> 4616 | Y14: =1980.4+3991 -> 5971.4 | Z14: =Y14+X14 -> 5971.4 | AB14: =3991 -> 3991 | AC14: =AB14+AA14 -> 3991 | AF14: =AD14+AE14 -> 0 | AI14: =AH14+AG14 -> 0 | AL14: =AJ14+AK14 -> 0 | AM14: =AJ14+AG14+AD14+AA14+X14+U14+R14+O14+L14+I14+F14+C14 -> 0 | AN14: =AK14+AH14+AE14+AB14+Y14+V14+S14+P14+M14+J14+G14+D14 -> 38011.59 | AO14: =AL14+AI14+AF14+AC14+Z14+W14+T14+Q14+N14+K14+H14+E14 -> 38011.59
A15: 2250 | B15: Видатки на відрядження | E15: =D15+C15 -> 0 | H15: =G15+F15 -> 0 | K15: =J15+I15 -> 0 | N15: =M15+L15 -> 0 | Q15: =P15+O15 -> 0 | T15: =S15+R15 -> 0 | W15: =V15+U15 -> 0 | Z15: =Y15+X15 -> 0 | AC15: =AB15+AA15 -> 0 | AF15: =AD15+AE15 -> 0 | AI15: =AH15+AG15 -> 0 | AL15: =AJ15+AK15 -> 0 | AM15: =AJ15+AG15+AD15+AA15+X15+U15+R15+O15+L15+I15+F15+C15 -> 0 | AN15: =AK15+AH15+AE15+AB15+Y15+V15+S15+P15+M15+J15+G15+D15 -> 0 | AO15: =AL15+AI15+AF15+AC15+Z15+W15+T15+Q15+N15+K15+H15+E15 -> 0
A16: 2260 | B16: Видатки та заходи спеціального призначення | E16: =D16+C16 -> 0 | H16: =G16+F16 -> 0 | K16: =J16+I16 -> 0 | N16: =M16+L16 -> 0 | Q16: =P16+O16 -> 0 | T16: =S16+R16 -> 0 | W16: =V16+U16 -> 0 | Z16: =Y16+X16 -> 0 | AC16: =AB16+AA16 -> 0 | AF16: =AD16+AE16 -> 0 | AI16: =AH16+AG16 -> 0 | AL16: =AJ16+AK16 -> 0 | AM16: =AJ16+AG16+AD16+AA16+X16+U16+R16+O16+L16+I16+F16+C16 -> 0 | AN16: =AK16+AH16+AE16+AB16+Y16+V16+S16+P16+M16+J16+G16+D16 -> 0 | AO16: =AL16+AI16+AF16+AC16+Z16+W16+T16+Q16+N16+K16+H16+E16 -> 0
A17: 2271 | B17: Оплата теплопостачання | E17: =D17+C17 -> 0 | G17: 133588.15 | H17: =G17+F17 -> 133588.15 | J17: 95855.01 | K17: =J17+I17 -> 95855.01 | M17: 123288.44 | N17: =M17+L17 -> 123288.44 | Q17: =P17+O17 -> 0 | T17: =S17+R17 -> 0 | W17: =V17+U17 -> 0 | Z17: =Y17+X17 -> 0 | AC17: =AB17+AA17 -> 0 | AF17: =AD17+AE17 -> 0 | AI17: =AH17+AG17 -> 0 | AL17: =AJ17+AK17 -> 0 | AM17: =AJ17+AG17+AD17+AA17+X17+U17+R17+O17+L17+I17+F17+C17 -> 0 | AN17: =AK17+AH17+AE17+AB17+Y17+V17+S17+P17+M17+J17+G17+D17 -> 352731.6 | AO17: =AL17+AI17+AF17+AC17+Z17+W17+T17+Q17+N17+K17+H17+E17 -> 352731.6
A18: 2272 | B18: Оплата водопостачання та водовідведення | D18: 352.8 | E18: =D18+C18 -> 352.8 | G18: 776.16 | H18: =G18+F18 -> 776.16 | J18: 2963.52 | K18: =J18+I18 -> 2963.52 | M18: 705.6 | N18: =M18+L18 -> 705.6 | P18: 282.24 | Q18: =P18+O18 -> 282.24 | S18: 941.62 | T18: =S18+R18 -> 941.62 | V18: 1726.3 | W18: =V18+U18 -> 1726.3 | Y18: 470.81 | Z18: =Y18+X18 -> 470.81 | AC18: =AB18+AA18 -> 0 | AF18: =AD18+AE18 -> 0 | AI18: =AH18+AG18 -> 0 | AL18: =AJ18+AK18 -> 0 | AM18: =AJ18+AG18+AD18+AA18+X18+U18+R18+O18+L18+I18+F18+C18 -> 0 | AN18: =AK18+AH18+AE18+AB18+Y18+V18+S18+P18+M18+J18+G18+D18 -> 8219.05 | AO18: =AL18+AI18+AF18+AC18+Z18+W18+T18+Q18+N18+K18+H18+E18 -> 8219.05
A19: 2273 | B19: Оплата електроенергії | E19: =D19+C19 -> 0 | G19: =23365.83+28.29 -> 23394.12 | H19: =G19+F19 -> 23394.12 | J19: =47902.74+16.38 -> 47919.12 | K19: =J19+I19 -> 47919.12 | M19: 29579.34 | N19: =M19+L19 -> 29579.34 | P19: =8241.76+10.7 -> 8252.46 | Q19: =P19+O19 -> 8252.46 | S19: =2169.46+10.04 -> 2179.5 | T19: =S19+R19 -> 2179.5 | V19: 2263.65 | W19: =V19+U19 -> 2263.65 | Y19: 9.3 | Z19: =Y19+X19 -> 9.3 | AB19: =11.61 -> 11.61 | AC19: =AB19+AA19 -> 11.61 | AF19: =AD19+AE19 -> 0 | AI19: =AH19+AG19 -> 0 | AL19: =AJ19+AK19 -> 0 | AM19: =AJ19+AG19+AD19+AA19+X19+U19+R19+O19+L19+I19+F19+C19 -> 0 | AN19: =AK19+AH19+AE19+AB19+Y19+V19+S19+P19+M19+J19+G19+D19 -> 113609.1 | AO19: =AL19+AI19+AF19+AC19+Z19+W19+T19+Q19+N19+K19+H19+E19 -> 113609.1
A20: 2274 | B20: Оплата природного газу | E20: =D20+C20 -> 0 | H20: =G20+F20 -> 0 | K20: =J20+I20 -> 0 | N20: =M20+L20 -> 0 | Q20: =P20+O20 -> 0 | T20: =S20+R20 -> 0 | W20: =V20+U20 -> 0 | Z20: =Y20+X20 -> 0 | AC20: =AB20+AA20 -> 0 | AF20: =AD20+AE20 -> 0 | AI20: =AH20+AG20 -> 0 | AL20: =AJ20+AK20 -> 0 | AM20: =AJ20+AG20+AD20+AA20+X20+U20+R20+O20+L20+I20+F20+C20 -> 0 | AN20: =AK20+AH20+AE20+AB20+Y20+V20+S20+P20+M20+J20+G20+D20 -> 0 | AO20: =AL20+AI20+AF20+AC20+Z20+W20+T20+Q20+N20+K20+H20+E20 -> 0
A21: 2275 | B21: Оплата інших енергоносіїв | E21: =D21+C21 -> 0 | H21: =G21+F21 -> 0 | K21: =J21+I21 -> 0 | N21: =M21+L21 -> 0 | Q21: =P21+O21 -> 0 | T21: =S21+R21 -> 0 | W21: =V21+U21 -> 0 | Z21: =Y21+X21 -> 0 | AC21: =AB21+AA21 -> 0 | AF21: =AD21+AE21 -> 0 | AI21: =AH21+AG21 -> 0 | AL21: =AJ21+AK21 -> 0 | AM21: =AJ21+AG21+AD21+AA21+X21+U21+R21+O21+L21+I21+F21+C21 -> 0 | AN21: =AK21+AH21+AE21+AB21+Y21+V21+S21+P21+M21+J21+G21+D21 -> 0 | AO21: =AL21+AI21+AF21+AC21+Z21+W21+T21+Q21+N21+K21+H21+E21 -> 0
A22: 2282 | B22: Окремі заходи по реалізації державних (регіональних) програм, не віднесені до заходів розвитку | E22: =D22+C22 -> 0 | H22: =G22+F22 -> 0 | K22: =J22+I22 -> 0 | N22: =M22+L22 -> 0 | Q22: =P22+O22 -> 0 | S22: 600 | T22: =S22+R22 -> 600 | W22: =V22+U22 -> 0 | Y22: 1020 | Z22: =Y22+X22 -> 1020 | AC22: =AB22+AA22 -> 0 | AF22: =AD22+AE22 -> 0 | AI22: =AH22+AG22 -> 0 | AL22: =AJ22+AK22 -> 0 | AM22: =AJ22+AG22+AD22+AA22+X22+U22+R22+O22+L22+I22+F22+C22 -> 0 | AN22: =AK22+AH22+AE22+AB22+Y22+V22+S22+P22+M22+J22+G22+D22 -> 1620 | AO22: =AL22+AI22+AF22+AC22+Z22+W22+T22+Q22+N22+K22+H22+E22 -> 1620
A23: 2700 | B23: Соціальне забезпечення | E23: =D23+C23 -> 0 | H23: =G23+F23 -> 0 | K23: =J23+I23 -> 0 | N23: =M23+L23 -> 0 | Q23: =P23+O23 -> 0 | T23: =S23+R23 -> 0 | W23: =V23+U23 -> 0 | Z23: =Y23+X23 -> 0 | AC23: =AB23+AA23 -> 0 | AF23: =AD23+AE23 -> 0 | AI23: =AH23+AG23 -> 0 | AL23: =AJ23+AK23 -> 0 | AM23: =AJ23+AG23+AD23+AA23+X23+U23+R23+O23+L23+I23+F23+C23 -> 0 | AN23: =AK23+AH23+AE23+AB23+Y23+V23+S23+P23+M23+J23+G23+D23 -> 0 | AO23: =AL23+AI23+AF23+AC23+Z23+W23+T23+Q23+N23+K23+H23+E23 -> 0
A24: 2800 | B24: Інші поточні видатки | E24: =D24+C24 -> 0 | H24: =G24+F24 -> 0 | K24: =J24+I24 -> 0 | N24: =M24+L24 -> 0 | Q24: =P24+O24 -> 0 | T24: =S24+R24 -> 0 | V24: -12723.72 | W24: =V24+U24 -> -12723.72 | Z24: =Y24+X24 -> 0 | AC24: =AB24+AA24 -> 0 | AF24: =AE24+AD24 -> 0 | AI24: =AH24+AG24 -> 0 | AL24: =AK24+AJ24 -> 0 | AM24: =AL24+AK24 -> 0 | AN24: =AK24+AH24+AE24+AB24+Y24+V24+S24+P24+M24+J24+G24+D24 -> -12723.72 | AO24: =AL24+AI24+AF24+AC24+Z24+W24+T24+Q24+N24+K24+H24+E24 -> -12723.72
A25: 3110 | B25: Придбання обладнання, предметів довгострокового користування | E25: =D25+C25 -> 0 | H25: =G25+F25 -> 0 | K25: =J25+I25 -> 0 | N25: =M25+L25 -> 0 | Q25: =P25+O25 -> 0 | T25: =S25+R25 -> 0 | W25: =V25+U25 -> 0 | Z25: =Y25+X25 -> 0 | AC25: =AB25+AA25 -> 0 | AF25: =AD25+AE25 -> 0 | AI25: =AH25+AG25 -> 0 | AL25: =AJ25+AK25 -> 0 | AM25: =AJ25+AG25+AD25+AA25+X25+U25+R25+O25+L25+I25+F25+C25 -> 0 | AN25: =AK25+AH25+AE25+AB25+Y25+V25+S25+P25+M25+J25+G25+D25 -> 0 | AO25: =AL25+AI25+AF25+AC25+Z25+W25+T25+Q25+N25+K25+H25+E25 -> 0
A26: 3132 | B26: Капітальний ремонт інших об'єктів | E26: =D26+C26 -> 0 | H26: =G26+F26 -> 0 | K26: =J26+I26 -> 0 | N26: =M26+L26 -> 0 | Q26: =P26+O26 -> 0 | T26: =S26+R26 -> 0 | W26: =V26+U26 -> 0 | Z26: =Y26+X26 -> 0 | AC26: =AB26+AA26 -> 0 | AF26: =AD26+AE26 -> 0 | AI26: =AH26+AG26 -> 0 | AL26: =AJ26+AK26 -> 0 | AM26: =AJ26+AG26+AD26+AA26+X26+U26+R26+O26+L26+I26+F26+C26 -> 0 | AN26: =AK26+AH26+AE26+AB26+Y26+V26+S26+P26+M26+J26+G26+D26 -> 0 | AO26: =AL26+AI26+AF26+AC26+Z26+W26+T26+Q26+N26+K26+H26+E26 -> 0
E27: =D27+C27 -> 0 | H27: =G27+F27 -> 0 | K27: =J27+I27 -> 0 | N27: =M27+L27 -> 0 | Q27: =P27+O27 -> 0 | T27: =S27+R27 -> 0 | W27: =V27+U27 -> 0 | Z27: =Y27+X27 -> 0 | AC27: =AB27+AA27 -> 0 | AF27: =AD27+AE27 -> 0 | AI27: =AH27+AG27 -> 0 | AL27: =AJ27+AK27 -> 0 | AM27: =AJ27+AG27+AD27+AA27+X27+U27+R27+O27+L27+I27+F27+C27 -> 0 | AN27: =AK27+AH27+AE27+AB27+Y27+V27+S27+P27+M27+J27+G27+D27 -> 0 | AO27: =AL27+AI27+AF27+AC27+Z27+W27+T27+Q27+N27+K27+H27+E27 -> 0
A28: 2730 | E28: =D28+C28 -> 0 | H28: =G28+F28 -> 0 | K28: =J28+I28 -> 0 | N28: =M28+L28 -> 0 | Q28: =P28+O28 -> 0 | T28: =S28+R28 -> 0 | W28: =V28+U28 -> 0 | Z28: =Y28+X28 -> 0 | AC28: =AB28+AA28 -> 0 | AF28: =AD28+AE28 -> 0 | AI28: =AH28+AG28 -> 0 | AL28: =AJ28+AK28 -> 0 | AM28: =AJ28+AG28+AD28+AA28+X28+U28+R28+O28+L28+I28+F28+C28 -> 0 | AN28: =AK28+AH28+AE28+AB28+Y28+V28+S28+P28+M28+J28+G28+D28 -> 0 | AO28: =AL28+AI28+AF28+AC28+Z28+W28+T28+Q28+N28+K28+H28+E28 -> 0
A29: 7520 | B29: Реалізація Національної програми інформатизації | E29: =D29+C29 -> 0 | H29: =G29+F29 -> 0 | K29: =J29+I29 -> 0 | M29: 925 | N29: =M29+L29 -> 925 | T29: =S29+R29 -> 0 | V29: 925 | W29: =V29+U29 -> 925 | Z29: =Y29+X29 -> 0 | AC29: =AB29+AA29 -> 0 | AF29: =AD29+AE29 -> 0 | AI29: =AH29+AG29 -> 0 | AL29: =AJ29+AK29 -> 0 | AM29: =AJ29+AG29+AD29+AA29+X29+U29+R29+O29+L29+I29+F29+C29 -> 0 | AN29: =AK29+AH29+AE29+AB29+Y29+V29+S29+P29+M29+J29+G29+D29 -> 1850 | AO29: =AL29+AI29+AF29+AC29+Z29+W29+T29+Q29+N29+K29+H29+E29 -> 1850
B30: Всього | C30: =SUM(C9:C28) -> 0 | D30: =SUM(D9:D28) -> 176793.31 | E30: =SUM(E9:E28) -> 176793.31 | F30: =SUM(F9:F28) -> 0 | G30: =SUM(G9:G28) -> 328271.1 | H30: =SUM(H9:H28) -> 328271.1 | I30: =SUM(I9:I28) -> 0 | J30: =SUM(J9:J28) -> 328417.55 | K30: =J30+I30 -> 328417.55 | L30: =SUM(L9:L28) -> 0 | M30: =SUM(M9:M28) -> 347572.75 | N30: =M30+L30 -> 347572.75 | O30: =SUM(O9:O28) -> 0 | P30: =SUM(P9:P28) -> 189539.98 | Q30: =P30+O30 -> 189539.98 | R30: =SUM(R9:R28) -> 0 | S30: =SUM(S9:S28) -> 193486.19 | T30: =S30+R30 -> 193486.19 | U30: =SUM(U9:U28) -> 0 | V30: =SUM(V9:V28) -> 200184.45 | W30: =V30+U30 -> 200184.45 | X30: =SUM(X9:X28) -> 0 | Y30: =SUM(Y9:Y28) -> 170940.94 | Z30: =Y30+X30 -> 170940.94 | AA30: =SUM(AA9:AA28) -> 0 | AB30: =SUM(AB9:AB28) -> 222419.75 | AC30: =AB30+AA30 -> 222419.75 | AD30: =SUM(AD9:AD28) -> 0 | AE30: =SUM(AE9:AE28) -> 0 | AF30: =AE30+AD30 -> 0 | AG30: =SUM(AG9:AG28) -> 0 | AH30: =SUM(AH9:AH28) -> 0 | AI30: =AH30+AG30 -> 0 | AJ30: =SUM(AJ9:AJ28) -> 0 | AK30: =SUM(AK9:AK28) -> 0 | AL30: =AJ30+AK30 -> 0 | AM30: =SUM(AM9:AM28) -> 0 | AN30: =SUM(AN9:AN28) -> 2157626 | AO30: =SUM(AO9:AO28) -> 2157626
A33: Керівник
A35: Виконавець(ПІБ,тел.)

Sheet 38
R1: Додаток 3
R3: від 23.02.2016 №56
A4: Інформація
A5: щодо фактичного використання бюджетних коштів у 202
A6: Криворізька гімназія №38 Криворізької міської ради
C7: Січень | F7: Лютий | I7: Березень | L7: Квітень | O7: Травень | R7: Червень | U7: Липень | X7: Серпень | AA7: Вересень | AD7: Жовтень | AG7: Листопад | AJ7: Грудень | AM7: Разом
C8: державний | D8: місцевий | E8: разом | F8: державний | G8: місцевий | H8: разом | I8: державний | J8: місцевий | K8: разом | L8: державний | M8: місцевий | N8: разом | O8: державний | P8: місцевий | Q8: разом | R8: державний | S8: місцевий | T8: разом | U8: державний | V8: місцевий | W8: разом | X8: державний | Y8: місцевий | Z8: разом | AA8: державний | AB8: місцевий | AC8: разом | AD8: державний | AE8: місцевий | AF8: разом | AG8: державний | AH8: місцевий | AI8: разом | AJ8: державний | AK8: місцевий | AL8: разом | AM8: державний | AN8: місцевий | AO8: разом
A9: 2111 | B9: Заробітна плата | D9: 212195.78 | E9: =D9+C9 -> 212195.78 | G9: 205333.76 | H9: =G9+F9 -> 205333.76 | J9: 203758.82 | K9: =J9+I9 -> 203758.82 | M9: 213199.47 | N9: =M9+L9 -> 213199.47 | P9: 224465.65 | Q9: =P9+O9 -> 224465.65 | S9: 306417.66 | T9: =S9+R9 -> 306417.66 | V9: 130725.55 | W9: =V9+U9 -> 130725.55 | Y9: =166841.88 -> 166841.88 | Z9: =Y9+X9 -> 166841.88 | AB9: 246153.84 | AC9: =AB9+AA9 -> 246153.84 | AF9: =AD9+AE9 -> 0 | AI9: =AH9+AG9 -> 0 | AL9: =AJ9+AK9 -> 0 | AM9: =AJ9+AG9+AD9+AA9+X9+U9+R9+O9+L9+I9+F9+C9 -> 0 | AN9: =AK9+AH9+AE9+AB9+Y9+V9+S9+P9+M9+J9+G9+D9 -> 1909092.4 | AO9: =AL9+AI9+AF9+AC9+Z9+W9+T9+Q9+N9+K9+H9+E9 -> 1909092.4
A10: 2120 | B10: Нарахування на оплату праці | D10: 48759.39 | E10: =D10+C10 -> 48759.39 | G10: 47112.63 | H10: =G10+F10 -> 47112.63 | J10: 47778.7 | K10: =J10+I10 -> 47778.7 | M10: 50985.63 | N10: =M10+L10 -> 50985.63 | P10: 52628.3 | Q10: =P10+O10 -> 52628.3 | S10: 71037.06 | T10: =S10+R10 -> 71037.06 | V10: 34908.16 | W10: =V10+U10 -> 34908.16 | Y10: 42369.78 | Z10: =Y10+X10 -> 42369.78 | AB10: 56116.59 | AC10: =AB10+AA10 -> 56116.59 | AF10: =AD10+AE10 -> 0 | AI10: =AH10+AG10 -> 0 | AL10: =AJ10+AK10 -> 0 | AM10: =AJ10+AG10+AD10+AA10+X10+U10+R10+O10+L10+I10+F10+C10 -> 0 | AN10: =AK10+AH10+AE10+AB10+Y10+V10+S10+P10+M10+J10+G10+D10 -> 451696.24 | AO10: =AL10+AI10+AF10+AC10+Z10+W10+T10+Q10+N10+K10+H10+E10 -> 451696.24
A11: 2210 | B11: Предмети, матеріали, обладнання та інвентар | D11: 827.58 | E11: =D11+C11 -> 827.58 | G11: 827.58 | H11: =G11+F11 -> 827.58 | J11: 563.58 | K11: =J11+I11 -> 563.58 | M11: 563.58 | N11: =M11+L11 -> 563.58 | P11: 563.58 | Q11: =P11+O11 -> 563.58 | S11: 374.82 | T11: =S11+R11 -> 374.82 | W11: =V11+U11 -> 0 | Z11: =Y11+X11 -> 0 | AB11: 1141.34 | AC11: =AB11+AA11 -> 1141.34 | AF11: =AD11+AE11 -> 0 | AI11: =AH11+AG11 -> 0 | AL11: =AJ11+AK11 -> 0 | AM11: =AJ11+AG11+AD11+AA11+X11+U11+R11+O11+L11+I11+F11+C11 -> 0 | AN11: =AK11+AH11+AE11+AB11+Y11+V11+S11+P11+M11+J11+G11+D11 -> 4862.06 | AO11: =AL11+AI11+AF11+AC11+Z11+W11+T11+Q11+N11+K11+H11+E11 -> 4862.06
A12: 2220 | B12: Медикаменти та перев'язувальні матеріали | D12: 840 | E12: =D12+C12 -> 840 | G12: 840 | H12: =G12+F12 -> 840 | J12: 840 | K12: =J12+I12 -> 840 | M12: 840 | N12: =M12+L12 -> 840 | P12: 1296.14 | Q12: =P12+O12 -> 1296.14 | S12: 840 | T12: =S12+R12 -> 840 | W12: =V12+U12 -> 0 | Z12: =Y12+X12 -> 0 | AB12: 405 | AC12: =AB12+AA12 -> 405 | AF12: =AD12+AE12 -> 0 | AI12: =AH12+AG12 -> 0 | AL12: =AJ12+AK12 -> 0 | AM12: =AJ12+AG12+AD12+AA12+X12+U12+R12+O12+L12+I12+F12+C12 -> 0 | AN12: =AK12+AH12+AE12+AB12+Y12+V12+S12+P12+M12+J12+G12+D12 -> 5901.14 | AO12: =AL12+AI12+AF12+AC12+Z12+W12+T12+Q12+N12+K12+H12+E12 -> 5901.14
A13: 2230 | B13: Продукти харчування | E13: =D13+C13 -> 0 | H13: =G13+F13 -> 0 | K13: =J13+I13 -> 0 | N13: =M13+L13 -> 0 | Q13: =P13+O13 -> 0 | T13: =S13+R13 -> 0 | W13: =V13+U13 -> 0 | Z13: =Y13+X13 -> 0 | AC13: =AB13+AA13 -> 0 | AF13: =AD13+AE13 -> 0 | AI13: =AH13+AG13 -> 0 | AL13: =AJ13+AK13 -> 0 | AM13: =AJ13+AG13+AD13+AA13+X13+U13+R13+O13+L13+I13+F13+C13 -> 0 | AN13: =AK13+AH13+AE13+AB13+Y13+V13+S13+P13+M13+J13+G13+D13 -> 0 | AO13: =AL13+AI13+AF13+AC13+Z13+W13+T13+Q13+N13+K13+H13+E13 -> 0
A14: 2240 | B14: Оплата послуг (крім комунальних) | E14: =D14+C14 -> 0 | G14: =38999.47 -> 38999.47 | H14: =G14+F14 -> 38999.47 | J14: =832.45+44775.45 -> 45607.9 | K14: =J14+I14 -> 45607.9 | M14: =1582.45+85404.08 -> 86986.53 | N14: =M14+L14 -> 86986.53 | P14: =832.45+50728.65 -> 51561.1 | Q14: =P14+O14 -> 51561.1 | S14: =832.45+49419.15 -> 50251.6 | T14: =S14+R14 -> 50251.6 | V14: =1457.45+12554.65 -> 14012.1 | W14: =V14+U14 -> 14012.1 | Y14: =2232.45+20259.05 -> 22491.5 | Z14: =Y14+X14 -> 22491.5 | AB14: =832.45+12118.95 -> 12951.4 | AC14: =AB14+AA14 -> 12951.4 | AF14: =AD14+AE14 -> 0 | AI14: =AH14+AG14 -> 0 | AL14: =AJ14+AK14 -> 0 | AM14: =AJ14+AG14+AD14+AA14+X14+U14+R14+O14+L14+I14+F14+C14 -> 0 | AN14: =AK14+AH14+AE14+AB14+Y14+V14+S14+P14+M14+J14+G14+D14 -> 322861.6 | AO14: =AL14+AI14+AF14+AC14+Z14+W14+T14+Q14+N14+K14+H14+E14 -> 322861.6
A15: 2250 | B15: Видатки на відрядження | E15: =D15+C15 -> 0 | H15: =G15+F15 -> 0 | K15: =J15+I15 -> 0 | N15: =M15+L15 -> 0 | Q15: =P15+O15 -> 0 | T15: =S15+R15 -> 0 | W15: =V15+U15 -> 0 | Z15: =Y15+X15 -> 0 | AC15: =AB15+AA15 -> 0 | AF15: =AD15+AE15 -> 0 | AI15: =AH15+AG15 -> 0 | AL15: =AJ15+AK15 -> 0 | AM15: =AJ15+AG15+AD15+AA15+X15+U15+R15+O15+L15+I15+F15+C15 -> 0 | AN15: =AK15+AH15+AE15+AB15+Y15+V15+S15+P15+M15+J15+G15+D15 -> 0 | AO15: =AL15+AI15+AF15+AC15+Z15+W15+T15+Q15+N15+K15+H15+E15 -> 0
A16: 2260 | B16: Видатки та заходи спеціального призначення | E16: =D16+C16 -> 0 | H16: =G16+F16 -> 0 | K16: =J16+I16 -> 0 | N16: =M16+L16 -> 0 | Q16: =P16+O16 -> 0 | T16: =S16+R16 -> 0 | W16: =V16+U16 -> 0 | Z16: =Y16+X16 -> 0 | AC16: =AB16+AA16 -> 0 | AF16: =AD16+AE16 -> 0 | AI16: =AH16+AG16 -> 0 | AL16: =AJ16+AK16 -> 0 | AM16: =AJ16+AG16+AD16+AA16+X16+U16+R16+O16+L16+I16+F16+C16 -> 0 | AN16: =AK16+AH16+AE16+AB16+Y16+V16+S16+P16+M16+J16+G16+D16 -> 0 | AO16: =AL16+AI16+AF16+AC16+Z16+W16+T16+Q16+N16+K16+H16+E16 -> 0
A17: 2271 | B17: Оплата теплопостачання | E17: =D17+C17 -> 0 | G17: 184158.84 | H17: =G17+F17 -> 184158.84 | J17: 78253.25 | K17: =J17+I17 -> 78253.25 | M17: 153619.47 | N17: =M17+L17 -> 153619.47 | Q17: =P17+O17 -> 0 | T17: =S17+R17 -> 0 | W17: =V17+U17 -> 0 | Z17: =Y17+X17 -> 0 | AC17: =AB17+AA17 -> 0 | AF17: =AD17+AE17 -> 0 | AI17: =AH17+AG17 -> 0 | AL17: =AJ17+AK17 -> 0 | AM17: =AJ17+AG17+AD17+AA17+X17+U17+R17+O17+L17+I17+F17+C17 -> 0 | AN17: =AK17+AH17+AE17+AB17+Y17+V17+S17+P17+M17+J17+G17+D17 -> 416031.56 | AO17: =AL17+AI17+AF17+AC17+Z17+W17+T17+Q17+N17+K17+H17+E17 -> 416031.56
A18: 2272 | B18: Оплата водопостачання та водовідведення | D18: 940.33 | E18: =D18+C18 -> 940.33 | G18: 981.22 | H18: =G18+F18 -> 981.22 | J18: =81.77+1267.4 -> 1349.17 | K18: =J18+I18 -> 1349.17 | M18: =40.88+1226.52 -> 1267.4 | N18: =M18+L18 -> 1267.4 | P18: =40.88+1390.06 -> 1430.94 | Q18: =P18+O18 -> 1430.94 | S18: 877.67 | T18: =S18+R18 -> 877.67 | V18: =45.66+228.3 -> 273.96 | W18: =V18+U18 -> 273.96 | Y18: =45.66+365.28 -> 410.94 | Z18: =Y18+X18 -> 410.94 | AB18: =136.98+1050.18 -> 1187.16 | AC18: =AB18+AA18 -> 1187.16 | AF18: =AD18+AE18 -> 0 | AI18: =AH18+AG18 -> 0 | AL18: =AJ18+AK18 -> 0 | AM18: =AJ18+AG18+AD18+AA18+X18+U18+R18+O18+L18+I18+F18+C18 -> 0 | AN18: =AK18+AH18+AE18+AB18+Y18+V18+S18+P18+M18+J18+G18+D18 -> 8718.79 | AO18: =AL18+AI18+AF18+AC18+Z18+W18+T18+Q18+N18+K18+H18+E18 -> 8718.79
A19: 2273 | B19: Оплата електроенергії | E19: =D19+C19 -> 0 | G19: =4073.46+13592.35 -> 17665.81 | H19: =G19+F19 -> 17665.81 | J19: =6504.12+18250.86 -> 24754.98 | K19: =J19+I19 -> 24754.98 | M19: =3971.89+18747.39 -> 22719.28 | N19: =M19+L19 -> 22719.28 | P19: =738.55+20646.56 -> 21385.11 | Q19: =P19+O19 -> 21385.11 | S19: =231.01+16631.27 -> 16862.28 | T19: =S19+R19 -> 16862.28 | V19: =205.79+4711.42 -> 4917.21 | W19: =V19+U19 -> 4917.21 | Y19: =223.19+2464.42 -> 2687.61 | Z19: =Y19+X19 -> 2687.61 | AB19: =232.1+3562.75 -> 3794.85 | AC19: =AB19+AA19 -> 3794.85 | AF19: =AD19+AE19 -> 0 | AI19: =AH19+AG19 -> 0 | AL19: =AJ19+AK19 -> 0 | AM19: =AJ19+AG19+AD19+AA19+X19+U19+R19+O19+L19+I19+F19+C19 -> 0 | AN19: =AK19+AH19+AE19+AB19+Y19+V19+S19+P19+M19+J19+G19+D19 -> 114787.13 | AO19: =AL19+AI19+AF19+AC19+Z19+W19+T19+Q19+N19+K19+H19+E19 -> 114787.13
A20: 2274 | B20: Оплата природного газу | E20: =D20+C20 -> 0 | H20: =G20+F20 -> 0 | K20: =J20+I20 -> 0 | N20: =M20+L20 -> 0 | Q20: =P20+O20 -> 0 | T20: =S20+R20 -> 0 | W20: =V20+U20 -> 0 | Z20: =Y20+X20 -> 0 | AC20: =AB20+AA20 -> 0 | AF20: =AD20+AE20 -> 0 | AI20: =AH20+AG20 -> 0 | AL20: =AJ20+AK20 -> 0 | AM20: =AJ20+AG20+AD20+AA20+X20+U20+R20+O20+L20+I20+F20+C20 -> 0 | AN20: =AK20+AH20+AE20+AB20+Y20+V20+S20+P20+M20+J20+G20+D20 -> 0 | AO20: =AL20+AI20+AF20+AC20+Z20+W20+T20+Q20+N20+K20+H20+E20 -> 0
A21: 2275 | B21: Оплата інших енергоносіїв | D21: 2988.08 | E21: =D21+C21 -> 2988.08 | G21: 2219.56 | H21: =G21+F21 -> 2219.56 | J21: 442.43 | K21: =J21+I21 -> 442.43 | M21: 535.95 | N21: =M21+L21 -> 535.95 | P21: 892.21 | Q21: =P21+O21 -> 892.21 | S21: 893.25 | T21: =S21+R21 -> 893.25 | V21: 535.95 | W21: =V21+U21 -> 535.95 | Y21: 1041.3 | Z21: =Y21+X21 -> 1041.3 | AB21: =9570+866.11 -> 10436.11 | AC21: =AB21+AA21 -> 10436.11 | AF21: =AD21+AE21 -> 0 | AI21: =AH21+AG21 -> 0 | AL21: =AJ21+AK21 -> 0 | AM21: =AJ21+AG21+AD21+AA21+X21+U21+R21+O21+L21+I21+F21+C21 -> 0 | AN21: =AK21+AH21+AE21+AB21+Y21+V21+S21+P21+M21+J21+G21+D21 -> 19984.84 | AO21: =AL21+AI21+AF21+AC21+Z21+W21+T21+Q21+N21+K21+H21+E21 -> 19984.84
A22: 2282 | B22: Окремі заходи по реалізації державних (регіональних) програм, не віднесені до заходів розвитку | E22: =D22+C22 -> 0 | H22: =G22+F22 -> 0 | K22: =J22+I22 -> 0 | N22: =M22+L22 -> 0 | Q22: =P22+O22 -> 0 | S22: 600 | T22: =S22+R22 -> 600 | W22: =V22+U22 -> 0 | Y22: 320 | Z22: =Y22+X22 -> 320 | AC22: =AB22+AA22 -> 0 | AF22: =AD22+AE22 -> 0 | AI22: =AH22+AG22 -> 0 | AL22: =AJ22+AK22 -> 0 | AM22: =AJ22+AG22+AD22+AA22+X22+U22+R22+O22+L22+I22+F22+C22 -> 0 | AN22: =AK22+AH22+AE22+AB22+Y22+V22+S22+P22+M22+J22+G22+D22 -> 920 | AO22: =AL22+AI22+AF22+AC22+Z22+W22+T22+Q22+N22+K22+H22+E22 -> 920
A23: 2700 | B23: Соціальне забезпечення | E23: =D23+C23 -> 0 | H23: =G23+F23 -> 0 | K23: =J23+I23 -> 0 | N23: =M23+L23 -> 0 | Q23: =P23+O23 -> 0 | T23: =S23+R23 -> 0 | W23: =V23+U23 -> 0 | Z23: =Y23+X23 -> 0 | AC23: =AB23+AA23 -> 0 | AF23: =AE23+AD23 -> 0 | AI23: =AH23+AG23 -> 0 | AL23: =AK23+AJ23 -> 0 | AM23: =AL23+AK23 -> 0 | AN23: =AK23+AH23+AE23+AB23+Y23+V23+S23+P23+M23+J23+G23+D23 -> 0 | AO23: =AL23+AI23+AF23+AC23+Z23+W23+T23+Q23+N23+K23+H23+E23 -> 0
A24: 2800 | B24: Інші поточні видатки | E24: =D24+C24 -> 0 | H24: =G24+F24 -> 0 | K24: =J24+I24 -> 0 | N24: =M24+L24 -> 0 | Q24: =P24+O24 -> 0 | T24: =S24+R24 -> 0 | W24: =V24+U24 -> 0 | Z24: =Y24+X24 -> 0 | AC24: =AB24+AA24 -> 0 | AF24: =AD24+AE24 -> 0 | AI24: =AH24+AG24 -> 0 | AL24: =AJ24+AK24 -> 0 | AM24: =AJ24+AG24+AD24+AA24+X24+U24+R24+O24+L24+I24+F24+C24 -> 0 | AN24: =AK24+AH24+AE24+AB24+Y24+V24+S24+P24+M24+J24+G24+D24 -> 0 | AO24: =AL24+AI24+AF24+AC24+Z24+W24+T24+Q24+N24+K24+H24+E24 -> 0
A25: 3110 | B25: Придбання обладнання, предметів довгострокового користування | E25: =D25+C25 -> 0 | H25: =G25+F25 -> 0 | K25: =J25+I25 -> 0 | N25: =M25+L25 -> 0 | Q25: =P25+O25 -> 0 | T25: =S25+R25 -> 0 | W25: =V25+U25 -> 0 | Z25: =Y25+X25 -> 0 | AC25: =AB25+AA25 -> 0 | AF25: =AD25+AE25 -> 0 | AI25: =AH25+AG25 -> 0 | AL25: =AJ25+AK25 -> 0 | AM25: =AJ25+AG25+AD25+AA25+X25+U25+R25+O25+L25+I25+F25+C25 -> 0 | AN25: =AK25+AH25+AE25+AB25+Y25+V25+S25+P25+M25+J25+G25+D25 -> 0 | AO25: =AL25+AI25+AF25+AC25+Z25+W25+T25+Q25+N25+K25+H25+E25 -> 0
A26: 3132 | B26: Капітальний ремонт інших об'єктів | E26: =D26+C26 -> 0 | H26: =G26+F26 -> 0 | K26: =J26+I26 -> 0 | N26: =M26+L26 -> 0 | Q26: =P26+O26 -> 0 | T26: =S26+R26 -> 0 | W26: =V26+U26 -> 0 | Z26: =Y26+X26 -> 0 | AC26: =AB26+AA26 -> 0 | AF26: =AD26+AE26 -> 0 | AI26: =AH26+AG26 -> 0 | AL26: =AJ26+AK26 -> 0 | AM26: =AJ26+AG26+AD26+AA26+X26+U26+R26+O26+L26+I26+F26+C26 -> 0 | AN26: =AK26+AH26+AE26+AB26+Y26+V26+S26+P26+M26+J26+G26+D26 -> 0 | AO26: =AL26+AI26+AF26+AC26+Z26+W26+T26+Q26+N26+K26+H26+E26 -> 0
E27: =D27+C27 -> 0 | H27: =G27+F27 -> 0 | K27: =J27+I27 -> 0 | N27: =M27+L27 -> 0 | Q27: =P27+O27 -> 0 | T27: =S27+R27 -> 0 | W27: =V27+U27 -> 0 | Z27: =Y27+X27 -> 0 | AC27: =AB27+AA27 -> 0 | AF27: =AD27+AE27 -> 0 | AI27: =AH27+AG27 -> 0 | AL27: =AJ27+AK27 -> 0 | AM27: =AJ27+AG27+AD27+AA27+X27+U27+R27+O27+L27+I27+F27+C27 -> 0 | AN27: =AK27+AH27+AE27+AB27+Y27+V27+S27+P27+M27+J27+G27+D27 -> 0 | AO27: =AL27+AI27+AF27+AC27+Z27+W27+T27+Q27+N27+K27+H27+E27 -> 0
A28: 2730 | E28: =D28+C28 -> 0 | H28: =G28+F28 -> 0 | K28: =J28+I28 -> 0 | N28: =M28+L28 -> 0 | Q28: =P28+O28 -> 0 | T28: =S28+R28 -> 0 | W28: =V28+U28 -> 0 | Z28: =Y28+X28 -> 0 | AC28: =AB28+AA28 -> 0 | AF28: =AD28+AE28 -> 0 | AI28: =AH28+AG28 -> 0 | AL28: =AJ28+AK28 -> 0 | AM28: =AJ28+AG28+AD28+AA28+X28+U28+R28+O28+L28+I28+F28+C28 -> 0 | AN28: =AK28+AH28+AE28+AB28+Y28+V28+S28+P28+M28+J28+G28+D28 -> 0 | AO28: =AL28+AI28+AF28+AC28+Z28+W28+T28+Q28+N28+K28+H28+E28 -> 0
A29: 7520 | B29: Реалізація Національної програми інформатизації | E29: =D29+C29 -> 0 | G29: 1516 | H29: =G29+F29 -> 1516 | J29: 1516 | K29: =J29+I29 -> 1516 | M29: 2266 | N29: =M29+L29 -> 2266 | P29: 1516 | Q29: =P29+O29 -> 1516 | S29: 1516 | T29: =S29+R29 -> 1516 | V29: 2266 | W29: =V29+U29 -> 2266 | Y29: 1516 | Z29: =Y29+X29 -> 1516 | AB29: 1516 | AC29: =AB29+AA29 -> 1516 | AF29: =AD29+AE29 -> 0 | AI29: =AH29+AG29 -> 0 | AL29: =AJ29+AK29 -> 0 | AM29: =AJ29+AG29+AD29+AA29+X29+U29+R29+O29+L29+I29+F29+C29 -> 0 | AN29: =AK29+AH29+AE29+AB29+Y29+V29+S29+P29+M29+J29+G29+D29 -> 13628 | AO29: =AL29+AI29+AF29+AC29+Z29+W29+T29+Q29+N29+K29+H29+E29 -> 13628
B30: Всього | C30: =SUM(C9:C27) -> 0 | D30: =SUM(D9:D27) -> 266551.16 | E30: =SUM(E9:E27) -> 266551.16 | F30: =SUM(F9:F27) -> 0 | G30: =SUM(G9:G29) -> 499654.87 | H30: =SUM(H9:H29) -> 499654.87 | I30: =SUM(I9:I27) -> 0 | J30: =SUM(J9:J27) -> 403348.83 | K30: =J30+I30 -> 403348.83 | L30: =SUM(L9:L27) -> 0 | M30: =SUM(M9:M27) -> 530717.31 | N30: =M30+L30 -> 530717.31 | O30: =SUM(O9:O27) -> 0 | P30: =SUM(P9:P27) -> 354223.03 | Q30: =P30+O30 -> 354223.03 | R30: =SUM(R9:R27) -> 0 | S30: =SUM(S9:S27) -> 448154.34 | T30: =S30+R30 -> 448154.34 | U30: =SUM(U9:U27) -> 0 | V30: =SUM(V9:V27) -> 185372.93 | W30: =V30+U30 -> 185372.93 | X30: =SUM(X9:X27) -> 0 | Y30: =SUM(Y9:Y27) -> 236163.01 | Z30: =Y30+X30 -> 236163.01 | AA30: =SUM(AA9:AA27) -> 0 | AB30: =SUM(AB9:AB27) -> 332186.29 | AC30: =AB30+AA30 -> 332186.29 | AD30: =SUM(AD9:AD27) -> 0 | AE30: =SUM(AE9:AE27) -> 0 | AF30: =AE30+AD30 -> 0 | AG30: =SUM(AG9:AG27) -> 0 | AH30: =SUM(AH9:AH27) -> 0 | AI30: =AH30+AG30 -> 0 | AJ30: =SUM(AJ9:AJ27) -> 0 | AK30: =SUM(AK9:AK27) -> 0 | AL30: =AK30+AJ30 -> 0 | AM30: =SUM(AM9:AM27) -> 0 | AN30: =SUM(AN9:AN27) -> 3254855.8 | AO30: =SUM(AO9:AO27) -> 3254855.8
A33: Керівник
A35: Виконавець(ПІБ,тел.)

Sheet 40
R1: Додаток 3
R2: до наказу управління освіти і науки
R3: виконкому міської ради
A4: Інформація
A5: щодо фактичного використання бюджетних коштів у 2026
A6: Криворізька гімназія №40 Криворізької міської ради
C7: Січень | F7: Лютий | I7: Березень | L7: Квітень | O7: Травень | R7: Червень | U7: Липень | X7: Серпень | AA7: Вересень | AD7: Жовтень | AG7: Листопад | AJ7: Грудень | AM7: Разом
C8: державний | D8: місцевий | E8: разом | F8: державний | G8: місцевий | H8: разом | I8: державний | J8: місцевий | K8: разом | L8: державний | M8: місцевий | N8: разом | O8: державний | P8: місцевий | Q8: разом | R8: державний | S8: місцевий | T8: разом | U8: державний | V8: місцевий | W8: разом | X8: державний | Y8: місцевий | Z8: разом | AA8: державний | AB8: місцевий | AC8: разом | AD8: державний | AE8: місцевий | AF8: разом | AG8: державний | AH8: місцевий | AI8: разом | AJ8: державний | AK8: місцевий | AL8: разом | AM8: державний | AN8: місцевий | AO8: разом
A9: 2111 | B9: Заробітна плата | D9: 178717.18 | E9: =D9+C9 -> 178717.18 | G9: 174409.09 | H9: =G9+F9 -> 174409.09 | J9: 177690.3 | K9: =J9+I9 -> 177690.3 | M9: 172420.87 | N9: =M9+L9 -> 172420.87 | P9: 180718.29 | Q9: =P9+O9 -> 180718.29 | S9: 249393.26 | T9: =S9+R9 -> 249393.26 | V9: 137918.89 | W9: =V9+U9 -> 137918.89 | Y9: 143306.41 | Z9: =Y9+X9 -> 143306.41 | AB9: 202969 | AC9: =AB9+AA9 -> 202969 | AF9: =AE9+AD9 -> 0 | AI9: =AH9+AG9:AG10 -> 0 | AL9: =AK9+AJ9 -> 0 | AM9: =AJ9+AG9+AD9+AA9+X9+U9+R9+O9+L9+I9+F9+C9 -> 0 | AN9: =AK9+AH9+AE9+AB9+Y9+V9+S9+P9+M9+J9+G9+D9 -> 1617543.3 | AO9: =AL9+AI9+AF9+AC9+Z9+W9+T9+Q9+N9+K9+H9+E9 -> 1617543.3
A10: 2120 | B10: Нарахування на оплату праці | D10: 40560.45 | E10: =D10+C10 -> 40560.45 | G10: 39321.18 | H10: =G10+F10 -> 39321.18 | J10: 43020.38 | K10: =J10+I10 -> 43020.38 | M10: 36820.75 | N10: =M10+L10 -> 36820.75 | P10: 40959.43 | Q10: =P10+O10 -> 40959.43 | S10: 51919.85 | T10: =S10+R10 -> 51919.85 | V10: 32064.45 | W10: =V10+U10 -> 32064.45 | Y10: 31063.73 | Z10: =Y10+X10 -> 31063.73 | AB10: 43953.64 | AC10: =AB10+AA10 -> 43953.64 | AF10: =AE10+AD10 -> 0 | AI10: =AH10+AG10:AG11 -> 0 | AL10: =AK10+AJ10 -> 0 | AM10: =AJ10+AG10+AD10+AA10+X10+U10+R10+O10+L10+I10+F10+C10 -> 0 | AN10: =AK10+AH10+AE10+AB10+Y10+V10+S10+P10+M10+J10+G10+D10 -> 359683.86 | AO10: =AL10+AI10+AF10+AC10+Z10+W10+T10+Q10+N10+K10+H10+E10 -> 359683.86
A11: 2210 | B11: Предмети, матеріали, обладнання та інвентар | D11: 1170.45 | E11: =D11+C11 -> 1170.45 | G11: 915.51 | H11: =G11+F11 -> 915.51 | J11: 576.37 | K11: =J11+I11 -> 576.37 | M11: 666.08 | N11: =M11+L11 -> 666.08 | P11: 1093.58 | Q11: =P11+O11 -> 1093.58 | S11: 218.4 | T11: =S11+R11 -> 218.4 | W11: =V11+U11 -> 0 | Z11: =Y11+X11 -> 0 | AB11: 6015.07 | AC11: =AB11+AA11 -> 6015.07 | AF11: =AE11+AD11 -> 0 | AI11: =AH11+AG11:AG12 -> 0 | AL11: =AK11+AJ11 -> 0 | AM11: =AJ11+AG11+AD11+AA11+X11+U11+R11+O11+L11+I11+F11+C11 -> 0 | AN11: =AK11+AH11+AE11+AB11+Y11+V11+S11+P11+M11+J11+G11+D11 -> 10655.46 | AO11: =AL11+AI11+AF11+AC11+Z11+W11+T11+Q11+N11+K11+H11+E11 -> 10655.46
A12: 2220 | B12: Медикаменти та перев'язувальні матеріали | E12: =D12+C12 -> 0 | G12: 250 | H12: =G12+F12 -> 250 | K12: =J12+I12 -> 0 | N12: =M12+L12 -> 0 | P12: 290.87 | Q12: =P12+O12 -> 290.87 | T12: =S12+R12 -> 0 | W12: =V12+U12 -> 0 | Z12: =Y12+X12 -> 0 | AB12: 455 | AC12: =AB12+AA12 -> 455 | AF12: =AE12+AD12 -> 0 | AI12: =AH12+AG12:AG13 -> 0 | AL12: =AK12+AJ12 -> 0 | AM12: =AJ12+AG12+AD12+AA12+X12+U12+R12+O12+L12+I12+F12+C12 -> 0 | AN12: =AK12+AH12+AE12+AB12+Y12+V12+S12+P12+M12+J12+G12+D12 -> 995.87 | AO12: =AL12+AI12+AF12+AC12+Z12+W12+T12+Q12+N12+K12+H12+E12 -> 995.87
A13: 2230 | B13: Продукти харчування | D13: 9699.82 | E13: =D13+C13 -> 9699.82 | G13: 15049.78 | H13: =G13+F13 -> 15049.78 | J13: 13200.54 | K13: =J13+I13 -> 13200.54 | M13: 14450.07 | N13: =M13+L13 -> 14450.07 | P13: 16600.41 | Q13: =P13+O13 -> 16600.41 | T13: =S13+R13 -> 0 | W13: =V13+U13 -> 0 | Z13: =Y13+X13 -> 0 | AB13: 16052.22 | AC13: =AB13+AA13 -> 16052.22 | AF13: =AE13+AD13 -> 0 | AI13: =AH13+AG13:AG14 -> 0 | AL13: =AK13+AJ13 -> 0 | AM13: =AJ13+AG13+AD13+AA13+X13+U13+R13+O13+L13+I13+F13+C13 -> 0 | AN13: =AK13+AH13+AE13+AB13+Y13+V13+S13+P13+M13+J13+G13+D13 -> 85052.84 | AO13: =AL13+AI13+AF13+AC13+Z13+W13+T13+Q13+N13+K13+H13+E13 -> 85052.84
A14: 2240 | B14: Оплата послуг (крім комунальних) | E14: =D14+C14 -> 0 | G14: =7200 -> 7200 | H14: =G14+F14 -> 7200 | J14: =13823.1 -> 13823.1 | K14: =J14+I14 -> 13823.1 | M14: =15005.8 -> 15005.8 | N14: =M14+L14 -> 15005.8 | P14: =8097.8 -> 8097.8 | Q14: =P14+O14 -> 8097.8 | S14: =18721.52 -> 18721.52 | T14: =S14+R14 -> 18721.52 | V14: =15781.82 -> 15781.82 | W14: =V14+U14 -> 15781.82 | Y14: 15078.2 | Z14: =Y14+X14 -> 15078.2 | AB14: 15144.1 | AC14: =AB14+AA14 -> 15144.1 | AF14: =AE14+AD14 -> 0 | AI14: =AH14+AG14:AG15 -> 0 | AL14: =AK14+AJ14 -> 0 | AM14: =AJ14+AG14+AD14+AA14+X14+U14+R14+O14+L14+I14+F14+C14 -> 0 | AN14: =AK14+AH14+AE14+AB14+Y14+V14+S14+P14+M14+J14+G14+D14 -> 108852.34 | AO14: =AL14+AI14+AF14+AC14+Z14+W14+T14+Q14+N14+K14+H14+E14 -> 108852.34
A15: 2250 | B15: Видатки на відрядження | E15: =D15+C15 -> 0 | H15: =G15+F15 -> 0 | K15: =J15+I15 -> 0 | N15: =M15+L15 -> 0 | Q15: =P15+O15 -> 0 | T15: =S15+R15 -> 0 | W15: =V15+U15 -> 0 | Z15: =Y15+X15 -> 0 | AC15: =AB15+AA15 -> 0 | AF15: =AE15+AD15 -> 0 | AI15: =AH15+AG15:AG16 -> 0 | AL15: =AK15+AJ15 -> 0 | AM15: =AJ15+AG15+AD15+AA15+X15+U15+R15+O15+L15+I15+F15+C15 -> 0 | AN15: =AK15+AH15+AE15+AB15+Y15+V15+S15+P15+M15+J15+G15+D15 -> 0 | AO15: =AL15+AI15+AF15+AC15+Z15+W15+T15+Q15+N15+K15+H15+E15 -> 0
A16: 2260 | B16: Видатки та заходи спеціального призначення | E16: =D16+C16 -> 0 | H16: =G16+F16 -> 0 | K16: =J16+I16 -> 0 | N16: =M16+L16 -> 0 | Q16: =P16+O16 -> 0 | T16: =S16+R16 -> 0 | W16: =V16+U16 -> 0 | Z16: =Y16+X16 -> 0 | AC16: =AB16+AA16 -> 0 | AF16: =AE16+AD16 -> 0 | AI16: =AH16+AG16:AG17 -> 0 | AL16: =AK16+AJ16 -> 0 | AM16: =AJ16+AG16+AD16+AA16+X16+U16+R16+O16+L16+I16+F16+C16 -> 0 | AN16: =AK16+AH16+AE16+AB16+Y16+V16+S16+P16+M16+J16+G16+D16 -> 0 | AO16: =AL16+AI16+AF16+AC16+Z16+W16+T16+Q16+N16+K16+H16+E16 -> 0
A17: 2271 | B17: Оплата теплопостачання | E17: =D17+C17 -> 0 | G17: 446817.95 | H17: =G17+F17 -> 446817.95 | J17: 512298.02 | K17: =J17+I17 -> 512298.02 | M17: 154601.62 | N17: =M17+L17 -> 154601.62 | Q17: =P17+O17 -> 0 | T17: =S17+R17 -> 0 | W17: =V17+U17 -> 0 | Z17: =Y17+X17 -> 0 | AC17: =AB17+AA17 -> 0 | AF17: =AE17+AD17 -> 0 | AI17: =AH17+AG17:AG18 -> 0 | AL17: =AK17+AJ17 -> 0 | AM17: =AJ17+AG17+AD17+AA17+X17+U17+R17+O17+L17+I17+F17+C17 -> 0 | AN17: =AK17+AH17+AE17+AB17+Y17+V17+S17+P17+M17+J17+G17+D17 -> 1113717.6 | AO17: =AL17+AI17+AF17+AC17+Z17+W17+T17+Q17+N17+K17+H17+E17 -> 1113717.6
A18: 2272 | B18: Оплата водопостачання та водовідведення | D18: 2751.84 | E18: =D18+C18 -> 2751.84 | G18: 3316.32 | H18: =G18+F18 -> 3316.32 | J18: 3386.88 | K18: =J18+I18 -> 3386.88 | M18: 4163.04 | N18: =M18+L18 -> 4163.04 | P18: 3880.8 | Q18: =P18+O18 -> 3880.8 | S18: 3920.95 | T18: =S18+R18 -> 3920.95 | V18: 1412.42 | W18: =V18+U18 -> 1412.42 | Y18: 1569.36 | Z18: =Y18+X18 -> 1569.36 | AB18: 4629.61 | AC18: =AB18+AA18 -> 4629.61 | AF18: =AE18+AD18 -> 0 | AI18: =AH18+AG18:AG19 -> 0 | AL18: =AK18+AJ18 -> 0 | AM18: =AJ18+AG18+AD18+AA18+X18+U18+R18+O18+L18+I18+F18+C18 -> 0 | AN18: =AK18+AH18+AE18+AB18+Y18+V18+S18+P18+M18+J18+G18+D18 -> 29031.22 | AO18: =AL18+AI18+AF18+AC18+Z18+W18+T18+Q18+N18+K18+H18+E18 -> 29031.22
A19: 2273 | B19: Оплата електроенергії | E19: =D19+C19 -> 0 | G19: 27580.74 | H19: =G19+F19 -> 27580.74 | J19: 28698.85 | K19: =J19+I19 -> 28698.85 | M19: 33685.12 | N19: =M19+L19 -> 33685.12 | P19: 32500.46 | Q19: =P19+O19 -> 32500.46 | S19: 34859.53 | T19: =S19+R19 -> 34859.53 | V19: 6812.61 | W19: =V19+U19 -> 6812.61 | Y19: 5858.81 | Z19: =Y19+X19 -> 5858.81 | AB19: 8448.48 | AC19: =AB19+AA19 -> 8448.48 | AF19: =AE19+AD19 -> 0 | AI19: =AH19+AG19:AG20 -> 0 | AL19: =AK19+AJ19 -> 0 | AM19: =AJ19+AG19+AD19+AA19+X19+U19+R19+O19+L19+I19+F19+C19 -> 0 | AN19: =AK19+AH19+AE19+AB19+Y19+V19+S19+P19+M19+J19+G19+D19 -> 178444.6 | AO19: =AL19+AI19+AF19+AC19+Z19+W19+T19+Q19+N19+K19+H19+E19 -> 178444.6
A20: 2274 | B20: Оплата природного газу | E20: =D20+C20 -> 0 | H20: =G20+F20 -> 0 | K20: =J20+I20 -> 0 | N20: =M20+L20 -> 0 | Q20: =P20+O20 -> 0 | T20: =S20+R20 -> 0 | W20: =V20+U20 -> 0 | Z20: =Y20+X20 -> 0 | AC20: =AB20+AA20 -> 0 | AF20: =AE20+AD20 -> 0 | AI20: =AH20+AG20:AG21 -> 0 | AL20: =AK20+AJ20 -> 0 | AM20: =AJ20+AG20+AD20+AA20+X20+U20+R20+O20+L20+I20+F20+C20 -> 0 | AN20: =AK20+AH20+AE20+AB20+Y20+V20+S20+P20+M20+J20+G20+D20 -> 0 | AO20: =AL20+AI20+AF20+AC20+Z20+W20+T20+Q20+N20+K20+H20+E20 -> 0
A21: 2275 | B21: Оплата інших енергоносіїв | D21: 10693.94 | E21: =D21+C21 -> 10693.94 | G21: 2059.34 | H21: =G21+F21 -> 2059.34 | J21: 1048.08 | K21: =J21+I21 -> 1048.08 | M21: 1812.05 | N21: =M21+L21 -> 1812.05 | P21: 4548.08 | Q21: =P21+O21 -> 4548.08 | S21: 1048.08 | T21: =S21+R21 -> 1048.08 | V21: 1310.1 | W21: =V21+U21 -> 1310.1 | Y21: 1527.24 | Z21: =Y21+X21 -> 1527.24 | AB21: =1976.12 -> 1976.12 | AC21: =AB21+AA21 -> 1976.12 | AF21: =AE21+AD21 -> 0 | AI21: =AH21+AG21:AG22 -> 0 | AL21: =AK21+AJ21 -> 0 | AM21: =AJ21+AG21+AD21+AA21+X21+U21+R21+O21+L21+I21+F21+C21 -> 0 | AN21: =AK21+AH21+AE21+AB21+Y21+V21+S21+P21+M21+J21+G21+D21 -> 26023.03 | AO21: =AL21+AI21+AF21+AC21+Z21+W21+T21+Q21+N21+K21+H21+E21 -> 26023.03
A22: 2282 | B22: Окремі заходи по реалізації державних (регіональних) програм, не віднесені до заходів розвитку | E22: =D22+C22 -> 0 | H22: =G22+F22 -> 0 | K22: =J22+I22 -> 0 | N22: =M22+L22 -> 0 | P22: 2880 | Q22: =P22+O22 -> 2880 | S22: 600 | T22: =S22+R22 -> 600 | W22: =V22+U22 -> 0 | Y22: 320 | Z22: =Y22+X22 -> 320 | AC22: =AB22+AA22 -> 0 | AF22: =AE22+AD22 -> 0 | AI22: =AH22+AG22:AG25 -> 0 | AL22: =AK22+AJ22 -> 0 | AM22: =AJ22+AG22+AD22+AA22+X22+U22+R22+O22+L22+I22+F22+C22 -> 0 | AN22: =AK22+AH22+AE22+AB22+Y22+V22+S22+P22+M22+J22+G22+D22 -> 3800 | AO22: =AL22+AI22+AF22+AC22+Z22+W22+T22+Q22+N22+K22+H22+E22 -> 3800
A23: 2700 | B23: Соціальне забезпечення
A24: 2800 | B24: Інші поточні видатки | E24: =D24+C24 -> 0 | H24: =G24+F24 -> 0 | K24: =J24+I24 -> 0 | N24: =M24+L24 -> 0 | Q24: =P24+O24 -> 0 | T24: =S24+R24 -> 0 | W24: =V24+U24 -> 0 | Y24: 12723.72 | Z24: =Y24+X24 -> 12723.72 | AC24: =AB24+AA24 -> 0 | AF24: =AE24+AD24 -> 0 | AI24: =AH24+AG24 -> 0 | AL24: =AK24+AJ24 -> 0 | AM24: =AL24+AK24 -> 0 | AN24: =AK24+AH24+AE24+AB24+Y24+V24+S24+P24+M24+J24+G24+D24 -> 12723.72 | AO24: =AL24+AI24+AF24+AC24+Z24+W24+T24+Q24+N24+K24+H24+E24 -> 12723.72
A25: 3110 | B25: Придбання обладнання, предметів довгострокового користування | E25: =D25+C25 -> 0 | H25: =G25+F25 -> 0 | K25: =J25+I25 -> 0 | N25: =M25+L25 -> 0 | Q25: =P25+O25 -> 0 | T25: =S25+R25 -> 0 | W25: =V25+U25 -> 0 | Z25: =Y25+X25 -> 0 | AC25: =AB25+AA25 -> 0 | AF25: =AE25+AD25 -> 0 | AI25: =AH25+AG25:AG27 -> 0 | AL25: =AK25+AJ25 -> 0 | AM25: =AJ25+AG25+AD25+AA25+X25+U25+R25+O25+L25+I25+F25+C25 -> 0 | AN25: =AK25+AH25+AE25+AB25+Y25+V25+S25+P25+M25+J25+G25+D25 -> 0 | AO25: =AL25+AI25+AF25+AC25+Z25+W25+T25+Q25+N25+K25+H25+E25 -> 0
A26: 3132 | B26: Капітальний ремонт інших об'єктів | E26: =D26+C26 -> 0 | H26: =G26+F26 -> 0 | K26: =J26+I26 -> 0 | N26: =M26+L26 -> 0 | Q26: =P26+O26 -> 0 | T26: =S26+R26 -> 0 | W26: =V26+U26 -> 0 | Z26: =Y26+X26 -> 0 | AC26: =AB26+AA26 -> 0 | AF26: =AE26+AD26 -> 0 | AI26: =AH26+AG26:AG28 -> 0 | AL26: =AK26+AJ26 -> 0 | AM26: =AJ26+AG26+AD26+AA26+X26+U26+R26+O26+L26+I26+F26+C26 -> 0 | AN26: =AK26+AH26+AE26+AB26+Y26+V26+S26+P26+M26+J26+G26+D26 -> 0 | AO26: =AL26+AI26+AF26+AC26+Z26+W26+T26+Q26+N26+K26+H26+E26 -> 0
E27: =D27+C27 -> 0 | H27: =G27+F27 -> 0 | K27: =J27+I27 -> 0 | N27: =M27+L27 -> 0 | Q27: =P27+O27 -> 0 | T27: =S27+R27 -> 0 | W27: =V27+U27 -> 0 | Z27: =Y27+X27 -> 0 | AC27: =AB27+AA27 -> 0 | AF27: =AE27+AD27 -> 0 | AI27: =AH27+AG27:AG28 -> 0 | AL27: =AK27+AJ27 -> 0 | AM27: =AJ27+AG27+AD27+AA27+X27+U27+R27+O27+L27+I27+F27+C27 -> 0 | AN27: =AK27+AH27+AE27+AB27+Y27+V27+S27+P27+M27+J27+G27+D27 -> 0 | AO27: =AL27+AI27+AF27+AC27+Z27+W27+T27+Q27+N27+K27+H27+E27 -> 0
A28: 2730 | E28: =D28+C28 -> 0 | H28: =G28+F28 -> 0 | K28: =J28+I28 -> 0 | N28: =M28+L28 -> 0 | Q28: =P28+O28 -> 0 | T28: =S28+R28 -> 0 | W28: =V28+U28 -> 0 | Z28: =Y28+X28 -> 0 | AC28: =AB28+AA28 -> 0 | AF28: =AE28+AD28 -> 0 | AI28: =AH28+AG28:AG30 -> 0 | AL28: =AK28+AJ28 -> 0 | AM28: =AJ28+AG28+AD28+AA28+X28+U28+R28+O28+L28+I28+F28+C28 -> 0 | AN28: =AK28+AH28+AE28+AB28+Y28+V28+S28+P28+M28+J28+G28+D28 -> 0 | AO28: =AL28+AI28+AF28+AC28+Z28+W28+T28+Q28+N28+K28+H28+E28 -> 0
A29: 7520 | B29: Реалізація Національної програми інформатизації | E29: =D29+C29 -> 0 | G29: 1435 | H29: =G29+F29 -> 1435 | J29: 1435 | K29: =J29+I29 -> 1435 | M29: 2360 | N29: =M29+L29 -> 2360 | P29: 1435 | Q29: =P29+O29 -> 1435 | S29: 1435 | T29: =S29+R29 -> 1435 | V29: 2360 | W29: =V29+U29 -> 2360 | Y29: 1435 | Z29: =Y29+X29 -> 1435 | AB29: 1435 | AC29: =AB29+AA29 -> 1435 | AF29: =AE29+AD29 -> 0 | AI29: =AH29+AG29:AG31 -> 0 | AL29: =AK29+AJ29 -> 0 | AM29: =AJ29+AG29+AD29+AA29+X29+U29+R29+O29+L29+I29+F29+C29 -> 0 | AN29: =AK29+AH29+AE29+AB29+Y29+V29+S29+P29+M29+J29+G29+D29 -> 13330 | AO29: =AL29+AI29+AF29+AC29+Z29+W29+T29+Q29+N29+K29+H29+E29 -> 13330
B30: Всього | C30: =SUM(C9:C28) -> 0 | D30: =SUM(D9:D28) -> 243593.68 | E30: =SUM(E9:E28) -> 243593.68 | F30: =SUM(F9:F28) -> 0 | G30: =SUM(G9:G28) -> 716919.91 | H30: =SUM(H9:H28) -> 716919.91 | I30: =SUM(I9:I28) -> 0 | J30: =SUM(J9:J28) -> 793742.52 | K30: =J30+I30 -> 793742.52 | L30: =SUM(L9:L28) -> 0 | M30: =SUM(M9:M28) -> 433625.4 | N30: =M30+L30 -> 433625.4 | O30: =SUM(O9:O28) -> 0 | P30: =SUM(P9:P28) -> 291569.72 | Q30: =P30+O30 -> 291569.72 | R30: =SUM(R9:R28) -> 0 | S30: =SUM(S9:S28) -> 360681.59 | T30: =S30+R30 -> 360681.59 | U30: =SUM(U9:U28) -> 0 | V30: =SUM(V9:V28) -> 195300.29 | W30: =V30+U30 -> 195300.29 | X30: =SUM(X9:X28) -> 0 | Y30: =SUM(Y9:Y28) -> 211447.47 | Z30: =Y30+X30 -> 211447.47 | AA30: =SUM(AA9:AA28) -> 0 | AB30: =SUM(AB9:AB28) -> 299643.24 | AC30: =AB30+AA30 -> 299643.24 | AD30: =SUM(AD9:AD28) -> 0 | AE30: =SUM(AE9:AE28) -> 0 | AF30: =AE30+AD30 -> 0 | AG30: =SUM(AG9:AG28) -> 0 | AH30: =SUM(AH9:AH28) -> 0 | AI30: =AH30+AG30 -> 0 | AJ30: =SUM(AJ9:AJ28) -> 0 | AK30: =SUM(AK9:AK28) -> 0 | AL30: =AK30+AJ30 -> 0 | AM30: =SUM(AM9:AM28) -> 0 | AN30: =SUM(AN9:AN28) -> 3546523.8 | AO30: =SUM(AO9:AO28) -> 3546523.8
A33: Керівник
A35: Виконавець(ПІБ,тел.)

Sheet 42
R1: Додаток 3
R2: до наказу управління освіти і науки
R3: виконкому міської ради
A4: Інформація
A5: щодо фактичного використання бюджетних коштів у 2026
A6: Криворізька гімназія №42 Криворізької міської ради
C7: Січень | F7: Лютий | I7: Березень | L7: Квітень | O7: Травень | R7: Червень | U7: Липень | X7: Серпень | AA7: Вересень | AD7: Жовтень | AG7: Листопад | AJ7: Грудень | AM7: Разом
C8: державний | D8: місцевий | E8: разом | F8: державний | G8: місцевий | H8: разом | I8: державний | J8: місцевий | K8: разом | L8: державний | M8: місцевий | N8: разом | O8: державний | P8: місцевий | Q8: разом | R8: державний | S8: місцевий | T8: разом | U8: державний | V8: місцевий | W8: разом | X8: державний | Y8: місцевий | Z8: разом | AA8: державний | AB8: місцевий | AC8: разом | AD8: державний | AE8: місцевий | AF8: разом | AG8: державний | AH8: місцевий | AI8: разом | AJ8: державний | AK8: місцевий | AL8: разом | AM8: державний | AN8: місцевий | AO8: разом
A9: 2111 | B9: Заробітна плата | D9: 289127.92 | E9: =D9+C9 -> 289127.92 | G9: 299431.44 | H9: =G9+F9 -> 299431.44 | J9: 302081.29 | K9: =J9+I9 -> 302081.29 | M9: 286992.25 | N9: =M9+L9 -> 286992.25 | P9: 291169.68 | Q9: =P9+O9 -> 291169.68 | S9: 310528.2 | T9: =S9+R9 -> 310528.2 | V9: 278565.28 | W9: =V9+U9 -> 278565.28 | Y9: 232825.41 | Z9: =Y9+X9 -> 232825.41 | AB9: 290441.81 | AC9: =AB9+AA9 -> 290441.81 | AF9: =AD9+AE9 -> 0 | AI9: =AH9+AG9 -> 0 | AL9: =AK9+AJ9 -> 0 | AM9: =AJ9+AG9+AD9+AA9+X9+U9+R9+O9+L9+I9+F9+C9 -> 0 | AN9: =AK9+AH9+AE9+AB9+Y9+V9+S9+P9+M9+J9+G9+D9 -> 2581163.3 | AO9: =AL9+AI9+AF9+AC9+Z9+W9+T9+Q9+N9+K9+H9+E9 -> 2581163.3
A10: 2120 | B10: Нарахування на оплату праці | D10: 68217.67 | E10: =D10+C10 -> 68217.67 | G10: 69290.54 | H10: =G10+F10 -> 69290.54 | J10: 68419.9 | K10: =J10+I10 -> 68419.9 | M10: 64273.32 | N10: =M10+L10 -> 64273.32 | P10: 65084.75 | Q10: =P10+O10 -> 65084.75 | S10: 69523.41 | T10: =S10+R10 -> 69523.41 | V10: 60215.83 | W10: =V10+U10 -> 60215.83 | Y10: 53395.67 | Z10: =Y10+X10 -> 53395.67 | AB10: 63533.07 | AC10: =AB10+AA10 -> 63533.07 | AF10: =AD10+AE10 -> 0 | AI10: =AH10+AG10 -> 0 | AL10: =AK10+AJ10 -> 0 | AM10: =AJ10+AG10+AD10+AA10+X10+U10+R10+O10+L10+I10+F10+C10 -> 0 | AN10: =AK10+AH10+AE10+AB10+Y10+V10+S10+P10+M10+J10+G10+D10 -> 581954.16 | AO10: =AL10+AI10+AF10+AC10+Z10+W10+T10+Q10+N10+K10+H10+E10 -> 581954.16
A11: 2210 | B11: Предмети, матеріали, обладнання та інвентар | D11: 773.12 | E11: =D11+C11 -> 773.12 | G11: 954.18 | H11: =G11+F11 -> 954.18 | J11: 810.72 | K11: =J11+I11 -> 810.72 | M11: 677.75 | N11: =M11+L11 -> 677.75 | P11: 1088.44 | Q11: =P11+O11 -> 1088.44 | S11: 508.44 | T11: =S11+R11 -> 508.44 | W11: =V11+U11 -> 0 | Y11: 453.1 | Z11: =Y11+X11 -> 453.1 | AB11: 1197.45 | AC11: =AB11+AA11 -> 1197.45 | AF11: =AD11+AE11 -> 0 | AI11: =AH11+AG11 -> 0 | AL11: =AK11+AJ11 -> 0 | AM11: =AJ11+AG11+AD11+AA11+X11+U11+R11+O11+L11+I11+F11+C11 -> 0 | AN11: =AK11+AH11+AE11+AB11+Y11+V11+S11+P11+M11+J11+G11+D11 -> 6463.2 | AO11: =AL11+AI11+AF11+AC11+Z11+W11+T11+Q11+N11+K11+H11+E11 -> 6463.2
A12: 2220 | B12: Медикаменти та перев'язувальні матеріали | E12: =D12+C12 -> 0 | H12: =G12+F12 -> 0 | K12: =J12+I12 -> 0 | N12: =M12+L12 -> 0 | Q12: =P12+O12 -> 0 | T12: =S12+R12 -> 0 | W12: =V12+U12 -> 0 | Z12: =Y12+X12 -> 0 | AC12: =AB12+AA12 -> 0 | AF12: =AD12+AE12 -> 0 | AI12: =AH12+AG12 -> 0 | AL12: =AK12+AJ12 -> 0 | AM12: =AJ12+AG12+AD12+AA12+X12+U12+R12+O12+L12+I12+F12+C12 -> 0 | AN12: =AK12+AH12+AE12+AB12+Y12+V12+S12+P12+M12+J12+G12+D12 -> 0 | AO12: =AL12+AI12+AF12+AC12+Z12+W12+T12+Q12+N12+K12+H12+E12 -> 0
A13: 2230 | B13: Продукти харчування | D13: 8800.29 | E13: =D13+C13 -> 8800.29 | G13: 18352.96 | H13: =G13+F13 -> 18352.96 | J13: 15951.59 | K13: =J13+I13 -> 15951.59 | M13: 22802.17 | N13: =M13+L13 -> 22802.17 | P13: 21151.79 | Q13: =P13+O13 -> 21151.79 | T13: =S13+R13 -> 0 | W13: =V13+U13 -> 0 | Z13: =Y13+X13 -> 0 | AB13: 26300.65 | AC13: =AB13+AA13 -> 26300.65 | AF13: =AD13+AE13 -> 0 | AI13: =AH13+AG13 -> 0 | AL13: =AK13+AJ13 -> 0 | AM13: =AJ13+AG13+AD13+AA13+X13+U13+R13+O13+L13+I13+F13+C13 -> 0 | AN13: =AK13+AH13+AE13+AB13+Y13+V13+S13+P13+M13+J13+G13+D13 -> 113359.45 | AO13: =AL13+AI13+AF13+AC13+Z13+W13+T13+Q13+N13+K13+H13+E13 -> 113359.45
A14: 2240 | B14: Оплата послуг (крім комунальних) | E14: =D14+C14 -> 0 | G14: =513.33+10000+2797.95 -> 13311.28 | H14: =G14+F14 -> 13311.28 | J14: =16783.72+3619.28+513.33 -> 20916.33 | K14: =J14+I14 -> 20916.33 | M14: =513.33+212916.86+5874.28 -> 219304.47 | N14: =M14+L14 -> 219304.47 | P14: =8307.42+9349.28+513.33 -> 18170.03 | Q14: =P14+O14 -> 18170.03 | S14: =210648.16+819.28+513.33 -> 211980.77 | T14: =S14+R14 -> 211980.77 | V14: =26034.85+3049.28+513.33 -> 29597.46 | W14: =V14+U14 -> 29597.46 | Y14: =513.33+81419.4+9866.28 -> 91799.01 | Z14: =Y14+X14 -> 91799.01 | AB14: =564881.41+819.28+513.33 -> 566214.02 | AC14: =AB14+AA14 -> 566214.02 | AF14: =AD14+AE14 -> 0 | AI14: =AH14+AG14 -> 0 | AL14: =AK14+AJ14 -> 0 | AM14: =AJ14+AG14+AD14+AA14+X14+U14+R14+O14+L14+I14+F14+C14 -> 0 | AN14: =AK14+AH14+AE14+AB14+Y14+V14+S14+P14+M14+J14+G14+D14 -> 1171293.4 | AO14: =AL14+AI14+AF14+AC14+Z14+W14+T14+Q14+N14+K14+H14+E14 -> 1171293.4
A15: 2250 | B15: Видатки на відрядження | E15: =D15+C15 -> 0 | H15: =G15+F15 -> 0 | K15: =J15+I15 -> 0 | N15: =M15+L15 -> 0 | Q15: =P15+O15 -> 0 | T15: =S15+R15 -> 0 | W15: =V15+U15 -> 0 | Z15: =Y15+X15 -> 0 | AC15: =AB15+AA15 -> 0 | AF15: =AD15+AE15 -> 0 | AI15: =AH15+AG15 -> 0 | AL15: =AK15+AJ15 -> 0 | AM15: =AJ15+AG15+AD15+AA15+X15+U15+R15+O15+L15+I15+F15+C15 -> 0 | AN15: =AK15+AH15+AE15+AB15+Y15+V15+S15+P15+M15+J15+G15+D15 -> 0 | AO15: =AL15+AI15+AF15+AC15+Z15+W15+T15+Q15+N15+K15+H15+E15 -> 0
A16: 2260 | B16: Видатки та заходи спеціального призначення | E16: =D16+C16 -> 0 | H16: =G16+F16 -> 0 | K16: =J16+I16 -> 0 | N16: =M16+L16 -> 0 | Q16: =P16+O16 -> 0 | T16: =S16+R16 -> 0 | W16: =V16+U16 -> 0 | Z16: =Y16+X16 -> 0 | AC16: =AB16+AA16 -> 0 | AF16: =AD16+AE16 -> 0 | AI16: =AH16+AG16 -> 0 | AL16: =AK16+AJ16 -> 0 | AM16: =AJ16+AG16+AD16+AA16+X16+U16+R16+O16+L16+I16+F16+C16 -> 0 | AN16: =AK16+AH16+AE16+AB16+Y16+V16+S16+P16+M16+J16+G16+D16 -> 0 | AO16: =AL16+AI16+AF16+AC16+Z16+W16+T16+Q16+N16+K16+H16+E16 -> 0
A17: 2271 | B17: Оплата теплопостачання | E17: =D17+C17 -> 0 | G17: =451555.51+123451.99+149343.3 -> 724350.8 | H17: =G17+F17 -> 724350.8 | J17: =343906.97+375527.1+69416.35 -> 788850.42 | K17: =J17+I17 -> 788850.42 | M17: =251314.29+27326.82 -> 278641.11 | N17: =M17+L17 -> 278641.11 | Q17: =P17+O17 -> 0 | T17: =S17+R17 -> 0 | W17: =V17+U17 -> 0 | Z17: =Y17+X17 -> 0 | AC17: =AB17+AA17 -> 0 | AF17: =AD17+AE17 -> 0 | AI17: =AH17+AG17 -> 0 | AL17: =AK17+AJ17 -> 0 | AM17: =AJ17+AG17+AD17+AA17+X17+U17+R17+O17+L17+I17+F17+C17 -> 0 | AN17: =AK17+AH17+AE17+AB17+Y17+V17+S17+P17+M17+J17+G17+D17 -> 1791842.3 | AO17: =AL17+AI17+AF17+AC17+Z17+W17+T17+Q17+N17+K17+H17+E17 -> 1791842.3
A18: 2272 | B18: Оплата водопостачання та водовідведення | D18: =6420.96+5150.88 -> 11571.84 | E18: =D18+C18 -> 11571.84 | G18: =7408.8+5292 -> 12700.8 | H18: =G18+F18 -> 12700.8 | J18: =8608.32-211.68 -> 8396.64 | K18: =J18+I18 -> 8396.64 | M18: =5997.6-211.68 -> 5785.92 | N18: =M18+L18 -> 5785.92 | P18: =7832.16-211.68 -> 7620.48 | Q18: =P18+O18 -> 7620.48 | S18: =6399.68+2518.27 -> 8917.95 | T18: =S18+R18 -> 8917.95 | V18: =5178.89-235.4 -> 4943.49 | W18: =V18+U18 -> 4943.49 | Y18: =3844.93 -> 3844.93 | Z18: =Y18+X18 -> 3844.93 | AB18: =4865.02-156.94 -> 4708.08 | AC18: =AB18+AA18 -> 4708.08 | AF18: =AD18+AE18 -> 0 | AI18: =AH18+AG18 -> 0 | AL18: =AK18+AJ18 -> 0 | AM18: =AJ18+AG18+AD18+AA18+X18+U18+R18+O18+L18+I18+F18+C18 -> 0 | AN18: =AK18+AH18+AE18+AB18+Y18+V18+S18+P18+M18+J18+G18+D18 -> 68490.13 | AO18: =AL18+AI18+AF18+AC18+Z18+W18+T18+Q18+N18+K18+H18+E18 -> 68490.13
A19: 2273 | B19: Оплата електроенергії | E19: =D19+C19 -> 0 | G19: =58442.88+49730.19 -> 108173.07 | H19: =G19+F19 -> 108173.07 | J19: =97971.42-3063.65 -> 94907.77 | K19: =J19+I19 -> 94907.77 | M19: =82170.78-2401.01 -> 79769.77 | N19: =M19+L19 -> 79769.77 | P19: =67100.81 -> 67100.81 | Q19: =P19+O19 -> 67100.81 | S19: =59629.95+6297.28 -> 65927.23 | T19: =S19+R19 -> 65927.23 | V19: =38687.8+628.1 -> 39315.9 | W19: =V19+U19 -> 39315.9 | Y19: =27517.78-46.5 -> 27471.28 | Z19: =Y19+X19 -> 27471.28 | AB19: =39770.53-150.87 -> 39619.66 | AC19: =AB19+AA19 -> 39619.66 | AF19: =AD19+AE19 -> 0 | AI19: =AH19+AG19 -> 0 | AL19: =AK19+AJ19 -> 0 | AM19: =AJ19+AG19+AD19+AA19+X19+U19+R19+O19+L19+I19+F19+C19 -> 0 | AN19: =AK19+AH19+AE19+AB19+Y19+V19+S19+P19+M19+J19+G19+D19 -> 522285.49 | AO19: =AL19+AI19+AF19+AC19+Z19+W19+T19+Q19+N19+K19+H19+E19 -> 522285.49
A20: 2274 | B20: Оплата природного газу | E20: =D20+C20 -> 0 | H20: =G20+F20 -> 0 | K20: =J20+I20 -> 0 | N20: =M20+L20 -> 0 | Q20: =P20+O20 -> 0 | T20: =S20+R20 -> 0 | W20: =V20+U20 -> 0 | Z20: =Y20+X20 -> 0 | AC20: =AB20+AA20 -> 0 | AF20: =AD20+AE20 -> 0 | AI20: =AH20+AG20 -> 0 | AL20: =AK20+AJ20 -> 0 | AM20: =AJ20+AG20+AD20+AA20+X20+U20+R20+O20+L20+I20+F20+C20 -> 0 | AN20: =AK20+AH20+AE20+AB20+Y20+V20+S20+P20+M20+J20+G20+D20 -> 0 | AO20: =AL20+AI20+AF20+AC20+Z20+W20+T20+Q20+N20+K20+H20+E20 -> 0
A21: 2275 | B21: Оплата інших енергоносіїв | D21: 1507.52 | E21: =D21+C21 -> 1507.52 | G21: =3722.01+251.51 -> 3973.52 | H21: =G21+F21 -> 3973.52 | J21: =2096.16-10.51 -> 2085.65 | K21: =J21+I21 -> 2085.65 | M21: =1431.73-10.51 -> 1421.22 | N21: =M21+L21 -> 1421.22 | P21: =2411.98+6989.49 -> 9401.47 | Q21: =P21+O21 -> 9401.47 | S21: =2096.16-10.51 -> 2085.65 | T21: =S21+R21 -> 2085.65 | V21: =2358.18+41.89 -> 2400.07 | W21: =V21+U21 -> 2400.07 | Y21: =3436.29-15.31 -> 3420.98 | Z21: =Y21+X21 -> 3420.98 | AB21: =3490.09-15.31 -> 3474.78 | AC21: =AB21+AA21 -> 3474.78 | AF21: =AD21+AE21 -> 0 | AI21: =AH21+AG21 -> 0 | AL21: =AK21+AJ21 -> 0 | AM21: =AJ21+AG21+AD21+AA21+X21+U21+R21+O21+L21+I21+F21+C21 -> 0 | AN21: =AK21+AH21+AE21+AB21+Y21+V21+S21+P21+M21+J21+G21+D21 -> 29770.86 | AO21: =AL21+AI21+AF21+AC21+Z21+W21+T21+Q21+N21+K21+H21+E21 -> 29770.86
A22: 2282 | B22: Окремі заходи по реалізації державних (регіональних) програм, не віднесені до заходів розвитку | E22: =D22+C22 -> 0 | H22: =G22+F22 -> 0 | K22: =J22+I22 -> 0 | N22: =M22+L22 -> 0 | Q22: =P22+O22 -> 0 | S22: 600 | T22: =S22+R22 -> 600 | W22: =V22+U22 -> 0 | Y22: 640 | Z22: =Y22+X22 -> 640 | AC22: =AB22+AA22 -> 0 | AF22: =AD22+AE22 -> 0 | AI22: =AH22+AG22 -> 0 | AL22: =AK22+AJ22 -> 0 | AM22: =AJ22+AG22+AD22+AA22+X22+U22+R22+O22+L22+I22+F22+C22 -> 0 | AN22: =AK22+AH22+AE22+AB22+Y22+V22+S22+P22+M22+J22+G22+D22 -> 1240 | AO22: =AL22+AI22+AF22+AC22+Z22+W22+T22+Q22+N22+K22+H22+E22 -> 1240
A23: 2700
A24: 2800 | B24: Інші поточні видатки | E24: =D24+C24 -> 0 | H24: =G24+F24 -> 0 | K24: =J24+I24 -> 0 | N24: =M24+L24 -> 0 | Q24: =P24+O24 -> 0 | T24: =S24+R24 -> 0 | W24: =V24+U24 -> 0 | Y24: 12723.72 | Z24: =Y24+X24 -> 12723.72 | AC24: =AB24+AA24 -> 0 | AF24: =AE24+AD24 -> 0 | AI24: =AH24+AG24 -> 0 | AL24: =AK24+AJ24 -> 0 | AM24: =AL24+AK24 -> 0 | AN24: =AK24+AH24+AE24+AB24+Y24+V24+S24+P24+M24+J24+G24+D24 -> 12723.72 | AO24: =AL24+AI24+AF24+AC24+Z24+W24+T24+Q24+N24+K24+H24+E24 -> 12723.72
A25: 3110 | B25: Придбання обладнання, предметів довгострокового користування | E25: =D25+C25 -> 0 | H25: =G25+F25 -> 0 | K25: =J25+I25 -> 0 | N25: =M25+L25 -> 0 | Q25: =P25+O25 -> 0 | T25: =S25+R25 -> 0 | W25: =V25+U25 -> 0 | Z25: =Y25+X25 -> 0 | AC25: =AB25+AA25 -> 0 | AF25: =AD25+AE25 -> 0 | AI25: =AH25+AG25 -> 0 | AL25: =AK25+AJ25 -> 0 | AM25: =AJ25+AG25+AD25+AA25+X25+U25+R25+O25+L25+I25+F25+C25 -> 0 | AN25: =AK25+AH25+AE25+AB25+Y25+V25+S25+P25+M25+J25+G25+D25 -> 0 | AO25: =AL25+AI25+AF25+AC25+Z25+W25+T25+Q25+N25+K25+H25+E25 -> 0
A26: 3132 | B26: Капітальний ремонт інших об'єктів | E26: =D26+C26 -> 0 | H26: =G26+F26 -> 0 | K26: =J26+I26 -> 0 | N26: =M26+L26 -> 0 | Q26: =P26+O26 -> 0 | T26: =S26+R26 -> 0 | W26: =V26+U26 -> 0 | Z26: =Y26+X26 -> 0 | AC26: =AB26+AA26 -> 0 | AF26: =AD26+AE26 -> 0 | AI26: =AH26+AG26 -> 0 | AL26: =AK26+AJ26 -> 0 | AM26: =AJ26+AG26+AD26+AA26+X26+U26+R26+O26+L26+I26+F26+C26 -> 0 | AN26: =AK26+AH26+AE26+AB26+Y26+V26+S26+P26+M26+J26+G26+D26 -> 0 | AO26: =AL26+AI26+AF26+AC26+Z26+W26+T26+Q26+N26+K26+H26+E26 -> 0
E27: =D27+C27 -> 0 | H27: =G27+F27 -> 0 | K27: =J27+I27 -> 0 | N27: =M27+L27 -> 0 | Q27: =P27+O27 -> 0 | T27: =S27+R27 -> 0 | W27: =V27+U27 -> 0 | Z27: =Y27+X27 -> 0 | AC27: =AB27+AA27 -> 0 | AF27: =AD27+AE27 -> 0 | AI27: =AH27+AG27 -> 0 | AL27: =AK27+AJ27 -> 0 | AM27: =AJ27+AG27+AD27+AA27+X27+U27+R27+O27+L27+I27+F27+C27 -> 0 | AN27: =AK27+AH27+AE27+AB27+Y27+V27+S27+P27+M27+J27+G27+D27 -> 0 | AO27: =AL27+AI27+AF27+AC27+Z27+W27+T27+Q27+N27+K27+H27+E27 -> 0
A28: 2730 | E28: =D28+C28 -> 0 | H28: =G28+F28 -> 0 | K28: =J28+I28 -> 0 | N28: =M28+L28 -> 0 | Q28: =P28+O28 -> 0 | T28: =S28+R28 -> 0 | W28: =V28+U28 -> 0 | Z28: =Y28+X28 -> 0 | AC28: =AB28+AA28 -> 0 | AF28: =AD28+AE28 -> 0 | AI28: =AH28+AG28 -> 0 | AL28: =AK28+AJ28 -> 0 | AM28: =AJ28+AG28+AD28+AA28+X28+U28+R28+O28+L28+I28+F28+C28 -> 0 | AN28: =AK28+AH28+AE28+AB28+Y28+V28+S28+P28+M28+J28+G28+D28 -> 0 | AO28: =AL28+AI28+AF28+AC28+Z28+W28+T28+Q28+N28+K28+H28+E28 -> 0
A29: 7520 | B29: Реалізація Національної програми інформатизації | E29: =D29+C29 -> 0 | G29: 1516 | H29: =G29+F29 -> 1516 | J29: 1516 | K29: =J29+I29 -> 1516 | M29: 2441 | N29: =M29+L29 -> 2441 | P29: 1516 | Q29: =P29+O29 -> 1516 | S29: 1516 | T29: =S29+R29 -> 1516 | V29: 2441 | W29: =V29+U29 -> 2441 | Y29: 1516 | Z29: =Y29+X29 -> 1516 | AB29: 1516 | AC29: =AB29+AA29 -> 1516 | AF29: =AD29+AE29 -> 0 | AI29: =AH29+AG29 -> 0 | AL29: =AK29+AJ29 -> 0 | AM29: =AJ29+AG29+AD29+AA29+X29+U29+R29+O29+L29+I29+F29+C29 -> 0 | AN29: =AK29+AH29+AE29+AB29+Y29+V29+S29+P29+M29+J29+G29+D29 -> 13978 | AO29: =AL29+AI29+AF29+AC29+Z29+W29+T29+Q29+N29+K29+H29+E29 -> 13978
B30: Всього | C30: =SUM(C9:C28) -> 0 | D30: =SUM(D9:D28) -> 379998.36 | E30: =SUM(E9:E28) -> 379998.36 | F30: =SUM(F9:F28) -> 0 | G30: =SUM(G9:G29) -> 1252054.6 | H30: =SUM(H9:H29) -> 1252054.6 | I30: =SUM(I9:I28) -> 0 | J30: =SUM(J9:J28) -> 1302420.3 | K30: =J30+I30 -> 1302420.3 | L30: =SUM(L9:L28) -> 0 | M30: =SUM(M9:M28) -> 959667.98 | N30: =M30+L30 -> 959667.98 | O30: =SUM(O9:O28) -> 0 | P30: =SUM(P9:P28) -> 480787.45 | Q30: =P30+O30 -> 480787.45 | R30: =SUM(R9:R28) -> 0 | S30: =SUM(S9:S28) -> 670071.65 | T30: =S30+R30 -> 670071.65 | U30: =SUM(U9:U28) -> 0 | V30: =SUM(V9:V28) -> 415038.03 | W30: =V30+U30 -> 415038.03 | X30: =SUM(X9:X28) -> 0 | Y30: =SUM(Y9:Y28) -> 426574.1 | Z30: =Y30+X30 -> 426574.1 | AA30: =SUM(AA9:AA28) -> 0 | AB30: =SUM(AB9:AB28) -> 995489.52 | AC30: =AB30+AA30 -> 995489.52 | AD30: =SUM(AD9:AD28) -> 0 | AE30: =SUM(AE9:AE28) -> 0 | AF30: =AD30+AE30 -> 0 | AG30: =SUM(AG9:AG28) -> 0 | AH30: =SUM(AH9:AH28) -> 0 | AI30: =AH30+AG30 -> 0 | AJ30: =SUM(AJ9:AJ28) -> 0 | AK30: =SUM(AK9:AK28) -> 0 | AL30: =AK30+AJ30 -> 0 | AM30: =SUM(AM9:AM28) -> 0 | AN30: =SUM(AN9:AN28) -> 6880586 | AO30: =SUM(AO9:AO28) -> 6880586
A33: Керівник
A35: Виконавець(ПІБ,тел.)

Sheet 45
R1: Додаток 3
R2: до наказу управління освіти і науки
R3: виконкому міської ради
A4: Інформація
A5: щодо фактичного використання бюджетних коштів у 2026
A6: Криворізька гімназія №45 Криворізької міської ради
C7: Січень | F7: Лютий | I7: Березень | L7: Квітень | O7: Травень | R7: Червень | U7: Липень | X7: Серпень | AA7: Вересень | AD7: Жовтень | AG7: Листопад | AJ7: Грудень | AM7: Разом
C8: державний | D8: місцевий | E8: разом | F8: державний | G8: місцевий | H8: разом | I8: державний | J8: місцевий | K8: разом | L8: державний | M8: місцевий | N8: разом | O8: державний | P8: місцевий | Q8: разом | R8: державний | S8: місцевий | T8: разом | U8: державний | V8: місцевий | W8: разом | X8: державний | Y8: місцевий | Z8: разом | AA8: державний | AB8: місцевий | AC8: разом | AD8: державний | AE8: місцевий | AF8: разом | AG8: державний | AH8: місцевий | AI8: разом | AJ8: державний | AK8: місцевий | AL8: разом | AM8: державний | AN8: місцевий | AO8: разом
A9: 2111 | B9: Заробітна плата | D9: 199878.75 | E9: =D9+C9 -> 199878.75 | G9: 204192.94 | H9: =G9+F9 -> 204192.94 | J9: 204856.43 | K9: =J9+I9 -> 204856.43 | M9: 211793.43 | N9: =M9+L9 -> 211793.43 | P9: 210304.74 | Q9: =P9+O9 -> 210304.74 | S9: 253005.12 | T9: =S9+R9 -> 253005.12 | V9: 201922.05 | W9: =V9+U9 -> 201922.05 | Y9: 178923.88 | Z9: =Y9+X9 -> 178923.88 | AB9: 235955.27 | AC9: =AB9+AA9 -> 235955.27 | AF9: =AD9+AE9 -> 0 | AI9: =AG9+AH9 -> 0 | AL9: =AK9+AJ9 -> 0 | AM9: =AJ9+AG9+AD9+AA9+X9+U9+R9+O9+L9+I9+F9+C9 -> 0 | AN9: =AK9+AH9+AE9+AB9+Y9+V9+S9+P9+M9+J9+G9+D9 -> 1900832.6 | AO9: =AL9+AI9+AF9+AC9+Z9+W9+T9+Q9+N9+K9+H9+E9 -> 1900832.6
A10: 2120 | B10: Нарахування на оплату праці | D10: 45124.55 | E10: =D10+C10 -> 45124.55 | G10: 42276.04 | H10: =G10+F10 -> 42276.04 | J10: 47390.48 | K10: =J10+I10 -> 47390.48 | M10: 49219.69 | N10: =M10+L10 -> 49219.69 | P10: 47570.98 | Q10: =P10+O10 -> 47570.98 | S10: 54425.43 | T10: =S10+R10 -> 54425.43 | V10: 41651.3 | W10: =V10+U10 -> 41651.3 | Y10: 42257.3 | Z10: =Y10+X10 -> 42257.3 | AB10: 49017.67 | AC10: =AB10+AA10 -> 49017.67 | AF10: =AD10+AE10 -> 0 | AI10: =AG10+AH10 -> 0 | AL10: =AK10+AJ10 -> 0 | AM10: =AJ10+AG10+AD10+AA10+X10+U10+R10+O10+L10+I10+F10+C10 -> 0 | AN10: =AK10+AH10+AE10+AB10+Y10+V10+S10+P10+M10+J10+G10+D10 -> 418933.44 | AO10: =AL10+AI10+AF10+AC10+Z10+W10+T10+Q10+N10+K10+H10+E10 -> 418933.44
A11: 2210 | B11: Предмети, матеріали, обладнання та інвентар | D11: 1993.21 | E11: =D11+C11 -> 1993.21 | G11: 1437.49 | H11: =G11+F11 -> 1437.49 | J11: 548.46 | K11: =J11+I11 -> 548.46 | M11: 625.96 | N11: =M11+L11 -> 625.96 | P11: 1563.18 | Q11: =P11+O11 -> 1563.18 | S11: 606.5 | T11: =S11+R11 -> 606.5 | W11: =V11+U11 -> 0 | Y11: 1544.75 | Z11: =Y11+X11 -> 1544.75 | AB11: 2172.53 | AC11: =AB11+AA11 -> 2172.53 | AF11: =AD11+AE11 -> 0 | AI11: =AG11+AH11 -> 0 | AL11: =AK11+AJ11 -> 0 | AM11: =AJ11+AG11+AD11+AA11+X11+U11+R11+O11+L11+I11+F11+C11 -> 0 | AN11: =AK11+AH11+AE11+AB11+Y11+V11+S11+P11+M11+J11+G11+D11 -> 10492.08 | AO11: =AL11+AI11+AF11+AC11+Z11+W11+T11+Q11+N11+K11+H11+E11 -> 10492.08
A12: 2220 | B12: Медикаменти та перев'язувальні матеріали | D12: 888.66 | E12: =D12+C12 -> 888.66 | G12: 906.18 | H12: =G12+F12 -> 906.18 | J12: 892.9 | K12: =J12+I12 -> 892.9 | M12: 874.8 | N12: =M12+L12 -> 874.8 | P12: 1065.24 | Q12: =P12+O12 -> 1065.24 | S12: 493.68 | T12: =S12+R12 -> 493.68 | V12: 295.68 | W12: =V12+U12 -> 295.68 | Y12: 1863.92 | Z12: =Y12+X12 -> 1863.92 | AB12: 2168.16 | AC12: =AB12+AA12 -> 2168.16 | AF12: =AD12+AE12 -> 0 | AI12: =AG12+AH12 -> 0 | AL12: =AK12+AJ12 -> 0 | AM12: =AJ12+AG12+AD12+AA12+X12+U12+R12+O12+L12+I12+F12+C12 -> 0 | AN12: =AK12+AH12+AE12+AB12+Y12+V12+S12+P12+M12+J12+G12+D12 -> 9449.22 | AO12: =AL12+AI12+AF12+AC12+Z12+W12+T12+Q12+N12+K12+H12+E12 -> 9449.22
A13: 2230 | B13: Продукти харчування | D13: 6651.66 | E13: =D13+C13 -> 6651.66 | G13: 12551.1 | H13: =G13+F13 -> 12551.1 | J13: 11853.06 | K13: =J13+I13 -> 11853.06 | M13: 14902.68 | N13: =M13+L13 -> 14902.68 | P13: 12902.19 | Q13: =P13+O13 -> 12902.19 | T13: =S13+R13 -> 0 | W13: =V13+U13 -> 0 | Z13: =Y13+X13 -> 0 | AB13: 15892.96 | AC13: =AB13+AA13 -> 15892.96 | AF13: =AD13+AE13 -> 0 | AI13: =AG13+AH13 -> 0 | AL13: =AK13+AJ13 -> 0 | AM13: =AJ13+AG13+AD13+AA13+X13+U13+R13+O13+L13+I13+F13+C13 -> 0 | AN13: =AK13+AH13+AE13+AB13+Y13+V13+S13+P13+M13+J13+G13+D13 -> 74753.65 | AO13: =AL13+AI13+AF13+AC13+Z13+W13+T13+Q13+N13+K13+H13+E13 -> 74753.65
A14: 2240 | B14: Оплата послуг (крім комунальних) | E14: =D14+C14 -> 0 | G14: =150+7200 -> 7350 | H14: =G14+F14 -> 7350 | J14: =14749.68+150 -> 14899.68 | K14: =J14+I14 -> 14899.68 | M14: =150+16191.38 -> 16341.38 | N14: =M14+L14 -> 16341.38 | P14: =9547.38+150 -> 9697.38 | Q14: =P14+O14 -> 9697.38 | S14: =25119.24+150 -> 25269.24 | T14: =S14+R14 -> 25269.24 | V14: =167937.22+150 -> 168087.22 | W14: =V14+U14 -> 168087.22 | Y14: =150+13627.78 -> 13777.78 | Z14: =Y14+X14 -> 13777.78 | AB14: =13334.38+150 -> 13484.38 | AC14: =AB14+AA14 -> 13484.38 | AF14: =AD14+AE14 -> 0 | AI14: =AG14+AH14 -> 0 | AL14: =AK14+AJ14 -> 0 | AM14: =AJ14+AG14+AD14+AA14+X14+U14+R14+O14+L14+I14+F14+C14 -> 0 | AN14: =AK14+AH14+AE14+AB14+Y14+V14+S14+P14+M14+J14+G14+D14 -> 268907.06 | AO14: =AL14+AI14+AF14+AC14+Z14+W14+T14+Q14+N14+K14+H14+E14 -> 268907.06
A15: 2250 | B15: Видатки на відрядження | E15: =D15+C15 -> 0 | H15: =G15+F15 -> 0 | K15: =J15+I15 -> 0 | N15: =M15+L15 -> 0 | Q15: =P15+O15 -> 0 | T15: =S15+R15 -> 0 | W15: =V15+U15 -> 0 | Z15: =Y15+X15 -> 0 | AC15: =AB15+AA15 -> 0 | AF15: =AD15+AE15 -> 0 | AI15: =AG15+AH15 -> 0 | AL15: =AK15+AJ15 -> 0 | AM15: =AJ15+AG15+AD15+AA15+X15+U15+R15+O15+L15+I15+F15+C15 -> 0 | AN15: =AK15+AH15+AE15+AB15+Y15+V15+S15+P15+M15+J15+G15+D15 -> 0 | AO15: =AL15+AI15+AF15+AC15+Z15+W15+T15+Q15+N15+K15+H15+E15 -> 0
A16: 2260 | B16: Видатки та заходи спеціального призначення | E16: =D16+C16 -> 0 | H16: =G16+F16 -> 0 | K16: =J16+I16 -> 0 | N16: =M16+L16 -> 0 | Q16: =P16+O16 -> 0 | T16: =S16+R16 -> 0 | W16: =V16+U16 -> 0 | Z16: =Y16+X16 -> 0 | AC16: =AB16+AA16 -> 0 | AF16: =AD16+AE16 -> 0 | AI16: =AG16+AH16 -> 0 | AL16: =AK16+AJ16 -> 0 | AM16: =AJ16+AG16+AD16+AA16+X16+U16+R16+O16+L16+I16+F16+C16 -> 0 | AN16: =AK16+AH16+AE16+AB16+Y16+V16+S16+P16+M16+J16+G16+D16 -> 0 | AO16: =AL16+AI16+AF16+AC16+Z16+W16+T16+Q16+N16+K16+H16+E16 -> 0
A17: 2271 | B17: Оплата теплопостачання | E17: =D17+C17 -> 0 | G17: 434588.45 | H17: =G17+F17 -> 434588.45 | J17: 563651.67 | K17: =J17+I17 -> 563651.67 | M17: 157490.29 | N17: =M17+L17 -> 157490.29 | Q17: =P17+O17 -> 0 | T17: =S17+R17 -> 0 | W17: =V17+U17 -> 0 | Z17: =Y17+X17 -> 0 | AC17: =AB17+AA17 -> 0 | AF17: =AD17+AE17 -> 0 | AI17: =AG17+AH17 -> 0 | AL17: =AK17+AJ17 -> 0 | AM17: =AJ17+AG17+AD17+AA17+X17+U17+R17+O17+L17+I17+F17+C17 -> 0 | AN17: =AK17+AH17+AE17+AB17+Y17+V17+S17+P17+M17+J17+G17+D17 -> 1155730.4 | AO17: =AL17+AI17+AF17+AC17+Z17+W17+T17+Q17+N17+K17+H17+E17 -> 1155730.4
A18: 2272 | B18: Оплата водопостачання та водовідведення | D18: 5574.24 | E18: =D18+C18 -> 5574.24 | G18: 8749.44 | H18: =G18+F18 -> 8749.44 | J18: 15523.2 | K18: =J18+I18 -> 15523.2 | M18: 5150.88 | N18: =M18+L18 -> 5150.88 | P18: 10090.08 | Q18: =P18+O18 -> 10090.08 | S18: 7646.04 | T18: =S18+R18 -> 7646.04 | V18: 3766.46 | W18: =V18+U18 -> 3766.46 | Y18: 3138.72 | Z18: =Y18+X18 -> 3138.72 | AB18: 6748.24 | AC18: =AB18+AA18 -> 6748.24 | AF18: =AD18+AE18 -> 0 | AI18: =AG18+AH18 -> 0 | AL18: =AK18+AJ18 -> 0 | AM18: =AJ18+AG18+AD18+AA18+X18+U18+R18+O18+L18+I18+F18+C18 -> 0 | AN18: =AK18+AH18+AE18+AB18+Y18+V18+S18+P18+M18+J18+G18+D18 -> 66387.3 | AO18: =AL18+AI18+AF18+AC18+Z18+W18+T18+Q18+N18+K18+H18+E18 -> 66387.3
A19: 2273 | B19: Оплата електроенергії | E19: =D19+C19 -> 0 | G19: 71568.48 | H19: =G19+F19 -> 71568.48 | J19: 83511.56 | K19: =J19+I19 -> 83511.56 | M19: 48737.18 | N19: =M19+L19 -> 48737.18 | P19: 53982.27 | Q19: =P19+O19 -> 53982.27 | S19: 47104.58 | T19: =S19+R19 -> 47104.58 | V19: 9466.17 | W19: =V19+U19 -> 9466.17 | Y19: 7811.74 | Z19: =Y19+X19 -> 7811.74 | AB19: 4398.32 | AC19: =AB19+AA19 -> 4398.32 | AF19: =AD19+AE19 -> 0 | AI19: =AG19+AH19 -> 0 | AL19: =AK19+AJ19 -> 0 | AM19: =AJ19+AG19+AD19+AA19+X19+U19+R19+O19+L19+I19+F19+C19 -> 0 | AN19: =AK19+AH19+AE19+AB19+Y19+V19+S19+P19+M19+J19+G19+D19 -> 326580.3 | AO19: =AL19+AI19+AF19+AC19+Z19+W19+T19+Q19+N19+K19+H19+E19 -> 326580.3
A20: 2274 | B20: Оплата природного газу | E20: =D20+C20 -> 0 | H20: =G20+F20 -> 0 | K20: =J20+I20 -> 0 | N20: =M20+L20 -> 0 | Q20: =P20+O20 -> 0 | T20: =S20+R20 -> 0 | W20: =V20+U20 -> 0 | Z20: =Y20+X20 -> 0 | AC20: =AB20+AA20 -> 0 | AF20: =AD20+AE20 -> 0 | AI20: =AG20+AH20 -> 0 | AL20: =AK20+AJ20 -> 0 | AM20: =AJ20+AG20+AD20+AA20+X20+U20+R20+O20+L20+I20+F20+C20 -> 0 | AN20: =AK20+AH20+AE20+AB20+Y20+V20+S20+P20+M20+J20+G20+D20 -> 0 | AO20: =AL20+AI20+AF20+AC20+Z20+W20+T20+Q20+N20+K20+H20+E20 -> 0
A21: 2275 | B21: Оплата інших енергоносіїв | E21: =D21+C21 -> 0 | G21: 2358.18 | H21: =G21+F21 -> 2358.18 | J21: 2122.95 | K21: =J21+I21 -> 2122.95 | M21: 2358.18 | N21: =M21+L21 -> 2358.18 | P21: 16384.97 | Q21: =P21+O21 -> 16384.97 | S21: 1834.14 | T21: =S21+R21 -> 1834.14 | V21: 7958.18 | W21: =V21+U21 -> 7958.18 | Y21: 9736.29 | Z21: =Y21+X21 -> 9736.29 | AB21: 3365.89 | AC21: =AB21+AA21 -> 3365.89 | AF21: =AD21+AE21 -> 0 | AI21: =AG21+AH21 -> 0 | AL21: =AK21+AJ21 -> 0 | AM21: =AJ21+AG21+AD21+AA21+X21+U21+R21+O21+L21+I21+F21+C21 -> 0 | AN21: =AK21+AH21+AE21+AB21+Y21+V21+S21+P21+M21+J21+G21+D21 -> 46118.78 | AO21: =AL21+AI21+AF21+AC21+Z21+W21+T21+Q21+N21+K21+H21+E21 -> 46118.78
A22: 2282 | B22: Окремі заходи по реалізації державних (регіональних) програм, не віднесені до заходів розвитку | E22: =D22+C22 -> 0 | H22: =G22+F22 -> 0 | K22: =J22+I22 -> 0 | N22: =M22+L22 -> 0 | Q22: =P22+O22 -> 0 | S22: 600 | T22: =S22+R22 -> 600 | W22: =V22+U22 -> 0 | Y22: 1340 | Z22: =Y22+X22 -> 1340 | AC22: =AB22+AA22 -> 0 | AF22: =AD22+AE22 -> 0 | AI22: =AG22+AH22 -> 0 | AL22: =AK22+AJ22 -> 0 | AM22: =AJ22+AG22+AD22+AA22+X22+U22+R22+O22+L22+I22+F22+C22 -> 0 | AN22: =AK22+AH22+AE22+AB22+Y22+V22+S22+P22+M22+J22+G22+D22 -> 1940 | AO22: =AL22+AI22+AF22+AC22+Z22+W22+T22+Q22+N22+K22+H22+E22 -> 1940
A23: 2700
A24: 2800 | B24: Інші поточні видатки | E24: =D24+C24 -> 0 | H24: =G24+F24 -> 0 | K24: =J24+I24 -> 0 | N24: =M24+L24 -> 0 | P24: 9735.2 | Q24: =P24+O24 -> 9735.2 | T24: =S24+R24 -> 0 | W24: =V24+U24 -> 0 | Y24: -12723.72 | Z24: =Y24+X24 -> -12723.72 | AC24: =AB24+AA24 -> 0 | AF24: =AE24+AD24 -> 0 | AI24: =AH24+AG24 -> 0 | AL24: =AK24+AJ24 -> 0 | AM24: =AL24+AK24 -> 0 | AN24: =AK24+AH24+AE24+AB24+Y24+V24+S24+P24+M24+J24+G24+D24 -> -2988.52 | AO24: =AL24+AI24+AF24+AC24+Z24+W24+T24+Q24+N24+K24+H24+E24 -> -2988.52
A25: 3110 | B25: Придбання обладнання, предметів довгострокового користування | E25: =D25+C25 -> 0 | H25: =G25+F25 -> 0 | K25: =J25+I25 -> 0 | N25: =M25+L25 -> 0 | Q25: =P25+O25 -> 0 | T25: =S25+R25 -> 0 | W25: =V25+U25 -> 0 | Z25: =Y25+X25 -> 0 | AC25: =AB25+AA25 -> 0 | AF25: =AD25+AE25 -> 0 | AI25: =AG25+AH25 -> 0 | AL25: =AK25+AJ25 -> 0 | AM25: =AJ25+AG25+AD25+AA25+X25+U25+R25+O25+L25+I25+F25+C25 -> 0 | AN25: =AK25+AH25+AE25+AB25+Y25+V25+S25+P25+M25+J25+G25+D25 -> 0 | AO25: =AL25+AI25+AF25+AC25+Z25+W25+T25+Q25+N25+K25+H25+E25 -> 0
A26: 3132 | B26: Капітальний ремонт інших об'єктів | E26: =D26+C26 -> 0 | H26: =G26+F26 -> 0 | K26: =J26+I26 -> 0 | N26: =M26+L26 -> 0 | Q26: =P26+O26 -> 0 | T26: =S26+R26 -> 0 | W26: =V26+U26 -> 0 | Z26: =Y26+X26 -> 0 | AC26: =AB26+AA26 -> 0 | AF26: =AD26+AE26 -> 0 | AI26: =AG26+AH26 -> 0 | AL26: =AK26+AJ26 -> 0 | AM26: =AJ26+AG26+AD26+AA26+X26+U26+R26+O26+L26+I26+F26+C26 -> 0 | AN26: =AK26+AH26+AE26+AB26+Y26+V26+S26+P26+M26+J26+G26+D26 -> 0 | AO26: =AL26+AI26+AF26+AC26+Z26+W26+T26+Q26+N26+K26+H26+E26 -> 0
E27: =D27+C27 -> 0 | H27: =G27+F27 -> 0 | K27: =J27+I27 -> 0 | N27: =M27+L27 -> 0 | Q27: =P27+O27 -> 0 | T27: =S27+R27 -> 0 | W27: =V27+U27 -> 0 | Z27: =Y27+X27 -> 0 | AC27: =AB27+AA27 -> 0 | AF27: =AD27+AE27 -> 0 | AI27: =AG27+AH27 -> 0 | AL27: =AK27+AJ27 -> 0 | AM27: =AJ27+AG27+AD27+AA27+X27+U27+R27+O27+L27+I27+F27+C27 -> 0 | AN27: =AK27+AH27+AE27+AB27+Y27+V27+S27+P27+M27+J27+G27+D27 -> 0 | AO27: =AL27+AI27+AF27+AC27+Z27+W27+T27+Q27+N27+K27+H27+E27 -> 0
A28: 2730 | E28: =D28+C28 -> 0 | H28: =G28+F28 -> 0 | K28: =J28+I28 -> 0 | N28: =M28+L28 -> 0 | Q28: =P28+O28 -> 0 | T28: =S28+R28 -> 0 | W28: =V28+U28 -> 0 | Z28: =Y28+X28 -> 0 | AC28: =AB28+AA28 -> 0 | AF28: =AD28+AE28 -> 0 | AI28: =AG28+AH28 -> 0 | AL28: =AK28+AJ28 -> 0 | AM28: =AJ28+AG28+AD28+AA28+X28+U28+R28+O28+L28+I28+F28+C28 -> 0 | AN28: =AK28+AH28+AE28+AB28+Y28+V28+S28+P28+M28+J28+G28+D28 -> 0 | AO28: =AL28+AI28+AF28+AC28+Z28+W28+T28+Q28+N28+K28+H28+E28 -> 0
A29: 7520 | B29: Реалізація Національної програми інформатизації | E29: =D29+C29 -> 0 | G29: 1516 | H29: =G29+F29 -> 1516 | J29: 1516 | K29: =J29+I29 -> 1516 | M29: 2616 | N29: =M29+L29 -> 2616 | P29: 1516 | Q29: =P29+O29 -> 1516 | S29: 1516 | T29: =S29+R29 -> 1516 | V29: 2616 | W29: =V29+U29 -> 2616 | Y29: 1516 | Z29: =Y29+X29 -> 1516 | AB29: 1516 | AC29: =AB29+AA29 -> 1516 | AF29: =AD29+AE29 -> 0 | AI29: =AG29+AH29 -> 0 | AL29: =AK29+AJ29 -> 0 | AM29: =AJ29+AG29+AD29+AA29+X29+U29+R29+O29+L29+I29+F29+C29 -> 0 | AN29: =AK29+AH29+AE29+AB29+Y29+V29+S29+P29+M29+J29+G29+D29 -> 14328 | AO29: =AL29+AI29+AF29+AC29+Z29+W29+T29+Q29+N29+K29+H29+E29 -> 14328
B30: Всього | C30: =SUM(C9:C28) -> 0 | D30: =SUM(D9:D28) -> 260111.07 | E30: =SUM(E9:E28) -> 260111.07 | F30: =SUM(F9:F28) -> 0 | G30: =SUM(G9:G29) -> 787494.3 | H30: =SUM(H9:H29) -> 787494.3 | I30: =SUM(I9:I28) -> 0 | J30: =SUM(J9:J28) -> 945250.39 | K30: =J30+I30 -> 945250.39 | L30: =SUM(L9:L28) -> 0 | M30: =SUM(M9:M28) -> 507494.47 | N30: =M30+L30 -> 507494.47 | O30: =SUM(O9:O28) -> 0 | P30: =SUM(P9:P28) -> 373296.23 | Q30: =P30+O30 -> 373296.23 | R30: =SUM(R9:R28) -> 0 | S30: =SUM(S9:S28) -> 390984.73 | T30: =S30+R30 -> 390984.73 | U30: =SUM(U9:U28) -> 0 | V30: =SUM(V9:V28) -> 433147.06 | W30: =V30+U30 -> 433147.06 | X30: =SUM(X9:X28) -> 0 | Y30: =SUM(Y9:Y28) -> 247670.66 | Z30: =Y30+X30 -> 247670.66 | AA30: =SUM(AA9:AA28) -> 0 | AB30: =SUM(AB9:AB28) -> 333203.42 | AC30: =AB30+AA30 -> 333203.42 | AD30: =SUM(AD9:AD28) -> 0 | AE30: =SUM(AE9:AE28) -> 0 | AF30: =AD30+AE30 -> 0 | AG30: =SUM(AG9:AG28) -> 0 | AH30: =SUM(AH9:AH28) -> 0 | AI30: =AH30+AG30 -> 0 | AJ30: =SUM(AJ9:AJ28) -> 0 | AK30: =SUM(AK9:AK28) -> 0 | AL30: =SUM(AL9:AL28) -> 0 | AM30: =SUM(AM9:AM28) -> 0 | AN30: =SUM(AN9:AN28) -> 4277136.3 | AO30: =SUM(AO9:AO28) -> 4277136.3
A33: Керівник
A35: Виконавець(ПІБ,тел.)

Sheet 48
R1: Додаток 3
R2: до наказу управління освіти і науки
R3: виконкому міської ради
A4: Інформація
A5: щодо фактичного використання бюджетних коштів у 2026
A6: Криворізька гімназія №48 Криворізької міської ради
C7: Січень | F7: Лютий | I7: Березень | L7: Квітень | O7: Травень | R7: Червень | U7: Липень | X7: Серпень | AA7: Вересень | AD7: Жовтень | AG7: Листопад | AJ7: Грудень | AM7: Разом
C8: державний | D8: місцевий | E8: разом | F8: державний | G8: місцевий | H8: разом | I8: державний | J8: місцевий | K8: разом | L8: державний | M8: місцевий | N8: разом | O8: державний | P8: місцевий | Q8: разом | R8: державний | S8: місцевий | T8: разом | U8: державний | V8: місцевий | W8: разом | X8: державний | Y8: місцевий | Z8: разом | AA8: державний | AB8: місцевий | AC8: разом | AD8: державний | AE8: місцевий | AF8: разом | AG8: державний | AH8: місцевий | AI8: разом | AJ8: державний | AK8: місцевий | AL8: разом | AM8: державний | AN8: місцевий | AO8: разом
A9: 2111 | B9: Заробітна плата | D9: 145813.96 | E9: =D9+C9 -> 145813.96 | G9: 121844.12 | H9: =G9+F9 -> 121844.12 | J9: 148032.56 | K9: =J9+I9 -> 148032.56 | M9: 163057.05 | N9: =M9+L9 -> 163057.05 | P9: 154155.29 | Q9: =P9+O9 -> 154155.29 | S9: 162254.89 | T9: =S9+R9 -> 162254.89 | V9: 143654.02 | W9: =V9+U9 -> 143654.02 | Y9: 126289.38 | Z9: =Y9+X9 -> 126289.38 | AB9: 176254.77 | AC9: =AB9+AA9 -> 176254.77 | AF9: =AD9+AE9 -> 0 | AI9: =AG9+AH9 -> 0 | AL9: =AK9+AJ9 -> 0 | AM9: =AJ9+AG9+AD9+AA9+X9+U9+R9+O9+L9+I9+F9+C9 -> 0 | AN9: =AK9+AH9+AE9+AB9+Y9+V9+S9+P9+M9+J9+G9+D9 -> 1341356 | AO9: =AL9+AI9+AF9+AC9+Z9+W9+T9+Q9+N9+K9+H9+E9 -> 1341356
A10: 2120 | B10: Нарахування на оплату праці | D10: 34535.96 | E10: =D10+C10 -> 34535.96 | G10: 28400.3 | H10: =G10+F10 -> 28400.3 | J10: 38426.66 | K10: =J10+I10 -> 38426.66 | M10: 37900.46 | N10: =M10+L10 -> 37900.46 | P10: 35520.76 | Q10: =P10+O10 -> 35520.76 | S10: 37437.21 | T10: =S10+R10 -> 37437.21 | V10: 34902.39 | W10: =V10+U10 -> 34902.39 | Y10: 31045.89 | Z10: =Y10+X10 -> 31045.89 | AB10: 42049.16 | AC10: =AB10+AA10 -> 42049.16 | AF10: =AD10+AE10 -> 0 | AI10: =AG10+AH10 -> 0 | AL10: =AK10+AJ10 -> 0 | AM10: =AJ10+AG10+AD10+AA10+X10+U10+R10+O10+L10+I10+F10+C10 -> 0 | AN10: =AK10+AH10+AE10+AB10+Y10+V10+S10+P10+M10+J10+G10+D10 -> 320218.79 | AO10: =AL10+AI10+AF10+AC10+Z10+W10+T10+Q10+N10+K10+H10+E10 -> 320218.79
A11: 2210 | B11: Предмети, матеріали, обладнання та інвентар | D11: 590.4 | E11: =D11+C11 -> 590.4 | G11: 952.7 | H11: =G11+F11 -> 952.7 | J11: 410.84 | K11: =J11+I11 -> 410.84 | M11: 467.21 | N11: =M11+L11 -> 467.21 | P11: 906.2 | Q11: =P11+O11 -> 906.2 | S11: -97798.48 | T11: =S11+R11 -> -97798.48 | W11: =V11+U11 -> 0 | Y11: 2542.19 | Z11: =Y11+X11 -> 2542.19 | AB11: 2823.87 | AC11: =AB11+AA11 -> 2823.87 | AF11: =AD11+AE11 -> 0 | AI11: =AG11+AH11 -> 0 | AL11: =AK11+AJ11 -> 0 | AM11: =AJ11+AG11+AD11+AA11+X11+U11+R11+O11+L11+I11+F11+C11 -> 0 | AN11: =AK11+AH11+AE11+AB11+Y11+V11+S11+P11+M11+J11+G11+D11 -> -89105.07 | AO11: =AL11+AI11+AF11+AC11+Z11+W11+T11+Q11+N11+K11+H11+E11 -> -89105.07
A12: 2220 | B12: Медикаменти та перев'язувальні матеріали | D12: 896.34 | E12: =D12+C12 -> 896.34 | G12: 48.23 | H12: =G12+F12 -> 48.23 | J12: 1602.23 | K12: =J12+I12 -> 1602.23 | M12: 72.34 | N12: =M12+L12 -> 72.34 | P12: 837.12 | Q12: =P12+O12 -> 837.12 | S12: 48.23 | T12: =S12+R12 -> 48.23 | W12: =V12+U12 -> 0 | Z12: =Y12+X12 -> 0 | AB12: 168.3 | AC12: =AB12+AA12 -> 168.3 | AF12: =AD12+AE12 -> 0 | AI12: =AG12+AH12 -> 0 | AL12: =AK12+AJ12 -> 0 | AM12: =AJ12+AG12+AD12+AA12+X12+U12+R12+O12+L12+I12+F12+C12 -> 0 | AN12: =AK12+AH12+AE12+AB12+Y12+V12+S12+P12+M12+J12+G12+D12 -> 3672.79 | AO12: =AL12+AI12+AF12+AC12+Z12+W12+T12+Q12+N12+K12+H12+E12 -> 3672.79
A13: 2230 | B13: Продукти харчування | D13: 999.67 | E13: =D13+C13 -> 999.67 | H13: =G13+F13 -> 0 | J13: 4348.7 | K13: =J13+I13 -> 4348.7 | M13: 7098.76 | N13: =M13+L13 -> 7098.76 | P13: 7802.64 | Q13: =P13+O13 -> 7802.64 | T13: =S13+R13 -> 0 | W13: =V13+U13 -> 0 | Z13: =Y13+X13 -> 0 | AB13: 12148.94 | AC13: =AB13+AA13 -> 12148.94 | AF13: =AD13+AE13 -> 0 | AI13: =AG13+AH13 -> 0 | AL13: =AK13+AJ13 -> 0 | AM13: =AJ13+AG13+AD13+AA13+X13+U13+R13+O13+L13+I13+F13+C13 -> 0 | AN13: =AK13+AH13+AE13+AB13+Y13+V13+S13+P13+M13+J13+G13+D13 -> 32398.71 | AO13: =AL13+AI13+AF13+AC13+Z13+W13+T13+Q13+N13+K13+H13+E13 -> 32398.71
A14: 2240 | B14: Оплата послуг (крім комунальних) | E14: =D14+C14 -> 0 | G14: =150+7200 -> 7350 | H14: =G14+F14 -> 7350 | J14: =210882.76+150 -> 211032.76 | K14: =J14+I14 -> 211032.76 | M14: =150+15333.8 -> 15483.8 | N14: =M14+L14 -> 15483.8 | P14: =8332.8+150 -> 8482.8 | Q14: =P14+O14 -> 8482.8 | S14: =10249.03+150 -> 10399.03 | T14: =S14+R14 -> 10399.03 | V14: =24923.47+150 -> 25073.47 | W14: =V14+U14 -> 25073.47 | Y14: =150+15513.2 -> 15663.2 | Z14: =Y14+X14 -> 15663.2 | AB14: =11732.1+150 -> 11882.1 | AC14: =AB14+AA14 -> 11882.1 | AF14: =AD14+AE14 -> 0 | AI14: =AG14+AH14 -> 0 | AL14: =AK14+AJ14 -> 0 | AM14: =AJ14+AG14+AD14+AA14+X14+U14+R14+O14+L14+I14+F14+C14 -> 0 | AN14: =AK14+AH14+AE14+AB14+Y14+V14+S14+P14+M14+J14+G14+D14 -> 305367.16 | AO14: =AL14+AI14+AF14+AC14+Z14+W14+T14+Q14+N14+K14+H14+E14 -> 305367.16
A15: 2250 | B15: Видатки на відрядження | E15: =D15+C15 -> 0 | H15: =G15+F15 -> 0 | K15: =J15+I15 -> 0 | N15: =M15+L15 -> 0 | Q15: =P15+O15 -> 0 | T15: =S15+R15 -> 0 | W15: =V15+U15 -> 0 | Z15: =Y15+X15 -> 0 | AC15: =AB15+AA15 -> 0 | AF15: =AD15+AE15 -> 0 | AI15: =AG15+AH15 -> 0 | AL15: =AK15+AJ15 -> 0 | AM15: =AJ15+AG15+AD15+AA15+X15+U15+R15+O15+L15+I15+F15+C15 -> 0 | AN15: =AK15+AH15+AE15+AB15+Y15+V15+S15+P15+M15+J15+G15+D15 -> 0 | AO15: =AL15+AI15+AF15+AC15+Z15+W15+T15+Q15+N15+K15+H15+E15 -> 0
A16: 2260 | B16: Видатки та заходи спеціального призначення | E16: =D16+C16 -> 0 | H16: =G16+F16 -> 0 | K16: =J16+I16 -> 0 | N16: =M16+L16 -> 0 | Q16: =P16+O16 -> 0 | T16: =S16+R16 -> 0 | W16: =V16+U16 -> 0 | Z16: =Y16+X16 -> 0 | AC16: =AB16+AA16 -> 0 | AF16: =AD16+AE16 -> 0 | AI16: =AG16+AH16 -> 0 | AL16: =AK16+AJ16 -> 0 | AM16: =AJ16+AG16+AD16+AA16+X16+U16+R16+O16+L16+I16+F16+C16 -> 0 | AN16: =AK16+AH16+AE16+AB16+Y16+V16+S16+P16+M16+J16+G16+D16 -> 0 | AO16: =AL16+AI16+AF16+AC16+Z16+W16+T16+Q16+N16+K16+H16+E16 -> 0
A17: 2271 | B17: Оплата теплопостачання | E17: =D17+C17 -> 0 | G17: =229330.93+51176.66 -> 280507.59 | H17: =G17+F17 -> 280507.59 | J17: =-77563.01-9960.24 -> -87523.25 | K17: =J17+I17 -> -87523.25 | M17: =603616.5+77474.13 -> 681090.63 | N17: =M17+L17 -> 681090.63 | Q17: =P17+O17 -> 0 | T17: =S17+R17 -> 0 | W17: =V17+U17 -> 0 | Z17: =Y17+X17 -> 0 | AC17: =AB17+AA17 -> 0 | AF17: =AD17+AE17 -> 0 | AI17: =AG17+AH17 -> 0 | AL17: =AK17+AJ17 -> 0 | AM17: =AJ17+AG17+AD17+AA17+X17+U17+R17+O17+L17+I17+F17+C17 -> 0 | AN17: =AK17+AH17+AE17+AB17+Y17+V17+S17+P17+M17+J17+G17+D17 -> 874074.97 | AO17: =AL17+AI17+AF17+AC17+Z17+W17+T17+Q17+N17+K17+H17+E17 -> 874074.97
A18: 2272 | B18: Оплата водопостачання та водовідведення | D18: 1622.88 | E18: =D18+C18 -> 1622.88 | G18: 917.28 | H18: =G18+F18 -> 917.28 | J18: 1764 | K18: =J18+I18 -> 1764 | M18: 2469.6 | N18: =M18+L18 -> 2469.6 | P18: 2892.96 | Q18: =P18+O18 -> 2892.96 | S18: 2117.41 | T18: =S18+R18 -> 2117.41 | V18: 2510.98 | W18: =V18+U18 -> 2510.98 | Y18: 1569.36 | Z18: =Y18+X18 -> 1569.36 | AB18: 3295.66 | AC18: =AB18+AA18 -> 3295.66 | AF18: =AD18+AE18 -> 0 | AI18: =AG18+AH18 -> 0 | AL18: =AK18+AJ18 -> 0 | AM18: =AJ18+AG18+AD18+AA18+X18+U18+R18+O18+L18+I18+F18+C18 -> 0 | AN18: =AK18+AH18+AE18+AB18+Y18+V18+S18+P18+M18+J18+G18+D18 -> 19160.13 | AO18: =AL18+AI18+AF18+AC18+Z18+W18+T18+Q18+N18+K18+H18+E18 -> 19160.13
A19: 2273 | B19: Оплата електроенергії | E19: =D19+C19 -> 0 | G19: 35854.96 | H19: =G19+F19 -> 35854.96 | J19: 79092.37 | K19: =J19+I19 -> 79092.37 | M19: 38512.25 | N19: =M19+L19 -> 38512.25 | P19: 43058.61 | Q19: =P19+O19 -> 43058.61 | S19: 28266.08 | T19: =S19+R19 -> 28266.08 | V19: 7928.18 | W19: =V19+U19 -> 7928.18 | Y19: 4203.46 | Z19: =Y19+X19 -> 4203.46 | AB19: 6405.99 | AC19: =AB19+AA19 -> 6405.99 | AF19: =AD19+AE19 -> 0 | AI19: =AG19+AH19 -> 0 | AL19: =AK19+AJ19 -> 0 | AM19: =AJ19+AG19+AD19+AA19+X19+U19+R19+O19+L19+I19+F19+C19 -> 0 | AN19: =AK19+AH19+AE19+AB19+Y19+V19+S19+P19+M19+J19+G19+D19 -> 243321.9 | AO19: =AL19+AI19+AF19+AC19+Z19+W19+T19+Q19+N19+K19+H19+E19 -> 243321.9
A20: 2274 | B20: Оплата природного газу | E20: =D20+C20 -> 0 | H20: =G20+F20 -> 0 | K20: =J20+I20 -> 0 | N20: =M20+L20 -> 0 | Q20: =P20+O20 -> 0 | T20: =S20+R20 -> 0 | W20: =V20+U20 -> 0 | Z20: =Y20+X20 -> 0 | AC20: =AB20+AA20 -> 0 | AF20: =AD20+AE20 -> 0 | AI20: =AG20+AH20 -> 0 | AL20: =AK20+AJ20 -> 0 | AM20: =AJ20+AG20+AD20+AA20+X20+U20+R20+O20+L20+I20+F20+C20 -> 0 | AN20: =AK20+AH20+AE20+AB20+Y20+V20+S20+P20+M20+J20+G20+D20 -> 0 | AO20: =AL20+AI20+AF20+AC20+Z20+W20+T20+Q20+N20+K20+H20+E20 -> 0
A21: 2275 | B21: Оплата інших енергоносіїв | D21: 1192.8 | E21: =D21+C21 -> 1192.8 | G21: 1320.68 | H21: =G21+F21 -> 1320.68 | J21: 779.32 | K21: =J21+I21 -> 779.32 | M21: 714.6 | N21: =M21+L21 -> 714.6 | P21: 7713.99 | Q21: =P21+O21 -> 7713.99 | S21: 957.36 | T21: =S21+R21 -> 957.36 | V21: 16113.99 | W21: =V21+U21 -> 16113.99 | Y21: 1301.62 | Z21: =Y21+X21 -> 1301.62 | AB21: 1105.17 | AC21: =AB21+AA21 -> 1105.17 | AF21: =AD21+AE21 -> 0 | AI21: =AG21+AH21 -> 0 | AL21: =AK21+AJ21 -> 0 | AM21: =AJ21+AG21+AD21+AA21+X21+U21+R21+O21+L21+I21+F21+C21 -> 0 | AN21: =AK21+AH21+AE21+AB21+Y21+V21+S21+P21+M21+J21+G21+D21 -> 31199.53 | AO21: =AL21+AI21+AF21+AC21+Z21+W21+T21+Q21+N21+K21+H21+E21 -> 31199.53
A22: 2282 | B22: Окремі заходи по реалізації державних (регіональних) програм, не віднесені до заходів розвитку | E22: =D22+C22 -> 0 | H22: =G22+F22 -> 0 | K22: =J22+I22 -> 0 | N22: =M22+L22 -> 0 | Q22: =P22+O22 -> 0 | S22: 600 | T22: =S22+R22 -> 600 | W22: =V22+U22 -> 0 | Y22: 320 | Z22: =Y22+X22 -> 320 | AC22: =AB22+AA22 -> 0 | AF22: =AD22+AE22 -> 0 | AI22: =AG22+AH22 -> 0 | AL22: =AK22+AJ22 -> 0 | AM22: =AJ22+AG22+AD22+AA22+X22+U22+R22+O22+L22+I22+F22+C22 -> 0 | AN22: =AK22+AH22+AE22+AB22+Y22+V22+S22+P22+M22+J22+G22+D22 -> 920 | AO22: =AL22+AI22+AF22+AC22+Z22+W22+T22+Q22+N22+K22+H22+E22 -> 920
A23: 2700
A24: 2800 | B24: Інші поточні видатки | E24: =D24+C24 -> 0 | H24: =G24+F24 -> 0 | K24: =J24+I24 -> 0 | N24: =M24+L24 -> 0 | P24: 19470.4 | Q24: =P24+O24 -> 19470.4 | T24: =S24+R24 -> 0 | W24: =V24+U24 -> 0 | Y24: 25447.44 | Z24: =Y24+X24 -> 25447.44 | AC24: =AB24+AA24 -> 0 | AF24: =AE24+AD24 -> 0 | AI24: =AH24+AG24 -> 0 | AL24: =AK24+AJ24 -> 0 | AM24: =AL24+AK24 -> 0 | AN24: =AK24+AH24+AE24+AB24+Y24+V24+S24+P24+M24+J24+G24+D24 -> 44917.84 | AO24: =AL24+AI24+AF24+AC24+Z24+W24+T24+Q24+N24+K24+H24+E24 -> 44917.84
A25: 3110 | B25: Придбання обладнання, предметів довгострокового користування | E25: =D25+C25 -> 0 | H25: =G25+F25 -> 0 | K25: =J25+I25 -> 0 | N25: =M25+L25 -> 0 | Q25: =P25+O25 -> 0 | T25: =S25+R25 -> 0 | W25: =V25+U25 -> 0 | Z25: =Y25+X25 -> 0 | AC25: =AB25+AA25 -> 0 | AF25: =AD25+AE25 -> 0 | AI25: =AG25+AH25 -> 0 | AL25: =AK25+AJ25 -> 0 | AM25: =AJ25+AG25+AD25+AA25+X25+U25+R25+O25+L25+I25+F25+C25 -> 0 | AN25: =AK25+AH25+AE25+AB25+Y25+V25+S25+P25+M25+J25+G25+D25 -> 0 | AO25: =AL25+AI25+AF25+AC25+Z25+W25+T25+Q25+N25+K25+H25+E25 -> 0
A26: 3132 | B26: Капітальний ремонт інших об'єктів | E26: =D26+C26 -> 0 | H26: =G26+F26 -> 0 | K26: =J26+I26 -> 0 | N26: =M26+L26 -> 0 | Q26: =P26+O26 -> 0 | T26: =S26+R26 -> 0 | W26: =V26+U26 -> 0 | Z26: =Y26+X26 -> 0 | AC26: =AB26+AA26 -> 0 | AF26: =AD26+AE26 -> 0 | AI26: =AG26+AH26 -> 0 | AL26: =AK26+AJ26 -> 0 | AM26: =AJ26+AG26+AD26+AA26+X26+U26+R26+O26+L26+I26+F26+C26 -> 0 | AN26: =AK26+AH26+AE26+AB26+Y26+V26+S26+P26+M26+J26+G26+D26 -> 0 | AO26: =AL26+AI26+AF26+AC26+Z26+W26+T26+Q26+N26+K26+H26+E26 -> 0
E27: =D27+C27 -> 0 | H27: =G27+F27 -> 0 | K27: =J27+I27 -> 0 | N27: =M27+L27 -> 0 | Q27: =P27+O27 -> 0 | T27: =S27+R27 -> 0 | W27: =V27+U27 -> 0 | Z27: =Y27+X27 -> 0 | AC27: =AB27+AA27 -> 0 | AF27: =AD27+AE27 -> 0 | AI27: =AG27+AH27 -> 0 | AL27: =AK27+AJ27 -> 0 | AM27: =AJ27+AG27+AD27+AA27+X27+U27+R27+O27+L27+I27+F27+C27 -> 0 | AN27: =AK27+AH27+AE27+AB27+Y27+V27+S27+P27+M27+J27+G27+D27 -> 0 | AO27: =AL27+AI27+AF27+AC27+Z27+W27+T27+Q27+N27+K27+H27+E27 -> 0
A28: 2730 | E28: =D28+C28 -> 0 | H28: =G28+F28 -> 0 | K28: =J28+I28 -> 0 | N28: =M28+L28 -> 0 | Q28: =P28+O28 -> 0 | T28: =S28+R28 -> 0 | W28: =V28+U28 -> 0 | Z28: =Y28+X28 -> 0 | AC28: =AB28+AA28 -> 0 | AF28: =AD28+AE28 -> 0 | AI28: =AG28+AH28 -> 0 | AL28: =AK28+AJ28 -> 0 | AM28: =AJ28+AG28+AD28+AA28+X28+U28+R28+O28+L28+I28+F28+C28 -> 0 | AN28: =AK28+AH28+AE28+AB28+Y28+V28+S28+P28+M28+J28+G28+D28 -> 0 | AO28: =AL28+AI28+AF28+AC28+Z28+W28+T28+Q28+N28+K28+H28+E28 -> 0
A29: 7520 | B29: Реалізація Національної програми інформатизації | E29: =D29+C29 -> 0 | G29: 1516 | H29: =G29+F29 -> 1516 | J29: 1516 | K29: =J29+I29 -> 1516 | M29: 2441 | N29: =M29+L29 -> 2441 | P29: 1516 | Q29: =P29+O29 -> 1516 | S29: 1516 | T29: =S29+R29 -> 1516 | V29: 2441 | W29: =V29+U29 -> 2441 | Y29: 1516 | Z29: =Y29+X29 -> 1516 | AB29: 1516 | AC29: =AB29+AA29 -> 1516 | AF29: =AD29+AE29 -> 0 | AI29: =AG29+AH29 -> 0 | AL29: =AK29+AJ29 -> 0 | AM29: =AJ29+AG29+AD29+AA29+X29+U29+R29+O29+L29+I29+F29+C29 -> 0 | AN29: =AK29+AH29+AE29+AB29+Y29+V29+S29+P29+M29+J29+G29+D29 -> 13978 | AO29: =AL29+AI29+AF29+AC29+Z29+W29+T29+Q29+N29+K29+H29+E29 -> 13978
B30: Всього | C30: =SUM(C9:C28) -> 0 | D30: =SUM(D9:D28) -> 185652.01 | E30: =SUM(E9:E28) -> 185652.01 | F30: =SUM(F9:F28) -> 0 | G30: =SUM(G9:G29) -> 478711.86 | H30: =SUM(H9:H29) -> 478711.86 | I30: =SUM(I9:I28) -> 0 | J30: =SUM(J9:J28) -> 397966.19 | K30: =J30+I30 -> 397966.19 | L30: =SUM(L9:L28) -> 0 | M30: =SUM(M9:M28) -> 946866.7 | N30: =M30+L30 -> 946866.7 | O30: =SUM(O9:O28) -> 0 | P30: =SUM(P9:P28) -> 280840.77 | Q30: =P30+O30 -> 280840.77 | R30: =SUM(R9:R28) -> 0 | S30: =SUM(S9:S28) -> 144281.73 | T30: =S30+R30 -> 144281.73 | U30: =SUM(U9:U28) -> 0 | V30: =SUM(V9:V28) -> 230183.03 | W30: =V30+U30 -> 230183.03 | X30: =SUM(X9:X28) -> 0 | Y30: =SUM(Y9:Y28) -> 208382.54 | Z30: =Y30+X30 -> 208382.54 | AA30: =SUM(AA9:AA28) -> 0 | AB30: =SUM(AB9:AB28) -> 256133.96 | AC30: =AB30+AA30 -> 256133.96 | AD30: =SUM(AD9:AD28) -> 0 | AE30: =SUM(AE9:AE28) -> 0 | AF30: =AE30+AD30 -> 0 | AG30: =SUM(AG9:AG28) -> 0 | AH30: =SUM(AH9:AH28) -> 0 | AI30: =AH30+AG30 -> 0 | AJ30: =SUM(AJ9:AJ28) -> 0 | AK30: =SUM(AK9:AK28) -> 0 | AL30: =AK30+AJ30 -> 0 | AM30: =SUM(AM9:AM28) -> 0 | AN30: =SUM(AN9:AN28) -> 3127502.8 | AO30: =SUM(AO9:AO28) -> 3127502.8
A33: Керівник
A35: Виконавець(ПІБ,тел.)

Sheet 50
R1: Додаток 3
R2: до наказу управління освіти і науки
R3: виконкому міської ради
A4: Інформація
A5: щодо фактичного використання бюджетних коштів у 2026
A6: Криворізька гімназія №50 Криворізької міської ради
C7: Січень | F7: Лютий | I7: Березень | L7: Квітень | O7: Травень | R7: Червень | U7: Липень | X7: Серпень | AA7: Вересень | AD7: Жовтень | AG7: Листопад | AJ7: Грудень | AM7: Разом
C8: державний | D8: місцевий | E8: разом | F8: державний | G8: місцевий | H8: разом | I8: державний | J8: місцевий | K8: разом | L8: державний | M8: місцевий | N8: разом | O8: державний | P8: місцевий | Q8: разом | R8: державний | S8: місцевий | T8: разом | U8: державний | V8: місцевий | W8: разом | X8: державний | Y8: місцевий | Z8: разом | AA8: державний | AB8: місцевий | AC8: разом | AD8: державний | AE8: місцевий | AF8: разом | AG8: державний | AH8: місцевий | AI8: разом | AJ8: державний | AK8: місцевий | AL8: разом | AM8: державний | AN8: місцевий | AO8: разом
A9: 2111 | B9: Заробітна плата | D9: 326137.48 | E9: =D9+C9 -> 326137.48 | G9: 313913.56 | H9: =G9+F9 -> 313913.56 | J9: 331453.25 | K9: =J9+I9 -> 331453.25 | M9: 329632.79 | N9: =M9+L9 -> 329632.79 | P9: 342006.88 | Q9: =P9+O9 -> 342006.88 | S9: 363489.22 | T9: =S9+R9 -> 363489.22 | V9: 285324.41 | W9: =V9+U9 -> 285324.41 | Y9: 244807.36 | Z9: =Y9+X9 -> 244807.36 | AB9: 298833.06 | AC9: =AB9+AA9 -> 298833.06 | AF9: =AD9+AE9 -> 0 | AI9: =AH9+AG9 -> 0 | AL9: =AK9+AJ9 -> 0 | AM9: =AJ9+AG9+AD9+AA9+X9+U9+R9+O9+L9+I9+F9+C9 -> 0 | AN9: =AK9+AH9+AE9+AB9+Y9+V9+S9+P9+M9+J9+G9+D9 -> 2835598 | AO9: =AL9+AI9+AF9+AC9+Z9+W9+T9+Q9+N9+K9+H9+E9 -> 2835598
A10: 2120 | B10: Нарахування на оплату праці | D10: 71159.41 | E10: =D10+C10 -> 71159.41 | G10: 69190.9 | H10: =G10+F10 -> 69190.9 | J10: 75500.11 | K10: =J10+I10 -> 75500.11 | M10: 71453.22 | N10: =M10+L10 -> 71453.22 | P10: 74700.98 | Q10: =P10+O10 -> 74700.98 | S10: 80249.38 | T10: =S10+R10 -> 80249.38 | V10: 62409.56 | W10: =V10+U10 -> 62409.56 | Y10: 53766.54 | Z10: =Y10+X10 -> 53766.54 | AB10: 64721.23 | AC10: =AB10+AA10 -> 64721.23 | AF10: =AD10+AE10 -> 0 | AI10: =AH10+AG10 -> 0 | AL10: =AK10+AJ10 -> 0 | AM10: =AJ10+AG10+AD10+AA10+X10+U10+R10+O10+L10+I10+F10+C10 -> 0 | AN10: =AK10+AH10+AE10+AB10+Y10+V10+S10+P10+M10+J10+G10+D10 -> 623151.33 | AO10: =AL10+AI10+AF10+AC10+Z10+W10+T10+Q10+N10+K10+H10+E10 -> 623151.33
A11: 2210 | B11: Предмети, матеріали, обладнання та інвентар | D11: 1364.71 | E11: =D11+C11 -> 1364.71 | G11: 1985.15 | H11: =G11+F11 -> 1985.15 | J11: 1662.47 | K11: =J11+I11 -> 1662.47 | M11: 1380.23 | N11: =M11+L11 -> 1380.23 | P11: 1830.83 | Q11: =P11+O11 -> 1830.83 | S11: 1099.21 | T11: =S11+R11 -> 1099.21 | V11: 1152.23 | W11: =V11+U11 -> 1152.23 | Y11: 2332.76 | Z11: =Y11+X11 -> 2332.76 | AB11: 1745.93 | AC11: =AB11+AA11 -> 1745.93 | AF11: =AD11+AE11 -> 0 | AI11: =AH11+AG11 -> 0 | AL11: =AK11+AJ11 -> 0 | AM11: =AJ11+AG11+AD11+AA11+X11+U11+R11+O11+L11+I11+F11+C11 -> 0 | AN11: =AK11+AH11+AE11+AB11+Y11+V11+S11+P11+M11+J11+G11+D11 -> 14553.52 | AO11: =AL11+AI11+AF11+AC11+Z11+W11+T11+Q11+N11+K11+H11+E11 -> 14553.52
A12: 2220 | B12: Медикаменти та перев'язувальні матеріали | D12: 21.22 | E12: =D12+C12 -> 21.22 | H12: =G12+F12 -> 0 | J12: 1302.9 | K12: =J12+I12 -> 1302.9 | M12: 1516 | N12: =M12+L12 -> 1516 | P12: 3365.78 | Q12: =P12+O12 -> 3365.78 | T12: =S12+R12 -> 0 | V12: 0.4 | W12: =V12+U12 -> 0.4 | Z12: =Y12+X12 -> 0 | AB12: 888 | AC12: =AB12+AA12 -> 888 | AF12: =AD12+AE12 -> 0 | AI12: =AH12+AG12 -> 0 | AL12: =AK12+AJ12 -> 0 | AM12: =AJ12+AG12+AD12+AA12+X12+U12+R12+O12+L12+I12+F12+C12 -> 0 | AN12: =AK12+AH12+AE12+AB12+Y12+V12+S12+P12+M12+J12+G12+D12 -> 7094.3 | AO12: =AL12+AI12+AF12+AC12+Z12+W12+T12+Q12+N12+K12+H12+E12 -> 7094.3
A13: 2230 | B13: Продукти харчування | D13: 3498.03 | E13: =D13+C13 -> 3498.03 | G13: 12541.69 | H13: =G13+F13 -> 12541.69 | J13: 9799.63 | K13: =J13+I13 -> 9799.63 | M13: 12664.23 | N13: =M13+L13 -> 12664.23 | P13: 9051.32 | Q13: =P13+O13 -> 9051.32 | T13: =S13+R13 -> 0 | W13: =V13+U13 -> 0 | Z13: =Y13+X13 -> 0 | AB13: 11453.1 | AC13: =AB13+AA13 -> 11453.1 | AF13: =AD13+AE13 -> 0 | AI13: =AH13+AG13 -> 0 | AL13: =AK13+AJ13 -> 0 | AM13: =AJ13+AG13+AD13+AA13+X13+U13+R13+O13+L13+I13+F13+C13 -> 0 | AN13: =AK13+AH13+AE13+AB13+Y13+V13+S13+P13+M13+J13+G13+D13 -> 59008 | AO13: =AL13+AI13+AF13+AC13+Z13+W13+T13+Q13+N13+K13+H13+E13 -> 59008
A14: 2240 | B14: Оплата послуг (крім комунальних) | E14: =D14+C14 -> 0 | G14: =492.22+7200+25685.4+30921.76 -> 64299.38 | H14: =G14+F14 -> 64299.38 | J14: =8038.8+8058.03+9384.34+492.22 -> 25973.39 | K14: =J14+I14 -> 25973.39 | M14: =492.22+10357.8+16408.03+4335.04 -> 31593.09 | N14: =M14+L14 -> 31593.09 | P14: =176851.69+9315.04+14291.8+492.22 -> 200950.75 | Q14: =P14+O14 -> 200950.75 | S14: =7858+5258.03+3785.04+492.22 -> 17393.29 | T14: =S14+R14 -> 17393.29 | V14: =26283.29+34104.1+1410.04+492.22 -> 62289.65 | W14: =V14+U14 -> 62289.65 | Y14: =492.22+255597.57+45977.03+10403.44 -> 312470.26 | Z14: =Y14+X14 -> 312470.26 | AB14: =6492.22+63833.03+6584.34+492.22 -> 77401.81 | AC14: =AB14+AA14 -> 77401.81 | AF14: =AD14+AE14 -> 0 | AI14: =AH14+AG14 -> 0 | AL14: =AK14+AJ14 -> 0 | AM14: =AJ14+AG14+AD14+AA14+X14+U14+R14+O14+L14+I14+F14+C14 -> 0 | AN14: =AK14+AH14+AE14+AB14+Y14+V14+S14+P14+M14+J14+G14+D14 -> 792371.62 | AO14: =AL14+AI14+AF14+AC14+Z14+W14+T14+Q14+N14+K14+H14+E14 -> 792371.62
A15: 2250 | B15: Видатки на відрядження | E15: =D15+C15 -> 0 | H15: =G15+F15 -> 0 | K15: =J15+I15 -> 0 | N15: =M15+L15 -> 0 | Q15: =P15+O15 -> 0 | T15: =S15+R15 -> 0 | W15: =V15+U15 -> 0 | Z15: =Y15+X15 -> 0 | AC15: =AB15+AA15 -> 0 | AF15: =AD15+AE15 -> 0 | AI15: =AH15+AG15 -> 0 | AL15: =AK15+AJ15 -> 0 | AM15: =AJ15+AG15+AD15+AA15+X15+U15+R15+O15+L15+I15+F15+C15 -> 0 | AN15: =AK15+AH15+AE15+AB15+Y15+V15+S15+P15+M15+J15+G15+D15 -> 0 | AO15: =AL15+AI15+AF15+AC15+Z15+W15+T15+Q15+N15+K15+H15+E15 -> 0
A16: 2260 | B16: Видатки та заходи спеціального призначення | E16: =D16+C16 -> 0 | H16: =G16+F16 -> 0 | K16: =J16+I16 -> 0 | N16: =M16+L16 -> 0 | Q16: =P16+O16 -> 0 | T16: =S16+R16 -> 0 | W16: =V16+U16 -> 0 | Z16: =Y16+X16 -> 0 | AC16: =AB16+AA16 -> 0 | AF16: =AD16+AE16 -> 0 | AI16: =AH16+AG16 -> 0 | AL16: =AK16+AJ16 -> 0 | AM16: =AJ16+AG16+AD16+AA16+X16+U16+R16+O16+L16+I16+F16+C16 -> 0 | AN16: =AK16+AH16+AE16+AB16+Y16+V16+S16+P16+M16+J16+G16+D16 -> 0 | AO16: =AL16+AI16+AF16+AC16+Z16+W16+T16+Q16+N16+K16+H16+E16 -> 0
A17: 2271 | B17: Оплата теплопостачання | E17: =D17+C17 -> 0 | G17: =-76296.74+101912.61+135901.85 -> 161517.72 | H17: =G17+F17 -> 161517.72 | J17: =3813.04+152634.92+69565.85 -> 226013.81 | K17: =J17+I17 -> 226013.81 | M17: =16696.51+18718.58 -> 35415.09 | N17: =M17+L17 -> 35415.09 | Q17: =P17+O17 -> 0 | T17: =S17+R17 -> 0 | W17: =V17+U17 -> 0 | Z17: =Y17+X17 -> 0 | AC17: =AB17+AA17 -> 0 | AF17: =AD17+AE17 -> 0 | AI17: =AH17+AG17 -> 0 | AL17: =AK17+AJ17 -> 0 | AM17: =AJ17+AG17+AD17+AA17+X17+U17+R17+O17+L17+I17+F17+C17 -> 0 | AN17: =AK17+AH17+AE17+AB17+Y17+V17+S17+P17+M17+J17+G17+D17 -> 422946.62 | AO17: =AL17+AI17+AF17+AC17+Z17+W17+T17+Q17+N17+K17+H17+E17 -> 422946.62
A18: 2272 | B18: Оплата водопостачання та водовідведення | D18: =564.48+1340.64+1905.12 -> 3810.24 | E18: =D18+C18 -> 3810.24 | G18: =70.56+1340.64+1764 -> 3175.2 | H18: =G18+F18 -> 3175.2 | J18: =1764+2399.04 -> 4163.04 | K18: =J18+I18 -> 4163.04 | M18: =564.48+1905.12+2328.48 -> 4798.08 | N18: =M18+L18 -> 4798.08 | P18: =2328.48+1975.68 -> 4304.16 | Q18: =P18+O18 -> 4304.16 | S18: =156.94+2987.86+2085.78 -> 5230.58 | T18: =S18+R18 -> 5230.58 | V18: =1412.42+78.47 -> 1490.89 | W18: =V18+U18 -> 1490.89 | Y18: =1177.02+784.68+235.4 -> 2197.1 | Z18: =Y18+X18 -> 2197.1 | AB18: =1569.36+1647.83 -> 3217.19 | AC18: =AB18+AA18 -> 3217.19 | AF18: =AD18+AE18 -> 0 | AI18: =AH18+AG18 -> 0 | AL18: =AK18+AJ18 -> 0 | AM18: =AJ18+AG18+AD18+AA18+X18+U18+R18+O18+L18+I18+F18+C18 -> 0 | AN18: =AK18+AH18+AE18+AB18+Y18+V18+S18+P18+M18+J18+G18+D18 -> 32386.48 | AO18: =AL18+AI18+AF18+AC18+Z18+W18+T18+Q18+N18+K18+H18+E18 -> 32386.48
A19: 2273 | B19: Оплата електроенергії | E19: =D19+C19 -> 0 | G19: =7977.2+7750.89+4412.92 -> 20141.01 | H19: =G19+F19 -> 20141.01 | J19: =17398.94+13253.99+50658.35 -> 81311.28 | K19: =J19+I19 -> 81311.28 | M19: =10357.55+10332.01+32547.14 -> 53236.7 | N19: =M19+L19 -> 53236.7 | P19: =4977.17+9772.38+31014.53 -> 45764.08 | Q19: =P19+O19 -> 45764.08 | S19: =2420.55+4981.72+19483.91 -> 26886.18 | T19: =S19+R19 -> 26886.18 | V19: =953.11+3043.47+3530.86 -> 7527.44 | W19: =V19+U19 -> 7527.44 | Y19: =939.27+1292.66+1469.35 -> 3701.28 | Z19: =Y19+X19 -> 3701.28 | AB19: =1230.13+2216.57+1183.72 -> 4630.42 | AC19: =AB19+AA19 -> 4630.42 | AF19: =AD19+AE19 -> 0 | AI19: =AH19+AG19 -> 0 | AL19: =AK19+AJ19 -> 0 | AM19: =AJ19+AG19+AD19+AA19+X19+U19+R19+O19+L19+I19+F19+C19 -> 0 | AN19: =AK19+AH19+AE19+AB19+Y19+V19+S19+P19+M19+J19+G19+D19 -> 243198.39 | AO19: =AL19+AI19+AF19+AC19+Z19+W19+T19+Q19+N19+K19+H19+E19 -> 243198.39
A20: 2274 | B20: Оплата природного газу | E20: =D20+C20 -> 0 | H20: =G20+F20 -> 0 | K20: =J20+I20 -> 0 | N20: =M20+L20 -> 0 | Q20: =P20+O20 -> 0 | T20: =S20+R20 -> 0 | W20: =V20+U20 -> 0 | Z20: =Y20+X20 -> 0 | AC20: =AB20+AA20 -> 0 | AF20: =AD20+AE20 -> 0 | AI20: =AH20+AG20 -> 0 | AL20: =AK20+AJ20 -> 0 | AM20: =AJ20+AG20+AD20+AA20+X20+U20+R20+O20+L20+I20+F20+C20 -> 0 | AN20: =AK20+AH20+AE20+AB20+Y20+V20+S20+P20+M20+J20+G20+D20 -> 0 | AO20: =AL20+AI20+AF20+AC20+Z20+W20+T20+Q20+N20+K20+H20+E20 -> 0
A21: 2275 | B21: Оплата інших енергоносіїв | E21: =D21+C21 -> 0 | G21: =524.04+1310.1+178.65 -> 2012.79 | H21: =G21+F21 -> 2012.79 | J21: =837.32+1048.08+535.96 -> 2421.36 | K21: =J21+I21 -> 2421.36 | M21: =524.04+1048.08+714.6 -> 2286.72 | N21: =M21+L21 -> 2286.72 | P21: =524.04+1048.08+535.95 -> 2108.07 | Q21: =P21+O21 -> 2108.07 | S21: =616.82+1572.12+714.6 -> 2903.54 | T21: =S21+R21 -> 2903.54 | V21: =524.04+21348.08+714.6 -> 22586.72 | W21: =V21+U21 -> 22586.72 | Y21: =763.62+1909.05+1041.3 -> 3713.97 | Z21: =Y21+X21 -> 3713.97 | AB21: =474.6+1527.24+1301.63 -> 3303.47 | AC21: =AB21+AA21 -> 3303.47 | AF21: =AD21+AE21 -> 0 | AI21: =AH21+AG21 -> 0 | AL21: =AK21+AJ21 -> 0 | AM21: =AJ21+AG21+AD21+AA21+X21+U21+R21+O21+L21+I21+F21+C21 -> 0 | AN21: =AK21+AH21+AE21+AB21+Y21+V21+S21+P21+M21+J21+G21+D21 -> 41336.64 | AO21: =AL21+AI21+AF21+AC21+Z21+W21+T21+Q21+N21+K21+H21+E21 -> 41336.64
A22: 2282 | B22: Окремі заходи по реалізації державних (регіональних) програм, не віднесені до заходів розвитку | E22: =D22+C22 -> 0 | H22: =G22+F22 -> 0 | K22: =J22+I22 -> 0 | N22: =M22+L22 -> 0 | Q22: =P22+O22 -> 0 | S22: 600 | T22: =S22+R22 -> 600 | W22: =V22+U22 -> 0 | Y22: 320 | Z22: =Y22+X22 -> 320 | AC22: =AB22+AA22 -> 0 | AF22: =AD22+AE22 -> 0 | AI22: =AH22+AG22 -> 0 | AL22: =AK22+AJ22 -> 0 | AM22: =AJ22+AG22+AD22+AA22+X22+U22+R22+O22+L22+I22+F22+C22 -> 0 | AN22: =AK22+AH22+AE22+AB22+Y22+V22+S22+P22+M22+J22+G22+D22 -> 920 | AO22: =AL22+AI22+AF22+AC22+Z22+W22+T22+Q22+N22+K22+H22+E22 -> 920
A23: 2700
A24: 2800 | B24: Інші поточні видатки | E24: =D24+C24 -> 0 | F24: =E24+D24 -> 0 | G24: =F24+E24 -> 0 | H24: =G24+F24 -> 0 | I24: =H24+G24 -> 0 | K24: =J24+I24 -> 0 | N24: =M24+L24 -> 0 | O24: =N24+M24 -> 0 | P24: =O24+N24 -> 0 | Q24: =P24+O24 -> 0 | R24: =Q24+P24 -> 0 | S24: =R24+Q24 -> 0 | T24: =S24+R24 -> 0 | U24: =T24+S24 -> 0 | ... AM24: =AL24+AK24 -> 0 | AN24: =AK24+AH24+AE24+AB24+Y24+V24+S24+P24+M24+J24+G24+D24 -> 0 | AO24: =AL24+AI24+AF24+AC24+Z24+W24+T24+Q24+N24+K24+H24+E24 -> 0
A25: 3110 | B25: Придбання обладнання, предметів довгострокового користування | E25: =D25+C25 -> 0 | H25: =G25+F25 -> 0 | K25: =J25+I25 -> 0 | N25: =M25+L25 -> 0 | Q25: =P25+O25 -> 0 | T25: =S25+R25 -> 0 | W25: =V25+U25 -> 0 | Z25: =Y25+X25 -> 0 | AC25: =AB25+AA25 -> 0 | AF25: =AD25+AE25 -> 0 | AI25: =AH25+AG25 -> 0 | AL25: =AK25+AJ25 -> 0 | AM25: =AJ25+AG25+AD25+AA25+X25+U25+R25+O25+L25+I25+F25+C25 -> 0 | AN25: =AK25+AH25+AE25+AB25+Y25+V25+S25+P25+M25+J25+G25+D25 -> 0 | AO25: =AL25+AI25+AF25+AC25+Z25+W25+T25+Q25+N25+K25+H25+E25 -> 0
A26: 3132 | B26: Капітальний ремонт інших об'єктів | E26: =D26+C26 -> 0 | H26: =G26+F26 -> 0 | K26: =J26+I26 -> 0 | N26: =M26+L26 -> 0 | Q26: =P26+O26 -> 0 | T26: =S26+R26 -> 0 | W26: =V26+U26 -> 0 | Z26: =Y26+X26 -> 0 | AC26: =AB26+AA26 -> 0 | AF26: =AD26+AE26 -> 0 | AI26: =AH26+AG26 -> 0 | AL26: =AK26+AJ26 -> 0 | AM26: =AJ26+AG26+AD26+AA26+X26+U26+R26+O26+L26+I26+F26+C26 -> 0 | AN26: =AK26+AH26+AE26+AB26+Y26+V26+S26+P26+M26+J26+G26+D26 -> 0 | AO26: =AL26+AI26+AF26+AC26+Z26+W26+T26+Q26+N26+K26+H26+E26 -> 0
E27: =D27+C27 -> 0 | H27: =G27+F27 -> 0 | K27: =J27+I27 -> 0 | N27: =M27+L27 -> 0 | Q27: =P27+O27 -> 0 | T27: =S27+R27 -> 0 | W27: =V27+U27 -> 0 | Z27: =Y27+X27 -> 0 | AC27: =AB27+AA27 -> 0 | AF27: =AD27+AE27 -> 0 | AI27: =AH27+AG27 -> 0 | AL27: =AK27+AJ27 -> 0 | AM27: =AJ27+AG27+AD27+AA27+X27+U27+R27+O27+L27+I27+F27+C27 -> 0 | AN27: =AK27+AH27+AE27+AB27+Y27+V27+S27+P27+M27+J27+G27+D27 -> 0 | AO27: =AL27+AI27+AF27+AC27+Z27+W27+T27+Q27+N27+K27+H27+E27 -> 0
A28: 2730 | E28: =D28+C28 -> 0 | H28: =G28+F28 -> 0 | K28: =J28+I28 -> 0 | N28: =M28+L28 -> 0 | Q28: =P28+O28 -> 0 | T28: =S28+R28 -> 0 | W28: =V28+U28 -> 0 | Z28: =Y28+X28 -> 0 | AC28: =AB28+AA28 -> 0 | AF28: =AD28+AE28 -> 0 | AI28: =AH28+AG28 -> 0 | AL28: =AK28+AJ28 -> 0 | AM28: =AJ28+AG28+AD28+AA28+X28+U28+R28+O28+L28+I28+F28+C28 -> 0 | AN28: =AK28+AH28+AE28+AB28+Y28+V28+S28+P28+M28+J28+G28+D28 -> 0 | AO28: =AL28+AI28+AF28+AC28+Z28+W28+T28+Q28+N28+K28+H28+E28 -> 0
A29: 7520 | B29: Реалізація Національної програми інформатизації | E29: =D29+C29 -> 0 | G29: =1516+1435+1516 -> 4467 | H29: =G29+F29 -> 4467 | J29: =1516+1435+1516 -> 4467 | K29: =J29+I29 -> 4467 | M29: =2616+1435+1516 -> 5567 | N29: =M29+L29 -> 5567 | P29: =1516+1435+1516 -> 4467 | Q29: =P29+O29 -> 4467 | S29: =1516+1435+1516 -> 4467 | T29: =S29+R29 -> 4467 | V29: =2616+1435+1516 -> 5567 | W29: =V29+U29 -> 5567 | Y29: =1516+1435+1516 -> 4467 | Z29: =Y29+X29 -> 4467 | AB29: =1516+1435+1516 -> 4467 | AC29: =AB29+AA29 -> 4467 | AF29: =AD29+AE29 -> 0 | AI29: =AH29+AG29 -> 0 | AL29: =AK29+AJ29 -> 0 | AM29: =AJ29+AG29+AD29+AA29+X29+U29+R29+O29+L29+I29+F29+C29 -> 0 | AN29: =AK29+AH29+AE29+AB29+Y29+V29+S29+P29+M29+J29+G29+D29 -> 37936 | AO29: =AL29+AI29+AF29+AC29+Z29+W29+T29+Q29+N29+K29+H29+E29 -> 37936
B30: Всього | C30: =SUM(C9:C28) -> 0 | D30: =SUM(D9:D28) -> 405991.09 | E30: =SUM(E9:E28) -> 405991.09 | F30: =SUM(F9:F28) -> 0 | G30: =SUM(G9:G29) -> 653244.4 | H30: =SUM(H9:H29) -> 653244.4 | I30: =SUM(I9:I28) -> 0 | J30: =SUM(J9:J28) -> 759601.24 | K30: =J30+I30 -> 759601.24 | L30: =SUM(L9:L28) -> 0 | M30: =SUM(M9:M28) -> 543976.15 | N30: =M30+L30 -> 543976.15 | O30: =SUM(O9:O28) -> 0 | P30: =SUM(P9:P28) -> 684082.85 | Q30: =P30+O30 -> 684082.85 | R30: =SUM(R9:R28) -> 0 | S30: =SUM(S9:S28) -> 497851.4 | T30: =S30+R30 -> 497851.4 | U30: =SUM(U9:U28) -> 0 | V30: =SUM(V9:V28) -> 442781.3 | W30: =V30+U30 -> 442781.3 | X30: =SUM(X9:X28) -> 0 | Y30: =SUM(Y9:Y28) -> 623309.27 | Z30: =Y30+X30 -> 623309.27 | AA30: =SUM(AA9:AA28) -> 0 | AB30: =SUM(AB9:AB28) -> 466194.21 | AC30: =AB30+AA30 -> 466194.21 | AD30: =SUM(AD9:AD28) -> 0 | AE30: =SUM(AE9:AE28) -> 0 | AF30: =AE30+AD30 -> 0 | AG30: =SUM(AG9:AG28) -> 0 | AH30: =SUM(AH9:AH28) -> 0 | AI30: =AH30+AG30 -> 0 | AJ30: =SUM(AJ9:AJ28) -> 0 | AK30: =SUM(AK9:AK28) -> 0 | AL30: =AK30+AJ30 -> 0 | AM30: =SUM(AM9:AM28) -> 0 | AN30: =SUM(AN9:AN28) -> 5072564.9 | AO30: =SUM(AO9:AO28) -> 5072564.9
A33: Керівник
A35: Виконавець(ПІБ,тел.)

Sheet 55
R1: Додаток 3
R2: до наказу управління освіти і науки
R3: виконкому міської ради
A4: Інформація
A5: щодо фактичного використання бюджетних коштів у 2026
A6: Криворізька гімназія №55 Криворізької міської ради
C7: Січень | F7: Лютий | I7: Березень | L7: Квітень | O7: Травень | R7: Червень | U7: Липень | X7: Серпень | AA7: Вересень | AD7: Жовтень | AG7: Листопад | AJ7: Грудень | AM7: Разом
C8: державний | D8: місцевий | E8: разом | F8: державний | G8: місцевий | H8: разом | I8: державний | J8: місцевий | K8: разом | L8: державний | M8: місцевий | N8: разом | O8: державний | P8: місцевий | Q8: разом | R8: державний | S8: місцевий | T8: разом | U8: державний | V8: місцевий | W8: разом | X8: державний | Y8: місцевий | Z8: разом | AA8: державний | AB8: місцевий | AC8: разом | AD8: державний | AE8: місцевий | AF8: разом | AG8: державний | AH8: місцевий | AI8: разом | AJ8: державний | AK8: місцевий | AL8: разом | AM8: державний | AN8: місцевий | AO8: разом
A9: 2111 | B9: Заробітна плата | D9: =229040.13+192.5 -> 229232.63 | E9: =D9+C9 -> 229232.63 | G9: 221689.37 | H9: =G9+F9 -> 221689.37 | J9: 238602.73 | K9: =J9+I9 -> 238602.73 | M9: 256947.93 | N9: =M9+L9 -> 256947.93 | P9: 243007.7 | Q9: =P9+O9 -> 243007.7 | S9: 236897.52 | T9: =S9+R9 -> 236897.52 | V9: 210589.26 | W9: =V9+U9 -> 210589.26 | Y9: 199295.24 | Z9: =Y9+X9 -> 199295.24 | AB9: 241098.1 | AC9: =AB9+AA9 -> 241098.1 | AF9: =AD9+AE9 -> 0 | AI9: =AH9+AG9 -> 0 | AL9: =AK9+AJ9 -> 0 | AM9: =AJ9+AG9+AD9+AA9+X9+U9+R9+O9+L9+I9+F9+C9 -> 0 | AN9: =AK9+AH9+AE9+AB9+Y9+V9+S9+P9+M9+J9+G9+D9 -> 2077360.5 | AO9: =AL9+AI9+AF9+AC9+Z9+W9+T9+Q9+N9+K9+H9+E9 -> 2077360.5
A10: 2120 | B10: Нарахування на оплату праці | D10: 55928.95 | E10: =D10+C10 -> 55928.95 | G10: 50087.71 | H10: =G10+F10 -> 50087.71 | J10: 54746.57 | K10: =J10+I10 -> 54746.57 | M10: 57759.23 | N10: =M10+L10 -> 57759.23 | P10: 55567.21 | Q10: =P10+O10 -> 55567.21 | S10: 56898.25 | T10: =S10+R10 -> 56898.25 | V10: 46381.98 | W10: =V10+U10 -> 46381.98 | Y10: 47113.85 | Z10: =Y10+X10 -> 47113.85 | AB10: 53345.24 | AC10: =AB10+AA10 -> 53345.24 | AF10: =AD10+AE10 -> 0 | AI10: =AH10+AG10 -> 0 | AL10: =AK10+AJ10 -> 0 | AM10: =AJ10+AG10+AD10+AA10+X10+U10+R10+O10+L10+I10+F10+C10 -> 0 | AN10: =AK10+AH10+AE10+AB10+Y10+V10+S10+P10+M10+J10+G10+D10 -> 477828.99 | AO10: =AL10+AI10+AF10+AC10+Z10+W10+T10+Q10+N10+K10+H10+E10 -> 477828.99
A11: 2210 | B11: Предмети, матеріали, обладнання та інвентар | D11: 2091.24 | E11: =D11+C11 -> 2091.24 | G11: 2416.03 | H11: =G11+F11 -> 2416.03 | J11: 1664.13 | K11: =J11+I11 -> 1664.13 | M11: 931.14 | N11: =M11+L11 -> 931.14 | P11: 1662.74 | Q11: =P11+O11 -> 1662.74 | S11: 814.05 | T11: =S11+R11 -> 814.05 | V11: 716.39 | W11: =V11+U11 -> 716.39 | Y11: 20598.83 | Z11: =Y11+X11 -> 20598.83 | AB11: 3248.82 | AC11: =AB11+AA11 -> 3248.82 | AF11: =AD11+AE11 -> 0 | AI11: =AH11+AG11 -> 0 | AL11: =AK11+AJ11 -> 0 | AM11: =AJ11+AG11+AD11+AA11+X11+U11+R11+O11+L11+I11+F11+C11 -> 0 | AN11: =AK11+AH11+AE11+AB11+Y11+V11+S11+P11+M11+J11+G11+D11 -> 34143.37 | AO11: =AL11+AI11+AF11+AC11+Z11+W11+T11+Q11+N11+K11+H11+E11 -> 34143.37
A12: 2220 | B12: Медикаменти та перев'язувальні матеріали | D12: 1120 | E12: =D12+C12 -> 1120 | G12: 1120 | H12: =G12+F12 -> 1120 | J12: 1120 | K12: =J12+I12 -> 1120 | M12: 1120 | N12: =M12+L12 -> 1120 | Q12: =P12+O12 -> 0 | S12: 840 | T12: =S12+R12 -> 840 | V12: 840 | W12: =V12+U12 -> 840 | Y12: 840 | Z12: =Y12+X12 -> 840 | AB12: 1165 | AC12: =AB12+AA12 -> 1165 | AF12: =AD12+AE12 -> 0 | AI12: =AH12+AG12 -> 0 | AL12: =AK12+AJ12 -> 0 | AM12: =AJ12+AG12+AD12+AA12+X12+U12+R12+O12+L12+I12+F12+C12 -> 0 | AN12: =AK12+AH12+AE12+AB12+Y12+V12+S12+P12+M12+J12+G12+D12 -> 8165 | AO12: =AL12+AI12+AF12+AC12+Z12+W12+T12+Q12+N12+K12+H12+E12 -> 8165
A13: 2230 | B13: Продукти харчування | D13: 20502.03 | E13: =D13+C13 -> 20502.03 | G13: 24050.81 | H13: =G13+F13 -> 24050.81 | J13: 19550.36 | K13: =J13+I13 -> 19550.36 | M13: 29647.52 | N13: =M13+L13 -> 29647.52 | P13: 22199.12 | Q13: =P13+O13 -> 22199.12 | T13: =S13+R13 -> 0 | W13: =V13+U13 -> 0 | Z13: =Y13+X13 -> 0 | AB13: 23047.79 | AC13: =AB13+AA13 -> 23047.79 | AF13: =AD13+AE13 -> 0 | AI13: =AH13+AG13 -> 0 | AL13: =AK13+AJ13 -> 0 | AM13: =AJ13+AG13+AD13+AA13+X13+U13+R13+O13+L13+I13+F13+C13 -> 0 | AN13: =AK13+AH13+AE13+AB13+Y13+V13+S13+P13+M13+J13+G13+D13 -> 138997.63 | AO13: =AL13+AI13+AF13+AC13+Z13+W13+T13+Q13+N13+K13+H13+E13 -> 138997.63
A14: 2240 | B14: Оплата послуг (крім комунальних) | E14: =D14+C14 -> 0 | G14: =150+6982.43 -> 7132.43 | H14: =G14+F14 -> 7132.43 | J14: =156465.53+150 -> 156615.53 | K14: =J14+I14 -> 156615.53 | M14: =150+33577.75 -> 33727.75 | N14: =M14+L14 -> 33727.75 | P14: =113898.86+150 -> 114048.86 | Q14: =P14+O14 -> 114048.86 | S14: =10196.48+150 -> 10346.48 | T14: =S14+R14 -> 10346.48 | V14: =11626.5+150 -> 11776.5 | W14: =V14+U14 -> 11776.5 | Y14: =150+95812.07 -> 95962.07 | Z14: =Y14+X14 -> 95962.07 | AB14: =14158.88+150 -> 14308.88 | AC14: =AB14+AA14 -> 14308.88 | AF14: =AD14+AE14 -> 0 | AI14: =AH14+AG14 -> 0 | AL14: =AK14+AJ14 -> 0 | AM14: =AJ14+AG14+AD14+AA14+X14+U14+R14+O14+L14+I14+F14+C14 -> 0 | AN14: =AK14+AH14+AE14+AB14+Y14+V14+S14+P14+M14+J14+G14+D14 -> 443918.5 | AO14: =AL14+AI14+AF14+AC14+Z14+W14+T14+Q14+N14+K14+H14+E14 -> 443918.5
A15: 2250 | B15: Видатки на відрядження | E15: =D15+C15 -> 0 | H15: =G15+F15 -> 0 | K15: =J15+I15 -> 0 | N15: =M15+L15 -> 0 | Q15: =P15+O15 -> 0 | T15: =S15+R15 -> 0 | W15: =V15+U15 -> 0 | Z15: =Y15+X15 -> 0 | AC15: =AB15+AA15 -> 0 | AF15: =AD15+AE15 -> 0 | AI15: =AH15+AG15 -> 0 | AL15: =AK15+AJ15 -> 0 | AM15: =AJ15+AG15+AD15+AA15+X15+U15+R15+O15+L15+I15+F15+C15 -> 0 | AN15: =AK15+AH15+AE15+AB15+Y15+V15+S15+P15+M15+J15+G15+D15 -> 0 | AO15: =AL15+AI15+AF15+AC15+Z15+W15+T15+Q15+N15+K15+H15+E15 -> 0
A16: 2260 | B16: Видатки та заходи спеціального призначення | E16: =D16+C16 -> 0 | H16: =G16+F16 -> 0 | K16: =J16+I16 -> 0 | N16: =M16+L16 -> 0 | Q16: =P16+O16 -> 0 | T16: =S16+R16 -> 0 | W16: =V16+U16 -> 0 | Z16: =Y16+X16 -> 0 | AC16: =AB16+AA16 -> 0 | AF16: =AD16+AE16 -> 0 | AI16: =AH16+AG16 -> 0 | AL16: =AK16+AJ16 -> 0 | AM16: =AJ16+AG16+AD16+AA16+X16+U16+R16+O16+L16+I16+F16+C16 -> 0 | AN16: =AK16+AH16+AE16+AB16+Y16+V16+S16+P16+M16+J16+G16+D16 -> 0 | AO16: =AL16+AI16+AF16+AC16+Z16+W16+T16+Q16+N16+K16+H16+E16 -> 0
A17: 2271 | B17: Оплата теплопостачання | E17: =D17+C17 -> 0 | G17: =535220.7 -> 535220.7 | H17: =G17+F17 -> 535220.7 | J17: 727160.21 | K17: =J17+I17 -> 727160.21 | M17: 308749.29 | N17: =M17+L17 -> 308749.29 | Q17: =P17+O17 -> 0 | T17: =S17+R17 -> 0 | W17: =V17+U17 -> 0 | Z17: =Y17+X17 -> 0 | AC17: =AB17+AA17 -> 0 | AF17: =AD17+AE17 -> 0 | AI17: =AH17+AG17 -> 0 | AL17: =AK17+AJ17 -> 0 | AM17: =AJ17+AG17+AD17+AA17+X17+U17+R17+O17+L17+I17+F17+C17 -> 0 | AN17: =AK17+AH17+AE17+AB17+Y17+V17+S17+P17+M17+J17+G17+D17 -> 1571130.2 | AO17: =AL17+AI17+AF17+AC17+Z17+W17+T17+Q17+N17+K17+H17+E17 -> 1571130.2
A18: 2272 | B18: Оплата водопостачання та водовідведення | D18: 5715.36 | E18: =D18+C18 -> 5715.36 | G18: 7902.72 | H18: =G18+F18 -> 7902.72 | J18: 6562.08 | K18: =J18+I18 -> 6562.08 | M18: 7620.48 | N18: =M18+L18 -> 7620.48 | P18: 9031.68 | Q18: =P18+O18 -> 9031.68 | S18: 7897.87 | T18: =S18+R18 -> 7897.87 | V18: 2903.31 | W18: =V18+U18 -> 2903.31 | Y18: 1961.7 | Z18: =Y18+X18 -> 1961.7 | AB18: 5414.29 | AC18: =AB18+AA18 -> 5414.29 | AF18: =AD18+AE18 -> 0 | AI18: =AH18+AG18 -> 0 | AL18: =AK18+AJ18 -> 0 | AM18: =AJ18+AG18+AD18+AA18+X18+U18+R18+O18+L18+I18+F18+C18 -> 0 | AN18: =AK18+AH18+AE18+AB18+Y18+V18+S18+P18+M18+J18+G18+D18 -> 55009.49 | AO18: =AL18+AI18+AF18+AC18+Z18+W18+T18+Q18+N18+K18+H18+E18 -> 55009.49
A19: 2273 | B19: Оплата електроенергії | E19: =D19+C19 -> 0 | G19: 43605.86 | H19: =G19+F19 -> 43605.86 | J19: 50050.62 | K19: =J19+I19 -> 50050.62 | M19: 56130.03 | N19: =M19+L19 -> 56130.03 | P19: 65570.2 | Q19: =P19+O19 -> 65570.2 | S19: 43951.59 | T19: =S19+R19 -> 43951.59 | V19: 10993.31 | W19: =V19+U19 -> 10993.31 | Y19: 3152.59 | Z19: =Y19+X19 -> 3152.59 | AB19: 5640.05 | AC19: =AB19+AA19 -> 5640.05 | AF19: =AD19+AE19 -> 0 | AI19: =AH19+AG19 -> 0 | AL19: =AK19+AJ19 -> 0 | AM19: =AJ19+AG19+AD19+AA19+X19+U19+R19+O19+L19+I19+F19+C19 -> 0 | AN19: =AK19+AH19+AE19+AB19+Y19+V19+S19+P19+M19+J19+G19+D19 -> 279094.25 | AO19: =AL19+AI19+AF19+AC19+Z19+W19+T19+Q19+N19+K19+H19+E19 -> 279094.25
A20: 2274 | B20: Оплата природного газу | E20: =D20+C20 -> 0 | H20: =G20+F20 -> 0 | K20: =J20+I20 -> 0 | N20: =M20+L20 -> 0 | Q20: =P20+O20 -> 0 | T20: =S20+R20 -> 0 | W20: =V20+U20 -> 0 | Z20: =Y20+X20 -> 0 | AC20: =AB20+AA20 -> 0 | AF20: =AD20+AE20 -> 0 | AI20: =AH20+AG20 -> 0 | AL20: =AK20+AJ20 -> 0 | AM20: =AJ20+AG20+AD20+AA20+X20+U20+R20+O20+L20+I20+F20+C20 -> 0 | AN20: =AK20+AH20+AE20+AB20+Y20+V20+S20+P20+M20+J20+G20+D20 -> 0 | AO20: =AL20+AI20+AF20+AC20+Z20+W20+T20+Q20+N20+K20+H20+E20 -> 0
A21: 2275 | B21: Оплата інших енергоносіїв | D21: 28799.33 | E21: =D21+C21 -> 28799.33 | G21: 23596.03 | H21: =G21+F21 -> 23596.03 | J21: 2094.13 | K21: =J21+I21 -> 2094.13 | M21: 2355.9 | N21: =M21+L21 -> 2355.9 | P21: 16197.44 | Q21: =P21+O21 -> 16197.44 | S21: 2356.12 | T21: =S21+R21 -> 2356.12 | V21: 2356.05 | W21: =V21+U21 -> 2356.05 | Y21: 10754.48 | Z21: =Y21+X21 -> 10754.48 | AB21: 3537.75 | AC21: =AB21+AA21 -> 3537.75 | AF21: =AD21+AE21 -> 0 | AI21: =AH21+AG21 -> 0 | AL21: =AK21+AJ21 -> 0 | AM21: =AJ21+AG21+AD21+AA21+X21+U21+R21+O21+L21+I21+F21+C21 -> 0 | AN21: =AK21+AH21+AE21+AB21+Y21+V21+S21+P21+M21+J21+G21+D21 -> 92047.23 | AO21: =AL21+AI21+AF21+AC21+Z21+W21+T21+Q21+N21+K21+H21+E21 -> 92047.23
A22: 2282 | B22: Окремі заходи по реалізації державних (регіональних) програм, не віднесені до заходів розвитку | E22: =D22+C22 -> 0 | H22: =G22+F22 -> 0 | K22: =J22+I22 -> 0 | N22: =M22+L22 -> 0 | P22: 2880 | Q22: =P22+O22 -> 2880 | S22: 600 | T22: =S22+R22 -> 600 | W22: =V22+U22 -> 0 | Y22: 1020 | Z22: =Y22+X22 -> 1020 | AC22: =AB22+AA22 -> 0 | AF22: =AD22+AE22 -> 0 | AI22: =AH22+AG22 -> 0 | AL22: =AK22+AJ22 -> 0 | AM22: =AJ22+AG22+AD22+AA22+X22+U22+R22+O22+L22+I22+F22+C22 -> 0 | AN22: =AK22+AH22+AE22+AB22+Y22+V22+S22+P22+M22+J22+G22+D22 -> 4500 | AO22: =AL22+AI22+AF22+AC22+Z22+W22+T22+Q22+N22+K22+H22+E22 -> 4500
A23: 2700
A24: 2800 | B24: Інші поточні видатки | E24: =D24+C24 -> 0 | F24: =E24+D24 -> 0 | G24: =F24+E24 -> 0 | H24: =G24+F24 -> 0 | I24: =H24+G24 -> 0 | K24: =J24+I24 -> 0 | N24: =M24+L24 -> 0 | O24: =N24+M24 -> 0 | P24: 19470.39 | Q24: =P24+O24 -> 19470.39 | T24: =S24+R24 -> 0 | U24: =T24+S24 -> 0 | V24: =U24+T24 -> 0 | W24: =V24+U24 -> 0 | X24: =W24+V24 -> 0 | Y24: 25447.44 | Z24: =Y24+X24 -> 25447.44 | AC24: =AB24+AA24 -> 0 | AD24: =AC24+AB24 -> 0 | AE24: =AD24+AC24 -> 0 | AF24: =AE24+AD24 -> 0 | AG24: =AF24+AE24 -> 0 | AH24: =AG24+AF24 -> 0 | AI24: =AH24+AG24 -> 0 | AJ24: =AI24+AH24 -> 0 | ... AM24: =AL24+AK24 -> 0 | AN24: =AK24+AH24+AE24+AB24+Y24+V24+S24+P24+M24+J24+G24+D24 -> 44917.83 | AO24: =AL24+AI24+AF24+AC24+Z24+W24+T24+Q24+N24+K24+H24+E24 -> 44917.83
A25: 3110 | B25: Придбання обладнання, предметів довгострокового користування | E25: =D25+C25 -> 0 | H25: =G25+F25 -> 0 | K25: =J25+I25 -> 0 | N25: =M25+L25 -> 0 | Q25: =P25+O25 -> 0 | T25: =S25+R25 -> 0 | W25: =V25+U25 -> 0 | Z25: =Y25+X25 -> 0 | AC25: =AB25+AA25 -> 0 | AF25: =AD25+AE25 -> 0 | AI25: =AH25+AG25 -> 0 | AL25: =AK25+AJ25 -> 0 | AM25: =AJ25+AG25+AD25+AA25+X25+U25+R25+O25+L25+I25+F25+C25 -> 0 | AN25: =AK25+AH25+AE25+AB25+Y25+V25+S25+P25+M25+J25+G25+D25 -> 0 | AO25: =AL25+AI25+AF25+AC25+Z25+W25+T25+Q25+N25+K25+H25+E25 -> 0
A26: 3132 | B26: Капітальний ремонт інших об'єктів | E26: =D26+C26 -> 0 | H26: =G26+F26 -> 0 | K26: =J26+I26 -> 0 | N26: =M26+L26 -> 0 | Q26: =P26+O26 -> 0 | T26: =S26+R26 -> 0 | W26: =V26+U26 -> 0 | Z26: =Y26+X26 -> 0 | AC26: =AB26+AA26 -> 0 | AF26: =AD26+AE26 -> 0 | AI26: =AH26+AG26 -> 0 | AL26: =AK26+AJ26 -> 0 | AM26: =AJ26+AG26+AD26+AA26+X26+U26+R26+O26+L26+I26+F26+C26 -> 0 | AN26: =AK26+AH26+AE26+AB26+Y26+V26+S26+P26+M26+J26+G26+D26 -> 0 | AO26: =AL26+AI26+AF26+AC26+Z26+W26+T26+Q26+N26+K26+H26+E26 -> 0
E27: =D27+C27 -> 0 | H27: =G27+F27 -> 0 | K27: =J27+I27 -> 0 | N27: =M27+L27 -> 0 | Q27: =P27+O27 -> 0 | T27: =S27+R27 -> 0 | W27: =V27+U27 -> 0 | Z27: =Y27+X27 -> 0 | AC27: =AB27+AA27 -> 0 | AF27: =AD27+AE27 -> 0 | AI27: =AH27+AG27 -> 0 | AL27: =AK27+AJ27 -> 0 | AM27: =AJ27+AG27+AD27+AA27+X27+U27+R27+O27+L27+I27+F27+C27 -> 0 | AN27: =AK27+AH27+AE27+AB27+Y27+V27+S27+P27+M27+J27+G27+D27 -> 0 | AO27: =AL27+AI27+AF27+AC27+Z27+W27+T27+Q27+N27+K27+H27+E27 -> 0
A28: 2730 | E28: =D28+C28 -> 0 | H28: =G28+F28 -> 0 | K28: =J28+I28 -> 0 | N28: =M28+L28 -> 0 | Q28: =P28+O28 -> 0 | T28: =S28+R28 -> 0 | W28: =V28+U28 -> 0 | Z28: =Y28+X28 -> 0 | AC28: =AB28+AA28 -> 0 | AF28: =AD28+AE28 -> 0 | AI28: =AH28+AG28 -> 0 | AL28: =AK28+AJ28 -> 0 | AM28: =AJ28+AG28+AD28+AA28+X28+U28+R28+O28+L28+I28+F28+C28 -> 0 | AN28: =AK28+AH28+AE28+AB28+Y28+V28+S28+P28+M28+J28+G28+D28 -> 0 | AO28: =AL28+AI28+AF28+AC28+Z28+W28+T28+Q28+N28+K28+H28+E28 -> 0
A29: 7520 | B29: Реалізація Національної програми інформатизації | E29: =D29+C29 -> 0 | G29: 1516 | H29: =G29+F29 -> 1516 | J29: 1516 | K29: =J29+I29 -> 1516 | M29: 2616 | N29: =M29+L29 -> 2616 | P29: 1516 | Q29: =P29+O29 -> 1516 | S29: 1516 | T29: =S29+R29 -> 1516 | V29: 2616 | W29: =V29+U29 -> 2616 | Y29: 1516 | Z29: =Y29+X29 -> 1516 | AB29: 1516 | AC29: =AB29+AA29 -> 1516 | AF29: =AD29+AE29 -> 0 | AI29: =AH29+AG29 -> 0 | AL29: =AK29+AJ29 -> 0 | AM29: =AJ29+AG29+AD29+AA29+X29+U29+R29+O29+L29+I29+F29+C29 -> 0 | AN29: =AK29+AH29+AE29+AB29+Y29+V29+S29+P29+M29+J29+G29+D29 -> 14328 | AO29: =AL29+AI29+AF29+AC29+Z29+W29+T29+Q29+N29+K29+H29+E29 -> 14328
B30: Всього | C30: =SUM(C9:C28) -> 0 | D30: =SUM(D9:D28) -> 343389.54 | E30: =SUM(E9:E28) -> 343389.54 | F30: =SUM(F9:F28) -> 0 | G30: =SUM(G9:G29) -> 918337.66 | H30: =SUM(H9:H29) -> 918337.66 | I30: =SUM(I9:I28) -> 0 | J30: =SUM(J9:J29) -> 1259682.4 | K30: =J30+I30 -> 1259682.4 | L30: =SUM(L9:L28) -> 0 | M30: =SUM(M9:M29) -> 757605.27 | N30: =M30+L30 -> 757605.27 | O30: =SUM(O9:O28) -> 0 | P30: =SUM(P9:P29) -> 551151.34 | Q30: =P30+O30 -> 551151.34 | R30: =SUM(R9:R28) -> 0 | S30: =SUM(S9:S28) -> 360601.88 | T30: =S30+R30 -> 360601.88 | U30: =SUM(U9:U28) -> 0 | V30: =SUM(V9:V28) -> 286556.8 | W30: =V30+U30 -> 286556.8 | X30: =SUM(X9:X28) -> 0 | Y30: =SUM(Y9:Y28) -> 406146.2 | Z30: =Y30+X30 -> 406146.2 | AA30: =SUM(AA9:AA28) -> 0 | AB30: =SUM(AB9:AB28) -> 350805.92 | AC30: =AB30+AA30 -> 350805.92 | AD30: =SUM(AD9:AD28) -> 0 | AE30: =SUM(AE9:AE28) -> 0 | AF30: =AE30+AD30 -> 0 | AG30: =SUM(AG9:AG28) -> 0 | AH30: =SUM(AH9:AH28) -> 0 | AI30: =AH30+AG30 -> 0 | AJ30: =SUM(AJ9:AJ28) -> 0 | AK30: =SUM(AK9:AK28) -> 0 | AL30: =AK30+AJ30 -> 0 | AM30: =SUM(AM9:AM28) -> 0 | AN30: =SUM(AN9:AN28) -> 5227113 | AO30: =SUM(AO9:AO28) -> 5227113
A33: Керівник
A35: Виконавець(ПІБ,тел.)

Sheet 61
R1: Додаток 3
R2: до наказу управління освіти і науки
R3: виконкому міської ради
A4: Інформація
A5: щодо фактичного використання бюджетних коштів у 2026
A6: Криворізька гімназія №61 Криворізької міської ради
C7: Січень | F7: Лютий | I7: Березень | L7: Квітень | O7: Травень | R7: Червень | U7: Липень | X7: Серпень | AA7: Вересень | AD7: Жовтень | AG7: Листопад | AJ7: Грудень | AM7: Разом
C8: державний | D8: місцевий | E8: разом | F8: державний | G8: місцевий | H8: разом | I8: державний | J8: місцевий | K8: разом | L8: державний | M8: місцевий | N8: разом | O8: державний | P8: місцевий | Q8: разом | R8: державний | S8: місцевий | T8: разом | U8: державний | V8: місцевий | W8: разом | X8: державний | Y8: місцевий | Z8: разом | AA8: державний | AB8: місцевий | AC8: разом | AD8: державний | AE8: місцевий | AF8: разом | AG8: державний | AH8: місцевий | AI8: разом | AJ8: державний | AK8: місцевий | AL8: разом | AM8: державний | AN8: місцевий | AO8: разом
A9: 2111 | B9: Заробітна плата | D9: 201023.43 | E9: =D9+C9 -> 201023.43 | G9: 179391.98 | H9: =G9+F9 -> 179391.98 | J9: 221221.6 | K9: =J9+I9 -> 221221.6 | M9: 222684.76 | N9: =M9+L9 -> 222684.76 | P9: 235678.74 | Q9: =P9+O9 -> 235678.74 | S9: 238867.07 | T9: =S9+R9 -> 238867.07 | V9: 177198.97 | W9: =V9+U9 -> 177198.97 | Y9: 190788.53 | Z9: =Y9+X9 -> 190788.53 | AB9: 251817.98 | AC9: =AB9+AA9 -> 251817.98 | AF9: =AD9+AE9 -> 0 | AI9: =AH9+AG9 -> 0 | AL9: =AK9+AJ9 -> 0 | AM9: =AJ9+AG9+AD9+AA9+X9+U9+R9+O9+L9+++I9+F9+C9 -> 0 | AN9: =AK9+AH9+AE9+AB9+Y9+V9+S9+P9+M9+++J9+G9+D9 -> 1918673.1 | AO9: =AL9+AI9+AF9+AC9+Z9+W9+T9+Q9+N9+++K9+H9+E9 -> 1918673.1
A10: 2120 | B10: Нарахування на оплату праці | D10: 44876.76 | E10: =D10+C10 -> 44876.76 | G10: 38548.64 | H10: =G10+F10 -> 38548.64 | J10: 52169.58 | K10: =J10+I10 -> 52169.58 | M10: 46581.8 | N10: =M10+L10 -> 46581.8 | P10: 50587.2 | Q10: =P10+O10 -> 50587.2 | S10: 50997.87 | T10: =S10+R10 -> 50997.87 | V10: 39001.34 | W10: =V10+U10 -> 39001.34 | Y10: 40690.66 | Z10: =Y10+X10 -> 40690.66 | AB10: 54432.43 | AC10: =AB10+AA10 -> 54432.43 | AF10: =AD10+AE10 -> 0 | AI10: =AH10+AG10 -> 0 | AL10: =AK10+AJ10 -> 0 | AM10: =AJ10+AG10+AD10+AA10+X10+U10+R10+O10+L10+++I10+F10+C10 -> 0 | AN10: =AK10+AH10+AE10+AB10+Y10+V10+S10+P10+M10+++J10+G10+D10 -> 417886.28 | AO10: =AL10+AI10+AF10+AC10+Z10+W10+T10+Q10+N10+++K10+H10+E10 -> 417886.28
A11: 2210 | B11: Предмети, матеріали, обладнання та інвентар | D11: 1114.1 | E11: =D11+C11 -> 1114.1 | G11: 738.28 | H11: =G11+F11 -> 738.28 | J11: 665.88 | K11: =J11+I11 -> 665.88 | M11: 2158.93 | N11: =M11+L11 -> 2158.93 | P11: 1770.34 | Q11: =P11+O11 -> 1770.34 | S11: 5956.12 | T11: =S11+R11 -> 5956.12 | W11: =V11+U11 -> 0 | Y11: 451.92 | Z11: =Y11+X11 -> 451.92 | AB11: 2059.57 | AC11: =AB11+AA11 -> 2059.57 | AF11: =AD11+AE11 -> 0 | AI11: =AH11+AG11 -> 0 | AL11: =AK11+AJ11 -> 0 | AM11: =AJ11+AG11+AD11+AA11+X11+U11+R11+O11+L11+++I11+F11+C11 -> 0 | AN11: =AK11+AH11+AE11+AB11+Y11+V11+S11+P11+M11+J11+G11+D11 -> 14915.14 | AO11: =AL11+AI11+AF11+AC11+Z11+W11+T11+Q11+N11+++K11+H11+E11 -> 14915.14
A12: 2220 | B12: Медикаменти та перев'язувальні матеріали | D12: 50 | E12: =D12+C12 -> 50 | H12: =G12+F12 -> 0 | J12: 630 | K12: =J12+I12 -> 630 | M12: 47.4 | N12: =M12+L12 -> 47.4 | P12: 1468.59 | Q12: =P12+O12 -> 1468.59 | T12: =S12+R12 -> 0 | W12: =V12+U12 -> 0 | Z12: =Y12+X12 -> 0 | AB12: 2179.87 | AC12: =AB12+AA12 -> 2179.87 | AF12: =AD12+AE12 -> 0 | AI12: =AH12+AG12 -> 0 | AL12: =AK12+AJ12 -> 0 | AM12: =AJ12+AG12+AD12+AA12+X12+U12+R12+O12+L12+++I12+F12+C12 -> 0 | AN12: =AK12+AH12+AE12+AB12+Y12+V12+S12+P12+M12+J12+G12+D12 -> 4375.86 | AO12: =AL12+AI12+AF12+AC12+Z12+W12+T12+Q12+N12+++K12+H12+E12 -> 4375.86
A13: 2230 | B13: Продукти харчування | D13: 15447.46 | E13: =D13+C13 -> 15447.46 | G13: 8150.86 | H13: =G13+F13 -> 8150.86 | J13: 24046.9 | K13: =J13+I13 -> 24046.9 | M13: 47846.19 | N13: =M13+L13 -> 47846.19 | P13: 51942.75 | Q13: =P13+O13 -> 51942.75 | T13: =S13+R13 -> 0 | W13: =V13+U13 -> 0 | Z13: =Y13+X13 -> 0 | AB13: 47101.37 | AC13: =AB13+AA13 -> 47101.37 | AF13: =AD13+AE13 -> 0 | AI13: =AH13+AG13 -> 0 | AL13: =AK13+AJ13 -> 0 | AM13: =AJ13+AG13+AD13+AA13+X13+U13+R13+O13+L13+++I13+F13+C13 -> 0 | AN13: =AK13+AH13+AE13+AB13+Y13+V13+S13+P13+M13+++J13+G13+D13 -> 194535.53 | AO13: =AL13+AI13+AF13+AC13+Z13+W13+T13+Q13+N13+++K13+H13+E13 -> 194535.53
A14: 2240 | B14: Оплата послуг (крім комунальних) | E14: =D14+C14 -> 0 | G14: =150+79398.59 -> 79548.59 | H14: =G14+F14 -> 79548.59 | J14: =17488.36+150 -> 17638.36 | K14: =J14+I14 -> 17638.36 | M14: =150+31186.4 -> 31336.4 | N14: =M14+L14 -> 31336.4 | P14: =18065.06+150 -> 18215.06 | Q14: =P14+O14 -> 18215.06 | S14: =25226.75+150 -> 25376.75 | T14: =S14+R14 -> 25376.75 | V14: =22593.01+150 -> 22743.01 | W14: =V14+U14 -> 22743.01 | Y14: =150+378517.67 -> 378667.67 | Z14: =Y14+X14 -> 378667.67 | AB14: =16534.36+150 -> 16684.36 | AC14: =AB14+AA14 -> 16684.36 | AF14: =AD14+AE14 -> 0 | AI14: =AH14+AG14 -> 0 | AL14: =AK14+AJ14 -> 0 | AM14: =AJ14+AG14+AD14+AA14+X14+U14+R14+O14+L14+++I14+F14+C14 -> 0 | AN14: =AK14+AH14+AE14+AB14+Y14+V14+S14+P14+M14+++J14+G14+D14 -> 590210.2 | AO14: =AL14+AI14+AF14+AC14+Z14+W14+T14+Q14+N14+++K14+H14+E14 -> 590210.2
A15: 2250 | B15: Видатки на відрядження | E15: =D15+C15 -> 0 | H15: =G15+F15 -> 0 | K15: =J15+I15 -> 0 | N15: =M15+L15 -> 0 | Q15: =P15+O15 -> 0 | T15: =S15+R15 -> 0 | W15: =V15+U15 -> 0 | Z15: =Y15+X15 -> 0 | AC15: =AB15+AA15 -> 0 | AF15: =AD15+AE15 -> 0 | AI15: =AH15+AG15 -> 0 | AL15: =AK15+AJ15 -> 0 | AM15: =AJ15+AG15+AD15+AA15+X15+U15+R15+O15+L15+++I15+F15+C15 -> 0 | AN15: =AK15+AH15+AE15+AB15+Y15+V15+S15+P15+M15+++J15+G15+D15 -> 0 | AO15: =AL15+AI15+AF15+AC15+Z15+W15+T15+Q15+N15+++K15+H15+E15 -> 0
A16: 2260 | B16: Видатки та заходи спеціального призначення | E16: =D16+C16 -> 0 | H16: =G16+F16 -> 0 | K16: =J16+I16 -> 0 | N16: =M16+L16 -> 0 | Q16: =P16+O16 -> 0 | T16: =S16+R16 -> 0 | W16: =V16+U16 -> 0 | Z16: =Y16+X16 -> 0 | AC16: =AB16+AA16 -> 0 | AF16: =AD16+AE16 -> 0 | AI16: =AH16+AG16 -> 0 | AL16: =AK16+AJ16 -> 0 | AM16: =AJ16+AG16+AD16+AA16+X16+U16+R16+O16+L16+++I16+F16+C16 -> 0 | AN16: =AK16+AH16+AE16+AB16+Y16+V16+S16+P16+M16+++J16+G16+D16 -> 0 | AO16: =AL16+AI16+AF16+AC16+Z16+W16+T16+Q16+N16+++K16+H16+E16 -> 0
A17: 2271 | B17: Оплата теплопостачання | E17: =D17+C17 -> 0 | G17: =226576.53+238034.81 -> 464611.34 | H17: =G17+F17 -> 464611.34 | J17: =184737.15+134135.98 -> 318873.13 | K17: =J17+I17 -> 318873.13 | M17: =55520.24+52978.21 -> 108498.45 | N17: =M17+L17 -> 108498.45 | Q17: =P17+O17 -> 0 | T17: =S17+R17 -> 0 | W17: =V17+U17 -> 0 | Z17: =Y17+X17 -> 0 | AC17: =AB17+AA17 -> 0 | AF17: =AD17+AE17 -> 0 | AI17: =AH17+AG17 -> 0 | AL17: =AK17+AJ17 -> 0 | AM17: =AJ17+AG17+AD17+AA17+X17+U17+R17+O17+L17+++I17+F17+C17 -> 0 | AN17: =AK17+AH17+AE17+AB17+Y17+V17+S17+P17+M17+++J17+G17+D17 -> 891982.92 | AO17: =AL17+AI17+AF17+AC17+Z17+W17+T17+Q17+N17+++K17+H17+E17 -> 891982.92
A18: 2272 | B18: Оплата водопостачання та водовідведення | D18: =3528+987.84 -> 4515.84 | E18: =D18+C18 -> 4515.84 | G18: =3457.44+846.72 -> 4304.16 | H18: =G18+F18 -> 4304.16 | J18: =4515.84+776.16 -> 5292 | K18: =J18+I18 -> 5292 | M18: =3951.36+1058.4 -> 5009.76 | N18: =M18+L18 -> 5009.76 | P18: =4092.48+1975.68 -> 6068.16 | Q18: =P18+O18 -> 6068.16 | S18: =3638.71+1388.09 -> 5026.8 | T18: =S18+R18 -> 5026.8 | V18: =1333.96+1020.08 -> 2354.04 | W18: =V18+U18 -> 2354.04 | Y18: =784.68+941.62 -> 1726.3 | Z18: =Y18+X18 -> 1726.3 | AB18: =2354.04+627.74 -> 2981.78 | AC18: =AB18+AA18 -> 2981.78 | AF18: =AD18+AE18 -> 0 | AI18: =AH18+AG18 -> 0 | AL18: =AK18+AJ18 -> 0 | AM18: =AJ18+AG18+AD18+AA18+X18+U18+R18+O18+L18+++I18+F18+C18 -> 0 | AN18: =AK18+AH18+AE18+AB18+Y18+V18+S18+P18+M18+++J18+G18+D18 -> 37278.84 | AO18: =AL18+AI18+AF18+AC18+Z18+W18+T18+Q18+N18+++K18+H18+E18 -> 37278.84
A19: 2273 | B19: Оплата електроенергії | E19: =D19+C19 -> 0 | G19: =45868.89+5586.87 -> 51455.76 | H19: =G19+F19 -> 51455.76 | J19: =33938.2+3194.72 -> 37132.92 | K19: =J19+I19 -> 37132.92 | M19: =43607.72+5453.35 -> 49061.07 | N19: =M19+L19 -> 49061.07 | P19: =38297.45+7066.62 -> 45364.07 | Q19: =P19+O19 -> 45364.07 | S19: =26937.43+3566.43 -> 30503.86 | T19: =S19+R19 -> 30503.86 | V19: =6563.5+1256.38 -> 7819.88 | W19: =V19+U19 -> 7819.88 | Y19: =3831.47+669.58 -> 4501.05 | Z19: =Y19+X19 -> 4501.05 | AB19: =5721.29+1392.61 -> 7113.9 | AC19: =AB19+AA19 -> 7113.9 | AF19: =AD19+AE19 -> 0 | AI19: =AH19+AG19 -> 0 | AL19: =AK19+AJ19 -> 0 | AM19: =AJ19+AG19+AD19+AA19+X19+U19+R19+O19+L19+++I19+F19+C19 -> 0 | AN19: =AK19+AH19+AE19+AB19+Y19+V19+S19+P19+M19+++J19+G19+D19 -> 232952.51 | AO19: =AL19+AI19+AF19+AC19+Z19+W19+T19+Q19+N19+++K19+H19+E19 -> 232952.51
A20: 2274 | B20: Оплата природного газу | E20: =D20+C20 -> 0 | H20: =G20+F20 -> 0 | K20: =J20+I20 -> 0 | N20: =M20+L20 -> 0 | Q20: =P20+O20 -> 0 | T20: =S20+R20 -> 0 | W20: =V20+U20 -> 0 | Z20: =Y20+X20 -> 0 | AC20: =AB20+AA20 -> 0 | AF20: =AD20+AE20 -> 0 | AI20: =AH20+AG20 -> 0 | AL20: =AK20+AJ20 -> 0 | AM20: =AJ20+AG20+AD20+AA20+X20+U20+R20+O20+L20+++I20+F20+C20 -> 0 | AN20: =AK20+AH20+AE20+AB20+Y20+V20+S20+P20+M20+++J20+G20+D20 -> 0 | AO20: =AL20+AI20+AF20+AC20+Z20+W20+T20+Q20+N20+++K20+H20+E20 -> 0
A21: 2275 | B21: Оплата інших енергоносіїв | E21: =D21+C21 -> 0 | G21: 2756.73 | H21: =G21+F21 -> 2756.73 | J21: 2096.16 | K21: =J21+I21 -> 2096.16 | M21: 2358.18 | N21: =M21+L21 -> 2358.18 | P21: 9146.53 | Q21: =P21+O21 -> 9146.53 | S21: 2358.18 | T21: =S21+R21 -> 2358.18 | V21: 2358.18 | W21: =V21+U21 -> 2358.18 | Y21: 12536.29 | Z21: =Y21+X21 -> 12536.29 | AB21: 3466.48 | AC21: =AB21+AA21 -> 3466.48 | AF21: =AD21+AE21 -> 0 | AI21: =AH21+AG21 -> 0 | AL21: =AK21+AJ21 -> 0 | AM21: =AJ21+AG21+AD21+AA21+X21+U21+R21+O21+L21+++I21+F21+C21 -> 0 | AN21: =AK21+AH21+AE21+AB21+Y21+V21+S21+P21+M21+++J21+G21+D21 -> 37076.73 | AO21: =AL21+AI21+AF21+AC21+Z21+W21+T21+Q21+N21+++K21+H21+E21 -> 37076.73
A22: 2282 | B22: Окремі заходи по реалізації державних (регіональних) програм, не віднесені до заходів розвитку | E22: =D22+C22 -> 0 | H22: =G22+F22 -> 0 | K22: =J22+I22 -> 0 | N22: =M22+L22 -> 0 | Q22: =P22+O22 -> 0 | S22: 600 | T22: =S22+R22 -> 600 | W22: =V22+U22 -> 0 | Y22: 320 | Z22: =Y22+X22 -> 320 | AC22: =AB22+AA22 -> 0 | AF22: =AD22+AE22 -> 0 | AI22: =AH22+AG22 -> 0 | AL22: =AK22+AJ22 -> 0 | AM22: =AJ22+AG22+AD22+AA22+X22+U22+R22+O22+L22+++I22+F22+C22 -> 0 | AN22: =AK22+AH22+AE22+AB22+Y22+V22+S22+P22+M22+++J22+G22+D22 -> 920 | AO22: =AL22+AI22+AF22+AC22+Z22+W22+T22+Q22+N22+++K22+H22+E22 -> 920
A23: 2700
A24: 2800 | B24: Інші поточні видатки | E24: =D24+C24 -> 0 | F24: =E24+D24 -> 0 | G24: =F24+E24 -> 0 | H24: =G24+F24 -> 0 | I24: =H24+G24 -> 0 | K24: =J24+I24 -> 0 | N24: =M24+L24 -> 0 | O24: =N24+M24 -> 0 | P24: =O24+N24 -> 0 | Q24: =P24+O24 -> 0 | R24: =Q24+P24 -> 0 | S24: =R24+Q24 -> 0 | T24: =S24+R24 -> 0 | U24: =T24+S24 -> 0 | ... AM24: =AL24+AK24 -> 0 | AN24: =AK24+AH24+AE24+AB24+Y24+V24+S24+P24+M24+++J24+G24+D24 -> 0 | AO24: =AL24+AI24+AF24+AC24+Z24+W24+T24+Q24+N24+++K24+H24+E24 -> 0
A25: 3110 | B25: Придбання обладнання, предметів довгострокового користування | E25: =D25+C25 -> 0 | H25: =G25+F25 -> 0 | K25: =J25+I25 -> 0 | N25: =M25+L25 -> 0 | Q25: =P25+O25 -> 0 | T25: =S25+R25 -> 0 | W25: =V25+U25 -> 0 | Z25: =Y25+X25 -> 0 | AC25: =AB25+AA25 -> 0 | AF25: =AD25+AE25 -> 0 | AI25: =AH25+AG25 -> 0 | AL25: =AK25+AJ25 -> 0 | AM25: =AJ25+AG25+AD25+AA25+X25+U25+R25+O25+L25+++I25+F25+C25 -> 0 | AN25: =AK25+AH25+AE25+AB25+Y25+V25+S25+P25+M25+++J25+G25+D25 -> 0 | AO25: =AL25+AI25+AF25+AC25+Z25+W25+T25+Q25+N25+++K25+H25+E25 -> 0
A26: 3132 | B26: Капітальний ремонт інших об'єктів | E26: =D26+C26 -> 0 | H26: =G26+F26 -> 0 | K26: =J26+I26 -> 0 | N26: =M26+L26 -> 0 | Q26: =P26+O26 -> 0 | T26: =S26+R26 -> 0 | W26: =V26+U26 -> 0 | Z26: =Y26+X26 -> 0 | AC26: =AB26+AA26 -> 0 | AF26: =AD26+AE26 -> 0 | AI26: =AH26+AG26 -> 0 | AL26: =AK26+AJ26 -> 0 | AM26: =AJ26+AG26+AD26+AA26+X26+U26+R26+O26+L26+++I26+F26+C26 -> 0 | AN26: =AK26+AH26+AE26+AB26+Y26+V26+S26+P26+M26+++J26+G26+D26 -> 0 | AO26: =AL26+AI26+AF26+AC26+Z26+W26+T26+Q26+N26+++K26+H26+E26 -> 0
E27: =D27+C27 -> 0 | H27: =G27+F27 -> 0 | K27: =J27+I27 -> 0 | N27: =M27+L27 -> 0 | Q27: =P27+O27 -> 0 | T27: =S27+R27 -> 0 | W27: =V27+U27 -> 0 | Z27: =Y27+X27 -> 0 | AC27: =AB27+AA27 -> 0 | AF27: =AD27+AE27 -> 0 | AI27: =AH27+AG27 -> 0 | AL27: =AK27+AJ27 -> 0 | AM27: =AJ27+AG27+AD27+AA27+X27+U27+R27+O27+L27+++I27+F27+C27 -> 0 | AN27: =AK27+AH27+AE27+AB27+Y27+V27+S27+P27+M27+++J27+G27+D27 -> 0 | AO27: =AL27+AI27+AF27+AC27+Z27+W27+T27+Q27+N27+++K27+H27+E27 -> 0
A28: 2730 | E28: =D28+C28 -> 0 | H28: =G28+F28 -> 0 | K28: =J28+I28 -> 0 | N28: =M28+L28 -> 0 | Q28: =P28+O28 -> 0 | T28: =S28+R28 -> 0 | W28: =V28+U28 -> 0 | Z28: =Y28+X28 -> 0 | AC28: =AB28+AA28 -> 0 | AF28: =AD28+AE28 -> 0 | AI28: =AH28+AG28 -> 0 | AL28: =AK28+AJ28 -> 0 | AM28: =AJ28+AG28+AD28+AA28+X28+U28+R28+O28+L28+++I28+F28+C28 -> 0 | AN28: =AK28+AH28+AE28+AB28+Y28+V28+S28+P28+M28+++J28+G28+D28 -> 0 | AO28: =AL28+AI28+AF28+AC28+Z28+W28+T28+Q28+N28+++K28+H28+E28 -> 0
A29: 7520 | B29: Реалізація Національної програми інформатизації | E29: =D29+C29 -> 0 | G29: =1516+456 -> 1972 | H29: =G29+F29 -> 1972 | J29: =1516+456 -> 1972 | K29: =J29+I29 -> 1972 | M29: =2441+456 -> 2897 | N29: =M29+L29 -> 2897 | P29: =1516+456 -> 1972 | Q29: =P29+O29 -> 1972 | S29: =1516+456 -> 1972 | T29: =S29+R29 -> 1972 | V29: =2441+456 -> 2897 | W29: =V29+U29 -> 2897 | Y29: =1516+456 -> 1972 | Z29: =Y29+X29 -> 1972 | AB29: =1516+456 -> 1972 | AC29: =AB29+AA29 -> 1972 | AF29: =AD29+AE29 -> 0 | AI29: =AH29+AG29 -> 0 | AL29: =AK29+AJ29 -> 0 | AM29: =AJ29+AG29+AD29+AA29+X29+U29+R29+O29+L29+++I29+F29+C29 -> 0 | AN29: =AK29+AH29+AE29+AB29+Y29+V29+S29+P29+M29+++J29+G29+D29 -> 17626 | AO29: =AL29+AI29+AF29+AC29+Z29+W29+T29+Q29+N29+++K29+H29+E29 -> 17626
B30: Всього | E30: =SUM(E9:E28) -> 267027.59 | F30: =SUM(F9:F28) -> 0 | G30: =SUM(G9:G29) -> 831478.34 | H30: =SUM(H9:H29) -> 831478.34 | I30: =SUM(I9:I28) -> 0 | J30: =SUM(J9:J28) -> 679766.53 | K30: =J30+I30 -> 679766.53 | L30: =SUM(L9:L28) -> 0 | M30: =SUM(M9:M28) -> 515582.94 | N30: =M30+L30 -> 515582.94 | O30: =SUM(O9:O28) -> 0 | P30: =SUM(P9:P28) -> 420241.44 | Q30: =P30+O30 -> 420241.44 | R30: =SUM(R9:R28) -> 0 | S30: =SUM(S9:S28) -> 359686.65 | T30: =S30+R30 -> 359686.65 | U30: =SUM(U9:U28) -> 0 | V30: =SUM(V9:V28) -> 251475.42 | W30: =V30+U30 -> 251475.42 | X30: =SUM(X9:X28) -> 0 | Y30: =SUM(Y9:Y28) -> 629682.42 | Z30: =Y30+X30 -> 629682.42 | AA30: =SUM(AA9:AA28) -> 0 | AB30: =SUM(AB9:AB28) -> 387837.74 | AC30: =AB30+AA30 -> 387837.74 | AD30: =SUM(AD9:AD28) -> 0 | AE30: =SUM(AE9:AE28) -> 0 | AF30: =AE30+AD30 -> 0 | AG30: =SUM(AG9:AG28) -> 0 | AH30: =SUM(AH9:AH28) -> 0 | AI30: =AH30+AG30 -> 0 | AJ30: =SUM(AJ9:AJ28) -> 0 | AK30: =SUM(AK9:AK28) -> 0 | AL30: =AK30+AJ30 -> 0 | AM30: =SUM(AM9:AM28) -> 0 | AN30: =SUM(AN9:AN28) -> 4340807.1 | AO30: =SUM(AO9:AO28) -> 4340807.1
A33: Керівник
A35: Виконавець(ПІБ,тел.)

Sheet 76
R1: Додаток 3
R2: виконкому міської ради
R3: від 23.02.2016 №56
A4: Інформація
A5: щодо фактичного використання бюджетних коштів у 2026
A6: Криворізька гімназія №76 Криворізької міської ради
C7: Січень | F7: Лютий | I7: Березень | L7: Квітень | O7: Травень | R7: Червень | U7: Липень | X7: Серпень | AA7: Вересень | AD7: Жовтень | AG7: Листопад | AJ7: Грудень | AM7: Разом
C8: державний | D8: місцевий | E8: разом | F8: державний | G8: місцевий | H8: разом | I8: державний | J8: місцевий | K8: разом | L8: державний | M8: місцевий | N8: разом | O8: державний | P8: місцевий | Q8: разом | R8: державний | S8: місцевий | T8: разом | U8: державний | V8: місцевий | W8: разом | X8: державний | Y8: місцевий | Z8: разом | AA8: державний | AB8: місцевий | AC8: разом | AD8: державний | AE8: місцевий | AF8: разом | AG8: державний | AH8: місцевий | AI8: разом | AJ8: державний | AK8: місцевий | AL8: разом | AM8: державний | AN8: місцевий | AO8: разом
A9: 2111 | B9: Заробітна плата | D9: 172620.68 | E9: =D9+C9 -> 172620.68 | G9: 155780.93 | H9: =G9+F9 -> 155780.93 | J9: 151397.92 | K9: =J9+I9 -> 151397.92 | M9: 143390.64 | N9: =M9+L9 -> 143390.64 | P9: 156330.43 | Q9: =P9+O9 -> 156330.43 | S9: 151839.54 | T9: =S9+R9 -> 151839.54 | V9: 130115.41 | W9: =V9+U9 -> 130115.41 | Y9: 118300.1 | Z9: =Y9+X9 -> 118300.1 | AB9: =189322.32 -> 189322.32 | AC9: =AB9+AA9 -> 189322.32 | AF9: =AD9+AE9 -> 0 | AI9: =AH9+AG9 -> 0 | AL9: =AK9+AJ9 -> 0 | AM9: =AJ9+AG9+AD9+AA9+X9+U9+R9+O9+L9+I9+F9+C9 -> 0 | AN9: =AK9+AH9+AE9+AB9+Y9+V9+S9+P9+M9+J9+G9+D9 -> 1369098 | AO9: =AL9+AI9+AF9+AC9+Z9+W9+T9+Q9+N9+K9+H9+E9 -> 1369098
A10: 2120 | B10: Нарахування на оплату праці | D10: 37936.92 | E10: =D10+C10 -> 37936.92 | G10: 33062.23 | H10: =G10+F10 -> 33062.23 | J10: 33420.5 | K10: =J10+I10 -> 33420.5 | M10: 31949.26 | N10: =M10+L10 -> 31949.26 | P10: 32455.57 | Q10: =P10+O10 -> 32455.57 | S10: 35106.67 | T10: =S10+R10 -> 35106.67 | V10: 26347.3 | W10: =V10+U10 -> 26347.3 | Y10: 26578.63 | Z10: =Y10+X10 -> 26578.63 | AB10: 41312.89 | AC10: =AB10+AA10 -> 41312.89 | AF10: =AD10+AE10 -> 0 | AI10: =AH10+AG10 -> 0 | AL10: =AK10+AJ10 -> 0 | AM10: =AJ10+AG10+AD10+AA10+X10+U10+R10+O10+L10+I10+F10+C10 -> 0 | AN10: =AK10+AH10+AE10+AB10+Y10+V10+S10+P10+M10+J10+G10+D10 -> 298169.97 | AO10: =AL10+AI10+AF10+AC10+Z10+W10+T10+Q10+N10+K10+H10+E10 -> 298169.97
A11: 2210 | B11: Предмети, матеріали, обладнання та інвентар | D11: 2129.99 | E11: =D11+C11 -> 2129.99 | G11: 817.77 | H11: =G11+F11 -> 817.77 | J11: 743.12 | K11: =J11+I11 -> 743.12 | M11: 726.24 | N11: =M11+L11 -> 726.24 | P11: 1212.52 | Q11: =P11+O11 -> 1212.52 | T11: =S11+R11 -> 0 | W11: =V11+U11 -> 0 | Z11: =Y11+X11 -> 0 | AB11: 2240.41 | AC11: =AB11+AA11 -> 2240.41 | AF11: =AD11+AE11 -> 0 | AI11: =AH11+AG11 -> 0 | AL11: =AK11+AJ11 -> 0 | AM11: =AJ11+AG11+AD11+AA11+X11+U11+R11+O11+L11+I11+F11+C11 -> 0 | AN11: =AK11+AH11+AE11+AB11+Y11+V11+S11+P11+M11+J11+G11+D11 -> 7870.05 | AO11: =AL11+AI11+AF11+AC11+Z11+W11+T11+Q11+N11+K11+H11+E11 -> 7870.05
A12: 2220 | B12: Медикаменти та перев'язувальні матеріали | E12: =D12+C12 -> 0 | G12: 1680 | H12: =G12+F12 -> 1680 | J12: 1680 | K12: =J12+I12 -> 1680 | M12: 1706.19 | N12: =M12+L12 -> 1706.19 | P12: 278.14 | Q12: =P12+O12 -> 278.14 | T12: =S12+R12 -> 0 | W12: =V12+U12 -> 0 | Z12: =Y12+X12 -> 0 | AB12: 1960.8 | AC12: =AB12+AA12 -> 1960.8 | AF12: =AD12+AE12 -> 0 | AI12: =AH12+AG12 -> 0 | AL12: =AK12+AJ12 -> 0 | AM12: =AJ12+AG12+AD12+AA12+X12+U12+R12+O12+L12+I12+F12+C12 -> 0 | AN12: =AK12+AH12+AE12+AB12+Y12+V12+S12+P12+M12+J12+G12+D12 -> 7305.13 | AO12: =AL12+AI12+AF12+AC12+Z12+W12+T12+Q12+N12+K12+H12+E12 -> 7305.13
A13: 2230 | B13: Продукти харчування | E13: =D13+C13 -> 0 | H13: =G13+F13 -> 0 | K13: =J13+I13 -> 0 | N13: =M13+L13 -> 0 | Q13: =P13+O13 -> 0 | T13: =S13+R13 -> 0 | W13: =V13+U13 -> 0 | Z13: =Y13+X13 -> 0 | AB13: 7560.68 | AC13: =AB13+AA13 -> 7560.68 | AF13: =AD13+AE13 -> 0 | AI13: =AH13+AG13 -> 0 | AL13: =AK13+AJ13 -> 0 | AM13: =AJ13+AG13+AD13+AA13+X13+U13+R13+O13+L13+I13+F13+C13 -> 0 | AN13: =AK13+AH13+AE13+AB13+Y13+V13+S13+P13+M13+J13+G13+D13 -> 7560.68 | AO13: =AL13+AI13+AF13+AC13+Z13+W13+T13+Q13+N13+K13+H13+E13 -> 7560.68
A14: 2240 | B14: Оплата послуг (крім комунальних) | E14: =D14+C14 -> 0 | G14: =150+7200 -> 7350 | H14: =G14+F14 -> 7350 | J14: =16968.68+150 -> 17118.68 | K14: =J14+I14 -> 17118.68 | M14: =150+16221.98 -> 16371.98 | N14: =M14+L14 -> 16371.98 | P14: =16698.98+150 -> 16848.98 | Q14: =P14+O14 -> 16848.98 | S14: =9573.68+150 -> 9723.68 | T14: =S14+R14 -> 9723.68 | V14: =15112.07+150 -> 15262.07 | W14: =V14+U14 -> 15262.07 | Y14: =150+27159.35 -> 27309.35 | Z14: =Y14+X14 -> 27309.35 | AB14: =70219.22+150 -> 70369.22 | AC14: =AB14+AA14 -> 70369.22 | AF14: =AD14+AE14 -> 0 | AI14: =AH14+AG14 -> 0 | AL14: =AK14+AJ14 -> 0 | AM14: =AJ14+AG14+AD14+AA14+X14+U14+R14+O14+L14+I14+F14+C14 -> 0 | AN14: =AK14+AH14+AE14+AB14+Y14+V14+S14+P14+M14+J14+G14+D14 -> 180353.96 | AO14: =AL14+AI14+AF14+AC14+Z14+W14+T14+Q14+N14+K14+H14+E14 -> 180353.96
A15: 2250 | B15: Видатки на відрядження | E15: =D15+C15 -> 0 | H15: =G15+F15 -> 0 | K15: =J15+I15 -> 0 | N15: =M15+L15 -> 0 | Q15: =P15+O15 -> 0 | T15: =S15+R15 -> 0 | W15: =V15+U15 -> 0 | Z15: =Y15+X15 -> 0 | AC15: =AB15+AA15 -> 0 | AF15: =AD15+AE15 -> 0 | AI15: =AH15+AG15 -> 0 | AL15: =AK15+AJ15 -> 0 | AM15: =AJ15+AG15+AD15+AA15+X15+U15+R15+O15+L15+I15+F15+C15 -> 0 | AN15: =AK15+AH15+AE15+AB15+Y15+V15+S15+P15+M15+J15+G15+D15 -> 0 | AO15: =AL15+AI15+AF15+AC15+Z15+W15+T15+Q15+N15+K15+H15+E15 -> 0
A16: 2260 | B16: Видатки та заходи спеціального призначення | E16: =D16+C16 -> 0 | H16: =G16+F16 -> 0 | K16: =J16+I16 -> 0 | N16: =M16+L16 -> 0 | Q16: =P16+O16 -> 0 | T16: =S16+R16 -> 0 | W16: =V16+U16 -> 0 | Z16: =Y16+X16 -> 0 | AC16: =AB16+AA16 -> 0 | AF16: =AD16+AE16 -> 0 | AI16: =AH16+AG16 -> 0 | AL16: =AK16+AJ16 -> 0 | AM16: =AJ16+AG16+AD16+AA16+X16+U16+R16+O16+L16+I16+F16+C16 -> 0 | AN16: =AK16+AH16+AE16+AB16+Y16+V16+S16+P16+M16+J16+G16+D16 -> 0 | AO16: =AL16+AI16+AF16+AC16+Z16+W16+T16+Q16+N16+K16+H16+E16 -> 0
A17: 2271 | B17: Оплата теплопостачання | E17: =D17+C17 -> 0 | G17: =502456.74 -> 502456.74 | H17: =G17+F17 -> 502456.74 | J17: 373060.79 | K17: =J17+I17 -> 373060.79 | M17: 185510.39 | N17: =M17+L17 -> 185510.39 | Q17: =P17+O17 -> 0 | T17: =S17+R17 -> 0 | W17: =V17+U17 -> 0 | Z17: =Y17+X17 -> 0 | AC17: =AB17+AA17 -> 0 | AF17: =AD17+AE17 -> 0 | AI17: =AH17+AG17 -> 0 | AL17: =AK17+AJ17 -> 0 | AM17: =AJ17+AG17+AD17+AA17+X17+U17+R17+O17+L17+I17+F17+C17 -> 0 | AN17: =AK17+AH17+AE17+AB17+Y17+V17+S17+P17+M17+J17+G17+D17 -> 1061027.9 | AO17: =AL17+AI17+AF17+AC17+Z17+W17+T17+Q17+N17+K17+H17+E17 -> 1061027.9
A18: 2272 | B18: Оплата водопостачання та водовідведення | D18: 3457.44 | E18: =D18+C18 -> 3457.44 | G18: 5009.76 | H18: =G18+F18 -> 5009.76 | J18: 5644.8 | K18: =J18+I18 -> 5644.8 | M18: 4868.64 | N18: =M18+L18 -> 4868.64 | P18: 4868.64 | Q18: =P18+O18 -> 4868.64 | S18: 4116.81 | T18: =S18+R18 -> 4116.81 | V18: 2058.17 | W18: =V18+U18 -> 2058.17 | Y18: 2040.17 | Z18: =Y18+X18 -> 2040.17 | AB18: =1412.42+4708.08 -> 6120.5 | AC18: =AB18+AA18 -> 6120.5 | AF18: =AD18+AE18 -> 0 | AI18: =AH18+AG18 -> 0 | AL18: =AK18+AJ18 -> 0 | AM18: =AJ18+AG18+AD18+AA18+X18+U18+R18+O18+L18+I18+F18+C18 -> 0 | AN18: =AK18+AH18+AE18+AB18+Y18+V18+S18+P18+M18+J18+G18+D18 -> 38184.93 | AO18: =AL18+AI18+AF18+AC18+Z18+W18+T18+Q18+N18+K18+H18+E18 -> 38184.93
A19: 2273 | B19: Оплата електроенергії | E19: =D19+C19 -> 0 | G19: 24157.9 | H19: =G19+F19 -> 24157.9 | J19: 33048.1 | K19: =J19+I19 -> 33048.1 | M19: 39578.15 | N19: =M19+L19 -> 39578.15 | P19: 32164.32 | Q19: =P19+O19 -> 32164.32 | S19: 31848.44 | T19: =S19+R19 -> 31848.44 | V19: 15583.39 | W19: =V19+U19 -> 15583.39 | Y19: 12140.13 | Z19: =Y19+X19 -> 12140.13 | AB19: 11616.66 | AC19: =AB19+AA19 -> 11616.66 | AF19: =AD19+AE19 -> 0 | AI19: =AH19+AG19 -> 0 | AL19: =AK19+AJ19 -> 0 | AM19: =AJ19+AG19+AD19+AA19+X19+U19+R19+O19+L19+I19+F19+C19 -> 0 | AN19: =AK19+AH19+AE19+AB19+Y19+V19+S19+P19+M19+J19+G19+D19 -> 200137.09 | AO19: =AL19+AI19+AF19+AC19+Z19+W19+T19+Q19+N19+K19+H19+E19 -> 200137.09
A20: 2274 | B20: Оплата природного газу | E20: =D20+C20 -> 0 | H20: =G20+F20 -> 0 | K20: =J20+I20 -> 0 | N20: =M20+L20 -> 0 | Q20: =P20+O20 -> 0 | T20: =S20+R20 -> 0 | W20: =V20+U20 -> 0 | Z20: =Y20+X20 -> 0 | AC20: =AB20+AA20 -> 0 | AF20: =AD20+AE20 -> 0 | AI20: =AH20+AG20 -> 0 | AL20: =AK20+AJ20 -> 0 | AM20: =AJ20+AG20+AD20+AA20+X20+U20+R20+O20+L20+I20+F20+C20 -> 0 | AN20: =AK20+AH20+AE20+AB20+Y20+V20+S20+P20+M20+J20+G20+D20 -> 0 | AO20: =AL20+AI20+AF20+AC20+Z20+W20+T20+Q20+N20+K20+H20+E20 -> 0
A21: 2275 | B21: Оплата інших енергоносіїв | D21: 10394.57 | E21: =D21+C21 -> 10394.57 | G21: 6108.71 | H21: =G21+F21 -> 6108.71 | J21: 1052.47 | K21: =J21+I21 -> 1052.47 | M21: 786.06 | N21: =M21+L21 -> 786.06 | P21: 1086.66 | Q21: =P21+O21 -> 1086.66 | S21: 524.04 | T21: =S21+R21 -> 524.04 | V21: 524.04 | W21: =V21+U21 -> 524.04 | Y21: 1145.43 | Z21: =Y21+X21 -> 1145.43 | AB21: 1224.42 | AC21: =AB21+AA21 -> 1224.42 | AF21: =AD21+AE21 -> 0 | AI21: =AH21+AG21 -> 0 | AL21: =AK21+AJ21 -> 0 | AM21: =AJ21+AG21+AD21+AA21+X21+U21+R21+O21+L21+I21+F21+C21 -> 0 | AN21: =AK21+AH21+AE21+AB21+Y21+V21+S21+P21+M21+J21+G21+D21 -> 22846.4 | AO21: =AL21+AI21+AF21+AC21+Z21+W21+T21+Q21+N21+K21+H21+E21 -> 22846.4
A22: 2282 | B22: Окремі заходи по реалізації державних (регіональних) програм, не віднесені до заходів розвитку | E22: =D22+C22 -> 0 | H22: =G22+F22 -> 0 | K22: =J22+I22 -> 0 | N22: =M22+L22 -> 0 | Q22: =P22+O22 -> 0 | T22: =S22+R22 -> 0 | W22: =V22+U22 -> 0 | Y22: 320 | Z22: =Y22+X22 -> 320 | AC22: =AB22+AA22 -> 0 | AF22: =AD22+AE22 -> 0 | AI22: =AH22+AG22 -> 0 | AL22: =AK22+AJ22 -> 0 | AM22: =AJ22+AG22+AD22+AA22+X22+U22+R22+O22+L22+I22+F22+C22 -> 0 | AN22: =AK22+AH22+AE22+AB22+Y22+V22+S22+P22+M22+J22+G22+D22 -> 320 | AO22: =AL22+AI22+AF22+AC22+Z22+W22+T22+Q22+N22+K22+H22+E22 -> 320
A23: 2700
A24: 2800 | B24: Інші поточні видатки | E24: =D24+C24 -> 0 | F24: =E24+D24 -> 0 | G24: =F24+E24 -> 0 | H24: =G24+F24 -> 0 | I24: =H24+G24 -> 0 | K24: =J24+I24 -> 0 | N24: =M24+L24 -> 0 | O24: =N24+M24 -> 0 | P24: =O24+N24 -> 0 | Q24: =P24+O24 -> 0 | R24: =Q24+P24 -> 0 | S24: =R24+Q24 -> 0 | T24: =S24+R24 -> 0 | U24: =T24+S24 -> 0 | ... AD24: =AC24+AB24 -> 0 | AF24: =AE24+AD24 -> 0 | AI24: =AH24+AG24 -> 0 | AJ24: =AI24+AH24 -> 0 | AK24: =AJ24+AI24 -> 0 | AL24: =AK24+AJ24 -> 0 | AM24: =AL24+AK24 -> 0 | AN24: =AK24+AH24+AE24+AB24+Y24+V24+S24+P24+M24+J24+G24+D24 -> 0 | AO24: =AL24+AI24+AF24+AC24+Z24+W24+T24+Q24+N24+K24+H24+E24 -> 0
A25: 3110 | B25: Придбання обладнання, предметів довгострокового користування | E25: =D25+C25 -> 0 | H25: =G25+F25 -> 0 | K25: =J25+I25 -> 0 | N25: =M25+L25 -> 0 | Q25: =P25+O25 -> 0 | T25: =S25+R25 -> 0 | W25: =V25+U25 -> 0 | Z25: =Y25+X25 -> 0 | AC25: =AB25+AA25 -> 0 | AF25: =AD25+AE25 -> 0 | AI25: =AH25+AG25 -> 0 | AL25: =AK25+AJ25 -> 0 | AM25: =AJ25+AG25+AD25+AA25+X25+U25+R25+O25+L25+I25+F25+C25 -> 0 | AN25: =AK25+AH25+AE25+AB25+Y25+V25+S25+P25+M25+J25+G25+D25 -> 0 | AO25: =AL25+AI25+AF25+AC25+Z25+W25+T25+Q25+N25+K25+H25+E25 -> 0
A26: 3132 | B26: Капітальний ремонт інших об'єктів | E26: =D26+C26 -> 0 | H26: =G26+F26 -> 0 | K26: =J26+I26 -> 0 | N26: =M26+L26 -> 0 | Q26: =P26+O26 -> 0 | T26: =S26+R26 -> 0 | W26: =V26+U26 -> 0 | Z26: =Y26+X26 -> 0 | AC26: =AB26+AA26 -> 0 | AF26: =AD26+AE26 -> 0 | AI26: =AH26+AG26 -> 0 | AL26: =AK26+AJ26 -> 0 | AM26: =AJ26+AG26+AD26+AA26+X26+U26+R26+O26+L26+I26+F26+C26 -> 0 | AN26: =AK26+AH26+AE26+AB26+Y26+V26+S26+P26+M26+J26+G26+D26 -> 0 | AO26: =AL26+AI26+AF26+AC26+Z26+W26+T26+Q26+N26+K26+H26+E26 -> 0
E27: =D27+C27 -> 0 | H27: =G27+F27 -> 0 | K27: =J27+I27 -> 0 | N27: =M27+L27 -> 0 | Q27: =P27+O27 -> 0 | T27: =S27+R27 -> 0 | W27: =V27+U27 -> 0 | Z27: =Y27+X27 -> 0 | AC27: =AB27+AA27 -> 0 | AF27: =AD27+AE27 -> 0 | AI27: =AH27+AG27 -> 0 | AL27: =AK27+AJ27 -> 0 | AM27: =AJ27+AG27+AD27+AA27+X27+U27+R27+O27+L27+I27+F27+C27 -> 0 | AN27: =AK27+AH27+AE27+AB27+Y27+V27+S27+P27+M27+J27+G27+D27 -> 0 | AO27: =AL27+AI27+AF27+AC27+Z27+W27+T27+Q27+N27+K27+H27+E27 -> 0
A28: 2730 | E28: =D28+C28 -> 0 | H28: =G28+F28 -> 0 | K28: =J28+I28 -> 0 | N28: =M28+L28 -> 0 | Q28: =P28+O28 -> 0 | T28: =S28+R28 -> 0 | W28: =V28+U28 -> 0 | Z28: =Y28+X28 -> 0 | AC28: =AB28+AA28 -> 0 | AF28: =AD28+AE28 -> 0 | AI28: =AH28+AG28 -> 0 | AL28: =AK28+AJ28 -> 0 | AM28: =AJ28+AG28+AD28+AA28+X28+U28+R28+O28+L28+I28+F28+C28 -> 0 | AN28: =AK28+AH28+AE28+AB28+Y28+V28+S28+P28+M28+J28+G28+D28 -> 0 | AO28: =AL28+AI28+AF28+AC28+Z28+W28+T28+Q28+N28+K28+H28+E28 -> 0
A29: 7520 | B29: Реалізація Національної програми інформатизації | E29: =D29+C29 -> 0 | G29: 1516 | H29: =G29+F29 -> 1516 | J29: 1516 | K29: =J29+I29 -> 1516 | M29: 2266 | N29: =M29+L29 -> 2266 | P29: 1516 | Q29: =P29+O29 -> 1516 | S29: 1516 | T29: =S29+R29 -> 1516 | V29: 2266 | W29: =V29+U29 -> 2266 | Y29: 1516 | Z29: =Y29+X29 -> 1516 | AB29: 1516 | AC29: =AB29+AA29 -> 1516 | AF29: =AD29+AE29 -> 0 | AI29: =AH29+AG29 -> 0 | AL29: =AK29+AJ29 -> 0 | AM29: =AJ29+AG29+AD29+AA29+X29+U29+R29+O29+L29+I29+F29+C29 -> 0 | AN29: =AK29+AH29+AE29+AB29+Y29+V29+S29+P29+M29+J29+G29+D29 -> 13628 | AO29: =AL29+AI29+AF29+AC29+Z29+W29+T29+Q29+N29+K29+H29+E29 -> 13628
B30: Всього | C30: =SUM(C9:C28) -> 0 | D30: =SUM(D9:D28) -> 226539.6 | E30: =SUM(E9:E28) -> 226539.6 | F30: =SUM(F9:F28) -> 0 | G30: =SUM(G9:G28) -> 736424.04 | H30: =SUM(H9:H28) -> 736424.04 | I30: =SUM(I9:I28) -> 0 | J30: =SUM(J9:J28) -> 617166.38 | K30: =J30+I30 -> 617166.38 | L30: =SUM(L9:L28) -> 0 | M30: =SUM(M9:M28) -> 424887.55 | N30: =M30+L30 -> 424887.55 | O30: =SUM(O9:O28) -> 0 | P30: =SUM(P9:P28) -> 245245.26 | Q30: =P30+O30 -> 245245.26 | R30: =SUM(R9:R28) -> 0 | S30: =SUM(S9:S28) -> 233159.18 | T30: =S30+R30 -> 233159.18 | U30: =SUM(U9:U28) -> 0 | V30: =SUM(V9:V28) -> 189890.38 | W30: =V30+U30 -> 189890.38 | X30: =SUM(X9:X28) -> 0 | Y30: =SUM(Y9:Y28) -> 187833.81 | Z30: =Y30+X30 -> 187833.81 | AA30: =SUM(AA9:AA28) -> 0 | AB30: =SUM(AB9:AB28) -> 331727.9 | AC30: =AB30+AA30 -> 331727.9 | AD30: =SUM(AD9:AD28) -> 0 | AE30: =SUM(AE9:AE28) -> 0 | AF30: =AE30+AD30 -> 0 | AG30: =SUM(AG9:AG28) -> 0 | AH30: =SUM(AH9:AH28) -> 0 | AI30: =AH30+AG30 -> 0 | AJ30: =SUM(AJ9:AJ28) -> 0 | AK30: =SUM(AK9:AK28) -> 0 | AL30: =AK30+AJ30 -> 0 | AM30: =SUM(AM9:AM28) -> 0 | AN30: =SUM(AN9:AN28) -> 3192874.1 | AO30: =SUM(AO9:AO28) -> 3192874.1
A33: Керівник
A35: Виконавець(ПІБ,тел.)

Sheet КЛ 77
R1: Додаток 3
R2: до наказу управління освіти і науки
R3: виконкому міської ради
A4: Інформація
A5: щодо фактичного використання бюджетних коштів у 2026
A6: Криворізький ліцей №77 Криворізької міської ради
C7: Січень | F7: Лютий | I7: Березень | L7: Квітень | O7: Травень | R7: Червень | U7: Липень | X7: Серпень | AA7: Вересень | AD7: Жовтень | AG7: Листопад | AJ7: Грудень | AM7: Разом
C8: державний | D8: місцевий | E8: разом | F8: державний | G8: місцевий | H8: разом | I8: державний | J8: місцевий | K8: разом | L8: державний | M8: місцевий | N8: разом | O8: державний | P8: місцевий | Q8: разом | R8: державний | S8: місцевий | T8: разом | U8: державний | V8: місцевий | W8: разом | X8: державний | Y8: місцевий | Z8: разом | AA8: державний | AB8: місцевий | AC8: разом | AD8: державний | AE8: місцевий | AF8: разом | AG8: державний | AH8: місцевий | AI8: разом | AJ8: державний | AK8: місцевий | AL8: разом | AM8: державний | AN8: місцевий | AO8: разом
A9: 2111 | B9: Заробітна плата | D9: 210358.82 | E9: =D9+C9 -> 210358.82 | G9: 207156.28 | H9: =G9+F9 -> 207156.28 | J9: 266749.8 | K9: =J9+I9 -> 266749.8 | M9: 263891.14 | N9: =M9+L9 -> 263891.14 | P9: 264393.59 | Q9: =P9+O9 -> 264393.59 | S9: 254242.83 | T9: =S9+R9 -> 254242.83 | V9: 266651.33 | W9: =V9+U9 -> 266651.33 | Y9: 192360.95 | Z9: =Y9+X9 -> 192360.95 | AB9: 206323.14 | AC9: =AB9+AA9 -> 206323.14 | AF9: =AD9+AE9 -> 0 | AI9: =AH9+AG9 -> 0 | AL9: =AK9+AJ9 -> 0 | AM9: =AJ9+AG9+AD9+AA9+X9+U9+R9+O9+L9+I9+F9+C9 -> 0 | AN9: =AK9+AH9+AE9+AB9+Y9+V9+S9+P9+M9+J9+G9+D9 -> 2132127.9 | AO9: =AL9+AI9+AF9+AC9+Z9+W9+T9+Q9+N9+K9+H9+E9 -> 2132127.9
A10: 2120 | B10: Нарахування на оплату праці | D10: 49529.43 | E10: =D10+C10 -> 49529.43 | G10: 47001.14 | H10: =G10+F10 -> 47001.14 | J10: 60920.2 | K10: =J10+I10 -> 60920.2 | M10: 56535.97 | N10: =M10+L10 -> 56535.97 | P10: 55874.49 | Q10: =P10+O10 -> 55874.49 | S10: 56723.44 | T10: =S10+R10 -> 56723.44 | V10: 59140.56 | W10: =V10+U10 -> 59140.56 | Y10: 43969.16 | Z10: =Y10+X10 -> 43969.16 | AB10: 49260.76 | AC10: =AB10+AA10 -> 49260.76 | AF10: =AD10+AE10 -> 0 | AI10: =AH10+AG10 -> 0 | AL10: =AK10+AJ10 -> 0 | AM10: =AJ10+AG10+AD10+AA10+X10+U10+R10+O10+L10+I10+F10+C10 -> 0 | AN10: =AK10+AH10+AE10+AB10+Y10+V10+S10+P10+M10+J10+G10+D10 -> 478955.15 | AO10: =AL10+AI10+AF10+AC10+Z10+W10+T10+Q10+N10+K10+H10+E10 -> 478955.15
A11: 2210 | B11: Предмети, матеріали, обладнання та інвентар | D11: 435.6 | E11: =D11+C11 -> 435.6 | G11: 1350.1 | H11: =G11+F11 -> 1350.1 | J11: 678.58 | K11: =J11+I11 -> 678.58 | M11: 496.3 | N11: =M11+L11 -> 496.3 | P11: 1692.92 | Q11: =P11+O11 -> 1692.92 | S11: 376.2 | T11: =S11+R11 -> 376.2 | W11: =V11+U11 -> 0 | Z11: =Y11+X11 -> 0 | AB11: 783.42 | AC11: =AB11+AA11 -> 783.42 | AF11: =AD11+AE11 -> 0 | AI11: =AH11+AG11 -> 0 | AL11: =AK11+AJ11 -> 0 | AM11: =AJ11+AG11+AD11+AA11+X11+U11+R11+O11+L11+I11+F11+C11 -> 0 | AN11: =AK11+AH11+AE11+AB11+Y11+V11+S11+P11+M11+J11+G11+D11 -> 5813.12 | AO11: =AL11+AI11+AF11+AC11+Z11+W11+T11+Q11+N11+K11+H11+E11 -> 5813.12
A12: 2220 | B12: Медикаменти та перев'язувальні матеріали | E12: =D12+C12 -> 0 | H12: =G12+F12 -> 0 | J12: 1890 | K12: =J12+I12 -> 1890 | M12: 1004 | N12: =M12+L12 -> 1004 | P12: 532 | Q12: =P12+O12 -> 532 | T12: =S12+R12 -> 0 | W12: =V12+U12 -> 0 | Z12: =Y12+X12 -> 0 | AC12: =AB12+AA12 -> 0 | AF12: =AD12+AE12 -> 0 | AI12: =AH12+AG12 -> 0 | AL12: =AK12+AJ12 -> 0 | AM12: =AJ12+AG12+AD12+AA12+X12+U12+R12+O12+L12+I12+F12+C12 -> 0 | AN12: =AK12+AH12+AE12+AB12+Y12+V12+S12+P12+M12+J12+G12+D12 -> 3426 | AO12: =AL12+AI12+AF12+AC12+Z12+W12+T12+Q12+N12+K12+H12+E12 -> 3426
A13: 2230 | B13: Продукти харчування | E13: =D13+C13 -> 0 | H13: =G13+F13 -> 0 | K13: =J13+I13 -> 0 | N13: =M13+L13 -> 0 | Q13: =P13+O13 -> 0 | T13: =S13+R13 -> 0 | W13: =V13+U13 -> 0 | Z13: =Y13+X13 -> 0 | AC13: =AB13+AA13 -> 0 | AF13: =AD13+AE13 -> 0 | AI13: =AH13+AG13 -> 0 | AL13: =AK13+AJ13 -> 0 | AM13: =AJ13+AG13+AD13+AA13+X13+U13+R13+O13+L13+I13+F13+C13 -> 0 | AN13: =AK13+AH13+AE13+AB13+Y13+V13+S13+P13+M13+J13+G13+D13 -> 0 | AO13: =AL13+AI13+AF13+AC13+Z13+W13+T13+Q13+N13+K13+H13+E13 -> 0
A14: 2240 | B14: Оплата послуг (крім комунальних) | E14: =D14+C14 -> 0 | G14: =10832.88 -> 10832.88 | H14: =G14+F14 -> 10832.88 | J14: =20939.98 -> 20939.98 | K14: =J14+I14 -> 20939.98 | M14: =16863.84 -> 16863.84 | N14: =M14+L14 -> 16863.84 | P14: 8756.4 | Q14: =P14+O14 -> 8756.4 | S14: 9356.4 | T14: =S14+R14 -> 9356.4 | V14: =12014.56 -> 12014.56 | W14: =V14+U14 -> 12014.56 | Y14: =24723.8 -> 24723.8 | Z14: =Y14+X14 -> 24723.8 | AB14: =151817.42 -> 151817.42 | AC14: =AB14+AA14 -> 151817.42 | AF14: =AD14+AE14 -> 0 | AI14: =AH14+AG14 -> 0 | AL14: =AK14+AJ14 -> 0 | AM14: =AJ14+AG14+AD14+AA14+X14+U14+R14+O14+L14+I14+F14+C14 -> 0 | AN14: =AK14+AH14+AE14+AB14+Y14+V14+S14+P14+M14+J14+G14+D14 -> 255305.28 | AO14: =AL14+AI14+AF14+AC14+Z14+W14+T14+Q14+N14+K14+H14+E14 -> 255305.28
A15: 2250 | B15: Видатки на відрядження | E15: =D15+C15 -> 0 | H15: =G15+F15 -> 0 | K15: =J15+I15 -> 0 | N15: =M15+L15 -> 0 | Q15: =P15+O15 -> 0 | T15: =S15+R15 -> 0 | W15: =V15+U15 -> 0 | Z15: =Y15+X15 -> 0 | AB15: 1900 | AC15: =AB15+AA15 -> 1900 | AF15: =AD15+AE15 -> 0 | AI15: =AH15+AG15 -> 0 | AL15: =AK15+AJ15 -> 0 | AM15: =AJ15+AG15+AD15+AA15+X15+U15+R15+O15+L15+I15+F15+C15 -> 0 | AN15: =AK15+AH15+AE15+AB15+Y15+V15+S15+P15+M15+J15+G15+D15 -> 1900 | AO15: =AL15+AI15+AF15+AC15+Z15+W15+T15+Q15+N15+K15+H15+E15 -> 1900
A16: 2260 | B16: Видатки та заходи спеціального призначення | E16: =D16+C16 -> 0 | H16: =G16+F16 -> 0 | K16: =J16+I16 -> 0 | N16: =M16+L16 -> 0 | Q16: =P16+O16 -> 0 | T16: =S16+R16 -> 0 | W16: =V16+U16 -> 0 | Z16: =Y16+X16 -> 0 | AC16: =AB16+AA16 -> 0 | AF16: =AD16+AE16 -> 0 | AI16: =AH16+AG16 -> 0 | AL16: =AK16+AJ16 -> 0 | AM16: =AJ16+AG16+AD16+AA16+X16+U16+R16+O16+L16+I16+F16+C16 -> 0 | AN16: =AK16+AH16+AE16+AB16+Y16+V16+S16+P16+M16+J16+G16+D16 -> 0 | AO16: =AL16+AI16+AF16+AC16+Z16+W16+T16+Q16+N16+K16+H16+E16 -> 0
A17: 2271 | B17: Оплата теплопостачання | E17: =D17+C17 -> 0 | G17: =408366.61 -> 408366.61 | H17: =G17+F17 -> 408366.61 | J17: 645904.25 | K17: =J17+I17 -> 645904.25 | M17: 217632.39 | N17: =M17+L17 -> 217632.39 | Q17: =P17+O17 -> 0 | T17: =S17+R17 -> 0 | W17: =V17+U17 -> 0 | Z17: =Y17+X17 -> 0 | AC17: =AB17+AA17 -> 0 | AF17: =AD17+AE17 -> 0 | AI17: =AH17+AG17 -> 0 | AL17: =AK17+AJ17 -> 0 | AM17: =AJ17+AG17+AD17+AA17+X17+U17+R17+O17+L17+I17+F17+C17 -> 0 | AN17: =AK17+AH17+AE17+AB17+Y17+V17+S17+P17+M17+J17+G17+D17 -> 1271903.2 | AO17: =AL17+AI17+AF17+AC17+Z17+W17+T17+Q17+N17+K17+H17+E17 -> 1271903.2
A18: 2272 | B18: Оплата водопостачання та водовідведення | D18: =2046.24+352.8 -> 2399.04 | E18: =D18+C18 -> 2399.04 | G18: =6068.16+493.92 -> 6562.08 | H18: =G18+F18 -> 6562.08 | J18: =5282.67+705.6 -> 5988.27 | K18: =J18+I18 -> 5988.27 | M18: =5292+282.24 -> 5574.24 | N18: =M18+L18 -> 5574.24 | P18: =6068.16+141.12 -> 6209.28 | Q18: =P18+O18 -> 6209.28 | S18: =5097.36+219.59 -> 5316.95 | T18: =S18+R18 -> 5316.95 | V18: =1392.93+156.94 -> 1549.87 | W18: =V18+U18 -> 1549.87 | Y18: =863.15+313.87 -> 1177.02 | Z18: =Y18+X18 -> 1177.02 | AB18: =5178.89+2667.91 -> 7846.8 | AC18: =AB18+AA18 -> 7846.8 | AF18: =AD18+AE18 -> 0 | AI18: =AH18+AG18 -> 0 | AL18: =AK18+AJ18 -> 0 | AM18: =AJ18+AG18+AD18+AA18+X18+U18+R18+O18+L18+I18+F18+C18 -> 0 | AN18: =AK18+AH18+AE18+AB18+Y18+V18+S18+P18+M18+J18+G18+D18 -> 42623.55 | AO18: =AL18+AI18+AF18+AC18+Z18+W18+T18+Q18+N18+K18+H18+E18 -> 42623.55
A19: 2273 | B19: Оплата електроенергії | E19: =D19+C19 -> 0 | G19: 111030.15 | H19: =G19+F19 -> 111030.15 | J19: 55457.06 | K19: =J19+I19 -> 55457.06 | M19: 78696.97 | N19: =M19+L19 -> 78696.97 | P19: 69466.31 | Q19: =P19+O19 -> 69466.31 | S19: 40717.5 | T19: =S19+R19 -> 40717.5 | V19: 10433.36 | W19: =V19+U19 -> 10433.36 | Y19: 7895.44 | Z19: =Y19+X19 -> 7895.44 | AB19: 12394.2 | AC19: =AB19+AA19 -> 12394.2 | AF19: =AD19+AE19 -> 0 | AI19: =AH19+AG19 -> 0 | AL19: =AK19+AJ19 -> 0 | AM19: =AJ19+AG19+AD19+AA19+X19+U19+R19+O19+L19+I19+F19+C19 -> 0 | AN19: =AK19+AH19+AE19+AB19+Y19+V19+S19+P19+M19+J19+G19+D19 -> 386090.99 | AO19: =AL19+AI19+AF19+AC19+Z19+W19+T19+Q19+N19+K19+H19+E19 -> 386090.99
A20: 2274 | B20: Оплата природного газу | E20: =D20+C20 -> 0 | H20: =G20+F20 -> 0 | K20: =J20+I20 -> 0 | N20: =M20+L20 -> 0 | Q20: =P20+O20 -> 0 | T20: =S20+R20 -> 0 | W20: =V20+U20 -> 0 | Z20: =Y20+X20 -> 0 | AC20: =AB20+AA20 -> 0 | AF20: =AD20+AE20 -> 0 | AI20: =AH20+AG20 -> 0 | AL20: =AK20+AJ20 -> 0 | AM20: =AJ20+AG20+AD20+AA20+X20+U20+R20+O20+L20+I20+F20+C20 -> 0 | AN20: =AK20+AH20+AE20+AB20+Y20+V20+S20+P20+M20+J20+G20+D20 -> 0 | AO20: =AL20+AI20+AF20+AC20+Z20+W20+T20+Q20+N20+K20+H20+E20 -> 0
A21: 2275 | B21: Оплата інших енергоносіїв | E21: =D21+C21 -> 0 | G21: 524.04 | H21: =G21+F21 -> 524.04 | J21: 549.25 | K21: =J21+I21 -> 549.25 | M21: 524.04 | N21: =M21+L21 -> 524.04 | P21: 524.04 | Q21: =P21+O21 -> 524.04 | S21: 549.25 | T21: =S21+R21 -> 549.25 | V21: 524.04 | W21: =V21+U21 -> 524.04 | Y21: 1145.43 | Z21: =Y21+X21 -> 1145.43 | AB21: 788.83 | AC21: =AB21+AA21 -> 788.83 | AF21: =AD21+AE21 -> 0 | AI21: =AH21+AG21 -> 0 | AL21: =AK21+AJ21 -> 0 | AM21: =AJ21+AG21+AD21+AA21+X21+U21+R21+O21+L21+I21+F21+C21 -> 0 | AN21: =AK21+AH21+AE21+AB21+Y21+V21+S21+P21+M21+J21+G21+D21 -> 5128.92 | AO21: =AL21+AI21+AF21+AC21+Z21+W21+T21+Q21+N21+K21+H21+E21 -> 5128.92
A22: 2282 | B22: Окремі заходи по реалізації державних (регіональних) програм, не віднесені до заходів розвитку | E22: =D22+C22 -> 0 | H22: =G22+F22 -> 0 | K22: =J22+I22 -> 0 | N22: =M22+L22 -> 0 | Q22: =P22+O22 -> 0 | S22: 600 | T22: =S22+R22 -> 600 | W22: =V22+U22 -> 0 | Y22: 1020 | Z22: =Y22+X22 -> 1020 | AC22: =AB22+AA22 -> 0 | AF22: =AD22+AE22 -> 0 | AI22: =AH22+AG22 -> 0 | AL22: =AK22+AJ22 -> 0 | AM22: =AJ22+AG22+AD22+AA22+X22+U22+R22+O22+L22+I22+F22+C22 -> 0 | AN22: =AK22+AH22+AE22+AB22+Y22+V22+S22+P22+M22+J22+G22+D22 -> 1620 | AO22: =AL22+AI22+AF22+AC22+Z22+W22+T22+Q22+N22+K22+H22+E22 -> 1620
A23: 2700
A24: 2800 | B24: Інші поточні видатки | E24: =D24+C24 -> 0 | F24: =E24+D24 -> 0 | G24: =F24+E24 -> 0 | H24: =G24+F24 -> 0 | I24: =H24+G24 -> 0 | K24: =J24+I24 -> 0 | N24: =M24+L24 -> 0 | O24: =N24+M24 -> 0 | P24: =O24+N24 -> 0 | Q24: =P24+O24 -> 0 | R24: =Q24+P24 -> 0 | S24: =R24+Q24 -> 0 | T24: =S24+R24 -> 0 | U24: =T24+S24 -> 0 | ... X24: =W24+V24 -> 0 | Y24: -12723.72 | Z24: =Y24+X24 -> -12723.72 | AA24: =Z24+Y24 -> -25447.44 | AB24: =AA24+Z24 -> -38171.16 | AC24: =AB24+AA24 -> -63618.6 | AD24: =AC24+AB24 -> -101789.76 | AE24: =AD24+AC24 -> -165408.36 | AF24: =AE24+AD24 -> -267198.12 | AG24: =AF24+AE24 -> -432606.48 | ... AM24: =AL24+AK24 -> -7761469.2 | AN24: =AK24+AH24+AE24+AB24+Y24+V24+S24+P24+M24+J24+G24+D24 -> -3880734.6 | AO24: =AL24+AI24+AF24+AC24+Z24+W24+T24+Q24+N24+K24+H24+E24 -> -6272794
A25: 3110 | B25: Придбання обладнання, предметів довгострокового користування | E25: =D25+C25 -> 0 | H25: =G25+F25 -> 0 | K25: =J25+I25 -> 0 | N25: =M25+L25 -> 0 | Q25: =P25+O25 -> 0 | T25: =S25+R25 -> 0 | W25: =V25+U25 -> 0 | Z25: =Y25+X25 -> 0 | AC25: =AB25+AA25 -> 0 | AF25: =AD25+AE25 -> 0 | AI25: =AH25+AG25 -> 0 | AL25: =AK25+AJ25 -> 0 | AM25: =AJ25+AG25+AD25+AA25+X25+U25+R25+O25+L25+I25+F25+C25 -> 0 | AN25: =AK25+AH25+AE25+AB25+Y25+V25+S25+P25+M25+J25+G25+D25 -> 0 | AO25: =AL25+AI25+AF25+AC25+Z25+W25+T25+Q25+N25+K25+H25+E25 -> 0
A26: 3132 | B26: Капітальний ремонт інших об'єктів | E26: =D26+C26 -> 0 | H26: =G26+F26 -> 0 | K26: =J26+I26 -> 0 | N26: =M26+L26 -> 0 | Q26: =P26+O26 -> 0 | T26: =S26+R26 -> 0 | W26: =V26+U26 -> 0 | Z26: =Y26+X26 -> 0 | AC26: =AB26+AA26 -> 0 | AF26: =AD26+AE26 -> 0 | AI26: =AH26+AG26 -> 0 | AL26: =AK26+AJ26 -> 0 | AM26: =AJ26+AG26+AD26+AA26+X26+U26+R26+O26+L26+I26+F26+C26 -> 0 | AN26: =AK26+AH26+AE26+AB26+Y26+V26+S26+P26+M26+J26+G26+D26 -> 0 | AO26: =AL26+AI26+AF26+AC26+Z26+W26+T26+Q26+N26+K26+H26+E26 -> 0
E27: =D27+C27 -> 0 | H27: =G27+F27 -> 0 | K27: =J27+I27 -> 0 | N27: =M27+L27 -> 0 | Q27: =P27+O27 -> 0 | T27: =S27+R27 -> 0 | W27: =V27+U27 -> 0 | Z27: =Y27+X27 -> 0 | AC27: =AB27+AA27 -> 0 | AF27: =AD27+AE27 -> 0 | AI27: =AH27+AG27 -> 0 | AL27: =AK27+AJ27 -> 0 | AM27: =AJ27+AG27+AD27+AA27+X27+U27+R27+O27+L27+I27+F27+C27 -> 0 | AN27: =AK27+AH27+AE27+AB27+Y27+V27+S27+P27+M27+J27+G27+D27 -> 0 | AO27: =AL27+AI27+AF27+AC27+Z27+W27+T27+Q27+N27+K27+H27+E27 -> 0
A28: 2730 | E28: =D28+C28 -> 0 | H28: =G28+F28 -> 0 | K28: =J28+I28 -> 0 | N28: =M28+L28 -> 0 | Q28: =P28+O28 -> 0 | T28: =S28+R28 -> 0 | W28: =V28+U28 -> 0 | Z28: =Y28+X28 -> 0 | AC28: =AB28+AA28 -> 0 | AF28: =AD28+AE28 -> 0 | AI28: =AH28+AG28 -> 0 | AL28: =AK28+AJ28 -> 0 | AM28: =AJ28+AG28+AD28+AA28+X28+U28+R28+O28+L28+I28+F28+C28 -> 0 | AN28: =AK28+AH28+AE28+AB28+Y28+V28+S28+P28+M28+J28+G28+D28 -> 0 | AO28: =AL28+AI28+AF28+AC28+Z28+W28+T28+Q28+N28+K28+H28+E28 -> 0
A29: 7520 | B29: Реалізація Національної програми інформатизації | E29: =D29+C29 -> 0 | G29: 1435 | H29: =G29+F29 -> 1435 | J29: 1435 | K29: =J29+I29 -> 1435 | M29: 2360 | N29: =M29+L29 -> 2360 | P29: 1435 | Q29: =P29+O29 -> 1435 | S29: 1435 | T29: =S29+R29 -> 1435 | V29: 2360 | W29: =V29+U29 -> 2360 | Y29: 1435 | Z29: =Y29+X29 -> 1435 | AB29: 1435 | AC29: =AB29+AA29 -> 1435 | AF29: =AD29+AE29 -> 0 | AI29: =AH29+AG29 -> 0 | AL29: =AK29+AJ29 -> 0 | AM29: =AJ29+AG29+AD29+AA29+X29+U29+R29+O29+L29+I29+F29+C29 -> 0 | AN29: =AK29+AH29+AE29+AB29+Y29+V29+S29+P29+M29+J29+G29+D29 -> 13330 | AO29: =AL29+AI29+AF29+AC29+Z29+W29+T29+Q29+N29+K29+H29+E29 -> 13330
B30: Всього | C30: =SUM(C9:C28) -> 0 | D30: =SUM(D9:D28) -> 262722.89 | E30: =SUM(E9:E28) -> 262722.89 | F30: =SUM(F9:F28) -> 0 | G30: =SUM(G9:G29) -> 794258.28 | H30: =SUM(H9:H29) -> 794258.28 | I30: =SUM(I9:I28) -> 0 | J30: =SUM(J9:J28) -> 1059077.4 | K30: =J30+I30 -> 1059077.4 | L30: =SUM(L9:L28) -> 0 | M30: =SUM(M9:M28) -> 641218.89 | N30: =M30+L30 -> 641218.89 | O30: =SUM(O9:O28) -> 0 | P30: =SUM(P9:P28) -> 407449.03 | Q30: =P30+O30 -> 407449.03 | R30: =SUM(R9:R28) -> 0 | S30: =SUM(S9:S28) -> 367882.57 | T30: =S30+R30 -> 367882.57 | U30: =SUM(U9:U28) -> 0 | V30: =SUM(V9:V28) -> 350313.72 | W30: =V30+U30 -> 350313.72 | X30: =SUM(X9:X28) -> 0 | Y30: =SUM(Y9:Y28) -> 259568.08 | Z30: =Y30+X30 -> 259568.08 | AA30: =SUM(AA9:AA28) -> -25447.44 | AB30: =SUM(AB9:AB28) -> 392943.41 | AC30: =AB30+AA30 -> 367495.97 | AD30: =SUM(AD9:AD28) -> -101789.76 | AE30: =SUM(AE9:AE28) -> -165408.36 | AF30: =AE30+AD30 -> -267198.12 | AG30: =SUM(AG9:AG28) -> -432606.48 | AH30: =SUM(AH9:AH28) -> -699804.6 | AI30: =AH30+AG30 -> -1132411.1 | AJ30: =SUM(AJ9:AJ28) -> -1832215.7 | AK30: =SUM(AK9:AK28) -> -2964626.8 | AL30: =AK30+AJ30 -> -4796842.4 | AM30: =SUM(AM9:AM28) -> -7761469.2 | AN30: =SUM(AN9:AN28) -> 704159.54 | AO30: =SUM(AO9:AO28) -> -1687899.8
A33: Керівник
A35: Виконавець(ПІБ,тел.)

Sheet 78
R1: Додаток 3
R2: до наказу управління освіти і науки
R3: виконкому міської ради
A4: Інформація
A5: щодо фактичного використання бюджетних коштів у 2026
A6: Криворізька гімназія № 78 Криворізької міської ради
C7: Січень | F7: Лютий | I7: Березень | L7: Квітень | O7: Травень | R7: Червень | U7: Липень | X7: Серпень | AA7: Вересень | AD7: Жовтень | AG7: Листопад | AJ7: Грудень | AM7: Разом
C8: державний | D8: місцевий | E8: разом | F8: державний | G8: місцевий | H8: разом | I8: державний | J8: місцевий | K8: разом | L8: державний | M8: місцевий | N8: разом | O8: державний | P8: місцевий | Q8: разом | R8: державний | S8: місцевий | T8: разом | U8: державний | V8: місцевий | W8: разом | X8: державний | Y8: місцевий | Z8: разом | AA8: державний | AB8: місцевий | AC8: разом | AD8: державний | AE8: місцевий | AF8: разом | AG8: державний | AH8: місцевий | AI8: разом | AJ8: державний | AK8: місцевий | AL8: разом | AM8: державний | AN8: місцевий | AO8: разом
A9: 2111 | B9: Заробітна плата | D9: 194992.54 | E9: =D9+C9 -> 194992.54 | G9: 213312.51 | H9: =G9+F9 -> 213312.51 | J9: 200485.61 | K9: =J9+I9 -> 200485.61 | M9: 207960.32 | N9: =M9+L9 -> 207960.32 | P9: 203285.12 | Q9: =P9+O9 -> 203285.12 | S9: 250945.69 | T9: =S9+R9 -> 250945.69 | V9: 176007.96 | W9: =V9+U9 -> 176007.96 | Y9: 210309.16 | Z9: =Y9+X9 -> 210309.16 | AB9: 228553.93 | AC9: =AB9+AA9 -> 228553.93 | AF9: =AE9+AD9 -> 0 | AI9: =AH9+AG9 -> 0 | AL9: =AK9+AJ9 -> 0 | AM9: =AJ9+AG9+AD9+AA9+X9+U9+R9+O9+L9+I9+F9+C9 -> 0 | AN9: =AK9+AH9+AE9+AB9+Y9+V9+S9+P9+M9+J9+G9+D9 -> 1885852.8 | AO9: =AL9+AI9+AF9+AC9+Z9+W9+T9+Q9+N9+K9+H9+E9 -> 1885852.8
A10: 2120 | B10: Нарахування на оплату праці | D10: 40948.98 | E10: =D10+C10 -> 40948.98 | G10: 44979.38 | H10: =G10+F10 -> 44979.38 | J10: 44020.82 | K10: =J10+I10 -> 44020.82 | M10: 45412.58 | N10: =M10+L10 -> 45412.58 | P10: 44276.84 | Q10: =P10+O10 -> 44276.84 | S10: 53941.73 | T10: =S10+R10 -> 53941.73 | V10: 38835.41 | W10: =V10+U10 -> 38835.41 | Y10: 45536.17 | Z10: =Y10+X10 -> 45536.17 | AB10: 47370.74 | AC10: =AB10+AA10 -> 47370.74 | AF10: =AE10+AD10 -> 0 | AI10: =AH10+AG10 -> 0 | AL10: =AK10+AJ10 -> 0 | AM10: =AJ10+AG10+AD10+AA10+X10+U10+R10+O10+L10+I10+F10+C10 -> 0 | AN10: =AK10+AH10+AE10+AB10+Y10+V10+S10+P10+M10+J10+G10+D10 -> 405322.65 | AO10: =AL10+AI10+AF10+AC10+Z10+W10+T10+Q10+N10+K10+H10+E10 -> 405322.65
A11: 2210 | B11: Предмети, матеріали, обладнання та інвентар | D11: 1403.18 | E11: =D11+C11 -> 1403.18 | G11: 1464.76 | H11: =G11+F11 -> 1464.76 | J11: 1349.44 | K11: =J11+I11 -> 1349.44 | M11: 1176.46 | N11: =M11+L11 -> 1176.46 | P11: 1176.46 | Q11: =P11+O11 -> 1176.46 | S11: 812.85 | T11: =S11+R11 -> 812.85 | W11: =V11+U11 -> 0 | Y11: 1583.79 | Z11: =Y11+X11 -> 1583.79 | AB11: 2085.28 | AC11: =AB11+AA11 -> 2085.28 | AF11: =AE11+AD11 -> 0 | AI11: =AH11+AG11 -> 0 | AL11: =AK11+AJ11 -> 0 | AM11: =AJ11+AG11+AD11+AA11+X11+U11+R11+O11+L11+I11+F11+C11 -> 0 | AN11: =AK11+AH11+AE11+AB11+Y11+V11+S11+P11+M11+J11+G11+D11 -> 11052.22 | AO11: =AL11+AI11+AF11+AC11+Z11+W11+T11+Q11+N11+K11+H11+E11 -> 11052.22
A12: 2220 | B12: Медикаменти та перев'язувальні матеріали | D12: 996.8 | E12: =D12+C12 -> 996.8 | G12: 1864 | H12: =G12+F12 -> 1864 | J12: 1864 | K12: =J12+I12 -> 1864 | M12: 1650.9 | N12: =M12+L12 -> 1650.9 | P12: 1475.25 | Q12: =P12+O12 -> 1475.25 | S12: 2328.34 | T12: =S12+R12 -> 2328.34 | W12: =V12+U12 -> 0 | Y12: 1888.28 | Z12: =Y12+X12 -> 1888.28 | AB12: 250.4 | AC12: =AB12+AA12 -> 250.4 | AF12: =AE12+AD12 -> 0 | AI12: =AH12+AG12 -> 0 | AL12: =AK12+AJ12 -> 0 | AM12: =AJ12+AG12+AD12+AA12+X12+U12+R12+O12+L12+I12+F12+C12 -> 0 | AN12: =AK12+AH12+AE12+AB12+Y12+V12+S12+P12+M12+J12+G12+D12 -> 12317.97 | AO12: =AL12+AI12+AF12+AC12+Z12+W12+T12+Q12+N12+K12+H12+E12 -> 12317.97
A13: 2230 | B13: Продукти харчування | E13: =D13+C13 -> 0 | H13: =G13+F13 -> 0 | K13: =J13+I13 -> 0 | N13: =M13+L13 -> 0 | Q13: =P13+O13 -> 0 | T13: =S13+R13 -> 0 | W13: =V13+U13 -> 0 | Z13: =Y13+X13 -> 0 | AC13: =AB13+AA13 -> 0 | AF13: =AE13+AD13 -> 0 | AI13: =AH13+AG13 -> 0 | AL13: =AK13+AJ13 -> 0 | AM13: =AJ13+AG13+AD13+AA13+X13+U13+R13+O13+L13+I13+F13+C13 -> 0 | AN13: =AK13+AH13+AE13+AB13+Y13+V13+S13+P13+M13+J13+G13+D13 -> 0 | AO13: =AL13+AI13+AF13+AC13+Z13+W13+T13+Q13+N13+K13+H13+E13 -> 0
A14: 2240 | B14: Оплата послуг (крім комунальних) | E14: =D14+C14 -> 0 | G14: =150+7200 -> 7350 | H14: =G14+F14 -> 7350 | J14: =54545.35+150 -> 54695.35 | K14: =J14+I14 -> 54695.35 | M14: =150+14914.49 -> 15064.49 | N14: =M14+L14 -> 15064.49 | P14: =17488.49+150 -> 17638.49 | Q14: =P14+O14 -> 17638.49 | S14: =9975.49+150 -> 10125.49 | T14: =S14+R14 -> 10125.49 | V14: =11531.21+150 -> 11681.21 | W14: =V14+U14 -> 11681.21 | Y14: =150+30075.89 -> 30225.89 | Z14: =Y14+X14 -> 30225.89 | AB14: =12357.79+150 -> 12507.79 | AC14: =AB14+AA14 -> 12507.79 | AF14: =AE14+AD14 -> 0 | AI14: =AH14+AG14 -> 0 | AL14: =AK14+AJ14 -> 0 | AM14: =AJ14+AG14+AD14+AA14+X14+U14+R14+O14+L14+I14+F14+C14 -> 0 | AN14: =AK14+AH14+AE14+AB14+Y14+V14+S14+P14+M14+J14+G14+D14 -> 159288.71 | AO14: =AL14+AI14+AF14+AC14+Z14+W14+T14+Q14+N14+K14+H14+E14 -> 159288.71
A15: 2250 | B15: Видатки на відрядження | E15: =D15+C15 -> 0 | H15: =G15+F15 -> 0 | K15: =J15+I15 -> 0 | N15: =M15+L15 -> 0 | Q15: =P15+O15 -> 0 | T15: =S15+R15 -> 0 | W15: =V15+U15 -> 0 | Z15: =Y15+X15 -> 0 | AC15: =AB15+AA15 -> 0 | AF15: =AE15+AD15 -> 0 | AI15: =AH15+AG15 -> 0 | AL15: =AK15+AJ15 -> 0 | AM15: =AJ15+AG15+AD15+AA15+X15+U15+R15+O15+L15+I15+F15+C15 -> 0 | AN15: =AK15+AH15+AE15+AB15+Y15+V15+S15+P15+M15+J15+G15+D15 -> 0 | AO15: =AL15+AI15+AF15+AC15+Z15+W15+T15+Q15+N15+K15+H15+E15 -> 0
A16: 2260 | B16: Видатки та заходи спеціального призначення | E16: =D16+C16 -> 0 | H16: =G16+F16 -> 0 | K16: =J16+I16 -> 0 | N16: =M16+L16 -> 0 | Q16: =P16+O16 -> 0 | T16: =S16+R16 -> 0 | W16: =V16+U16 -> 0 | Z16: =Y16+X16 -> 0 | AC16: =AB16+AA16 -> 0 | AF16: =AE16+AD16 -> 0 | AI16: =AH16+AG16 -> 0 | AL16: =AK16+AJ16 -> 0 | AM16: =AJ16+AG16+AD16+AA16+X16+U16+R16+O16+L16+I16+F16+C16 -> 0 | AN16: =AK16+AH16+AE16+AB16+Y16+V16+S16+P16+M16+J16+G16+D16 -> 0 | AO16: =AL16+AI16+AF16+AC16+Z16+W16+T16+Q16+N16+K16+H16+E16 -> 0
A17: 2271 | B17: Оплата теплопостачання | E17: =D17+C17 -> 0 | G17: 951533.3 | H17: =G17+F17 -> 951533.3 | J17: 360463.8 | K17: =J17+I17 -> 360463.8 | M17: 403057.02 | N17: =M17+L17 -> 403057.02 | Q17: =P17+O17 -> 0 | T17: =S17+R17 -> 0 | W17: =V17+U17 -> 0 | Z17: =Y17+X17 -> 0 | AC17: =AB17+AA17 -> 0 | AF17: =AE17+AD17 -> 0 | AI17: =AH17+AG17 -> 0 | AL17: =AK17+AJ17 -> 0 | AM17: =AJ17+AG17+AD17+AA17+X17+U17+R17+O17+L17+I17+F17+C17 -> 0 | AN17: =AK17+AH17+AE17+AB17+Y17+V17+S17+P17+M17+J17+G17+D17 -> 1715054.1 | AO17: =AL17+AI17+AF17+AC17+Z17+W17+T17+Q17+N17+K17+H17+E17 -> 1715054.1
A18: 2272 | B18: Оплата водопостачання та водовідведення | D18: 2469.6 | E18: =D18+C18 -> 2469.6 | G18: 3316.32 | H18: =G18+F18 -> 3316.32 | J18: 3810.24 | K18: =J18+I18 -> 3810.24 | M18: 3739.68 | N18: =M18+L18 -> 3739.68 | P18: 4092.48 | Q18: =P18+O18 -> 4092.48 | S18: 2901.48 | T18: =S18+R18 -> 2901.48 | V18: 1098.55 | W18: =V18+U18 -> 1098.55 | Y18: 1255.49 | Z18: =Y18+X18 -> 1255.49 | AB18: 3923.4 | AC18: =AB18+AA18 -> 3923.4 | AF18: =AE18+AD18 -> 0 | AI18: =AH18+AG18 -> 0 | AL18: =AK18+AJ18 -> 0 | AM18: =AJ18+AG18+AD18+AA18+X18+U18+R18+O18+L18+I18+F18+C18 -> 0 | AN18: =AK18+AH18+AE18+AB18+Y18+V18+S18+P18+M18+J18+G18+D18 -> 26607.24 | AO18: =AL18+AI18+AF18+AC18+Z18+W18+T18+Q18+N18+K18+H18+E18 -> 26607.24
A19: 2273 | B19: Оплата електроенергії | E19: =D19+C19 -> 0 | G19: 59206.65 | H19: =G19+F19 -> 59206.65 | J19: 58750.83 | K19: =J19+I19 -> 58750.83 | M19: 71692.16 | N19: =M19+L19 -> 71692.16 | P19: 73765.35 | Q19: =P19+O19 -> 73765.35 | S19: 47279.9 | T19: =S19+R19 -> 47279.9 | V19: 6682.63 | W19: =V19+U19 -> 6682.63 | Y19: 3440.88 | Z19: =Y19+X19 -> 3440.88 | AB19: 7299.58 | AC19: =AB19+AA19 -> 7299.58 | AF19: =AE19+AD19 -> 0 | AI19: =AH19+AG19 -> 0 | AL19: =AK19+AJ19 -> 0 | AM19: =AJ19+AG19+AD19+AA19+X19+U19+R19+O19+L19+I19+F19+C19 -> 0 | AN19: =AK19+AH19+AE19+AB19+Y19+V19+S19+P19+M19+J19+G19+D19 -> 328117.98 | AO19: =AL19+AI19+AF19+AC19+Z19+W19+T19+Q19+N19+K19+H19+E19 -> 328117.98
A20: 2274 | B20: Оплата природного газу | E20: =D20+C20 -> 0 | H20: =G20+F20 -> 0 | K20: =J20+I20 -> 0 | N20: =M20+L20 -> 0 | Q20: =P20+O20 -> 0 | T20: =S20+R20 -> 0 | W20: =V20+U20 -> 0 | Z20: =Y20+X20 -> 0 | AC20: =AB20+AA20 -> 0 | AF20: =AE20+AD20 -> 0 | AI20: =AH20+AG20 -> 0 | AL20: =AK20+AJ20 -> 0 | AM20: =AJ20+AG20+AD20+AA20+X20+U20+R20+O20+L20+I20+F20+C20 -> 0 | AN20: =AK20+AH20+AE20+AB20+Y20+V20+S20+P20+M20+J20+G20+D20 -> 0 | AO20: =AL20+AI20+AF20+AC20+Z20+W20+T20+Q20+N20+K20+H20+E20 -> 0
A21: 2275 | B21: Оплата інших енергоносіїв | D21: 12284.83 | E21: =D21+C21 -> 12284.83 | G21: 8259.4 | H21: =G21+F21 -> 8259.4 | J21: 2134.98 | K21: =J21+I21 -> 2134.98 | M21: 2358.18 | N21: =M21+L21 -> 2358.18 | P21: 9096.16 | Q21: =P21+O21 -> 9096.16 | S21: 2358.18 | T21: =S21+R21 -> 2358.18 | V21: 7258.18 | W21: =V21+U21 -> 7258.18 | Y21: 3054.48 | Z21: =Y21+X21 -> 3054.48 | AB21: 3093.3 | AC21: =AB21+AA21 -> 3093.3 | AF21: =AE21+AD21 -> 0 | AI21: =AH21+AG21 -> 0 | AL21: =AK21+AJ21 -> 0 | AM21: =AJ21+AG21+AD21+AA21+X21+U21+R21+O21+L21+I21+F21+C21 -> 0 | AN21: =AK21+AH21+AE21+AB21+Y21+V21+S21+P21+M21+J21+G21+D21 -> 49897.69 | AO21: =AL21+AI21+AF21+AC21+Z21+W21+T21+Q21+N21+K21+H21+E21 -> 49897.69
A22: 2282 | B22: Окремі заходи по реалізації державних (регіональних) програм, не віднесені до заходів розвитку | E22: =D22+C22 -> 0 | H22: =G22+F22 -> 0 | K22: =J22+I22 -> 0 | N22: =M22+L22 -> 0 | Q22: =P22+O22 -> 0 | S22: 600 | T22: =S22+R22 -> 600 | W22: =V22+U22 -> 0 | Y22: 1020 | Z22: =Y22+X22 -> 1020 | AC22: =AB22+AA22 -> 0 | AF22: =AE22+AD22 -> 0 | AI22: =AH22+AG22 -> 0 | AL22: =AK22+AJ22 -> 0 | AM22: =AJ22+AG22+AD22+AA22+X22+U22+R22+O22+L22+I22+F22+C22 -> 0 | AN22: =AK22+AH22+AE22+AB22+Y22+V22+S22+P22+M22+J22+G22+D22 -> 1620 | AO22: =AL22+AI22+AF22+AC22+Z22+W22+T22+Q22+N22+K22+H22+E22 -> 1620
A23: 2700
A24: 2800 | B24: Інші поточні видатки | E24: =D24+C24 -> 0 | F24: =E24+D24 -> 0 | G24: =F24+E24 -> 0 | H24: =G24+F24 -> 0 | I24: =H24+G24 -> 0 | K24: =J24+I24 -> 0 | N24: =M24+L24 -> 0 | O24: =N24+M24 -> 0 | P24: 9735.2 | Q24: =P24+O24 -> 9735.2 | T24: =S24+R24 -> 0 | U24: =T24+S24 -> 0 | V24: =U24+T24 -> 0 | W24: =V24+U24 -> 0 | X24: =W24+V24 -> 0 | Y24: 12723.72 | Z24: =Y24+X24 -> 12723.72 | AA24: =Z24+Y24 -> 25447.44 | AB24: =AA24+Z24 -> 38171.16 | AC24: =AB24+AA24 -> 63618.6 | AD24: =AC24+AB24 -> 101789.76 | AE24: =AD24+AC24 -> 165408.36 | AF24: =AE24+AD24 -> 267198.12 | AG24: =AF24+AE24 -> 432606.48 | ... AM24: =AL24+AK24 -> 7761469.2 | AN24: =AK24+AH24+AE24+AB24+Y24+V24+S24+P24+M24+J24+G24+D24 -> 3890469.8 | AO24: =AL24+AI24+AF24+AC24+Z24+W24+T24+Q24+N24+K24+H24+E24 -> 6282529.2
A25: 3110 | B25: Придбання обладнання, предметів довгострокового користування | E25: =D25+C25 -> 0 | H25: =G25+F25 -> 0 | K25: =J25+I25 -> 0 | N25: =M25+L25 -> 0 | Q25: =P25+O25 -> 0 | T25: =S25+R25 -> 0 | W25: =V25+U25 -> 0 | Z25: =Y25+X25 -> 0 | AC25: =AB25+AA25 -> 0 | AF25: =AE25+AD25 -> 0 | AI25: =AH25+AG25 -> 0 | AL25: =AK25+AJ25 -> 0 | AM25: =AJ25+AG25+AD25+AA25+X25+U25+R25+O25+L25+I25+F25+C25 -> 0 | AN25: =AK25+AH25+AE25+AB25+Y25+V25+S25+P25+M25+J25+G25+D25 -> 0 | AO25: =AL25+AI25+AF25+AC25+Z25+W25+T25+Q25+N25+K25+H25+E25 -> 0
A26: 3132 | B26: Капітальний ремонт інших об'єктів | E26: =D26+C26 -> 0 | H26: =G26+F26 -> 0 | K26: =J26+I26 -> 0 | N26: =M26+L26 -> 0 | Q26: =P26+O26 -> 0 | T26: =S26+R26 -> 0 | W26: =V26+U26 -> 0 | Z26: =Y26+X26 -> 0 | AC26: =AB26+AA26 -> 0 | AF26: =AE26+AD26 -> 0 | AI26: =AH26+AG26 -> 0 | AL26: =AK26+AJ26 -> 0 | AM26: =AJ26+AG26+AD26+AA26+X26+U26+R26+O26+L26+I26+F26+C26 -> 0 | AN26: =AK26+AH26+AE26+AB26+Y26+V26+S26+P26+M26+J26+G26+D26 -> 0 | AO26: =AL26+AI26+AF26+AC26+Z26+W26+T26+Q26+N26+K26+H26+E26 -> 0
E27: =D27+C27 -> 0 | H27: =G27+F27 -> 0 | K27: =J27+I27 -> 0 | N27: =M27+L27 -> 0 | Q27: =P27+O27 -> 0 | T27: =S27+R27 -> 0 | W27: =V27+U27 -> 0 | Z27: =Y27+X27 -> 0 | AC27: =AB27+AA27 -> 0 | AF27: =AE27+AD27 -> 0 | AI27: =AH27+AG27 -> 0 | AL27: =AK27+AJ27 -> 0 | AM27: =AJ27+AG27+AD27+AA27+X27+U27+R27+O27+L27+I27+F27+C27 -> 0 | AN27: =AK27+AH27+AE27+AB27+Y27+V27+S27+P27+M27+J27+G27+D27 -> 0 | AO27: =AL27+AI27+AF27+AC27+Z27+W27+T27+Q27+N27+K27+H27+E27 -> 0
A28: 2730 | E28: =D28+C28 -> 0 | H28: =G28+F28 -> 0 | K28: =J28+I28 -> 0 | N28: =M28+L28 -> 0 | Q28: =P28+O28 -> 0 | T28: =S28+R28 -> 0 | W28: =V28+U28 -> 0 | Z28: =Y28+X28 -> 0 | AC28: =AB28+AA28 -> 0 | AF28: =AE28+AD28 -> 0 | AI28: =AH28+AG28 -> 0 | AL28: =AK28+AJ28 -> 0 | AM28: =AJ28+AG28+AD28+AA28+X28+U28+R28+O28+L28+I28+F28+C28 -> 0 | AN28: =AK28+AH28+AE28+AB28+Y28+V28+S28+P28+M28+J28+G28+D28 -> 0 | AO28: =AL28+AI28+AF28+AC28+Z28+W28+T28+Q28+N28+K28+H28+E28 -> 0
A29: 7520 | B29: Реалізація Національної програми інформатизації | E29: =D29+C29 -> 0 | G29: 1516 | H29: =G29+F29 -> 1516 | J29: 1516 | K29: =J29+I29 -> 1516 | M29: 2616 | N29: =M29+L29 -> 2616 | P29: 1516 | Q29: =P29+O29 -> 1516 | S29: 1516 | T29: =S29+R29 -> 1516 | V29: 2616 | W29: =V29+U29 -> 2616 | Y29: 1516 | Z29: =Y29+X29 -> 1516 | AB29: 1516 | AC29: =AB29+AA29 -> 1516 | AF29: =AE29+AD29 -> 0 | AI29: =AH29+AG29 -> 0 | AL29: =AK29+AJ29 -> 0 | AM29: =AJ29+AG29+AD29+AA29+X29+U29+R29+O29+L29+I29+F29+C29 -> 0 | AN29: =AK29+AH29+AE29+AB29+Y29+V29+S29+P29+M29+J29+G29+D29 -> 14328 | AO29: =AL29+AI29+AF29+AC29+Z29+W29+T29+Q29+N29+K29+H29+E29 -> 14328
B30: Всього | C30: =SUM(C9:C28) -> 0 | D30: =SUM(D9:D28) -> 253095.93 | E30: =SUM(E9:E28) -> 253095.93 | F30: =SUM(F9:F28) -> 0 | G30: =SUM(G9:G29) -> 1292802.3 | H30: =SUM(H9:H29) -> 1292802.3 | I30: =SUM(I9:I28) -> 0 | J30: =SUM(J9:J28) -> 727575.07 | K30: =J30+I30 -> 727575.07 | L30: =SUM(L9:L28) -> 0 | M30: =SUM(M9:M28) -> 752111.79 | N30: =M30+L30 -> 752111.79 | O30: =SUM(O9:O28) -> 0 | P30: =SUM(P9:P28) -> 364541.35 | Q30: =P30+O30 -> 364541.35 | R30: =SUM(R9:R28) -> 0 | S30: =SUM(S9:S28) -> 371293.66 | T30: =S30+R30 -> 371293.66 | U30: =SUM(U9:U28) -> 0 | V30: =SUM(V9:V28) -> 241563.94 | W30: =V30+U30 -> 241563.94 | X30: =SUM(X9:X28) -> 0 | Y30: =SUM(Y9:Y28) -> 311037.86 | Z30: =Y30+X30 -> 311037.86 | AA30: =SUM(AA9:AA28) -> 25447.44 | AB30: =SUM(AB9:AB28) -> 343255.58 | AC30: =AB30+AA30 -> 368703.02 | AD30: =SUM(AD9:AD28) -> 101789.76 | AE30: =SUM(AE9:AE28) -> 165408.36 | AF30: =AE30+AD30 -> 267198.12 | AG30: =SUM(AG9:AG28) -> 432606.48 | AH30: =SUM(AH9:AH28) -> 699804.6 | AI30: =AH30+AG30 -> 1132411.1 | AJ30: =SUM(AJ9:AJ28) -> 1832215.7 | AK30: =SUM(AK9:AK28) -> 2964626.8 | AL30: =AK30+AJ30 -> 4796842.4 | AM30: =SUM(AM9:AM28) -> 7761469.2 | AN30: =SUM(AN9:AN28) -> 8485601.2 | AO30: =SUM(AO9:AO28) -> 10877661
A33: Керівник
A35: Виконавець(ПІБ,тел.)

Sheet КТЛ
R1: Додаток 3
R2: до наказу управління освіти і науки
R3: від 23.02.2016 №56
A4: Інформація
A5: щодо фактичного використання бюджетних коштів у 2026
A6: Криворізький Тернівський ліцей Криворізької міської ради
C7: Січень | F7: Лютий | I7: Березень | L7: Квітень | O7: Травень | R7: Червень | U7: Липень | X7: Серпень | AA7: Вересень | AD7: Жовтень | AG7: Листопад | AJ7: Грудень | AM7: Разом
C8: державний | D8: місцевий | E8: разом | F8: державний | G8: місцевий | H8: разом | I8: державний | J8: місцевий | K8: разом | L8: державний | M8: місцевий | N8: разом | O8: державний | P8: місцевий | Q8: разом | R8: державний | S8: місцевий | T8: разом | U8: державний | V8: місцевий | W8: разом | X8: державний | Y8: місцевий | Z8: разом | AA8: державний | AB8: місцевий | AC8: разом | AD8: державний | AE8: місцевий | AF8: разом | AG8: державний | AH8: місцевий | AI8: разом | AJ8: державний | AK8: місцевий | AL8: разом | AM8: державний | AN8: місцевий | AO8: разом
A9: 2111 | B9: Заробітна плата | D9: 170332.89 | E9: =D9+C9 -> 170332.89 | G9: 169010.09 | H9: =G9+F9 -> 169010.09 | J9: 175820.78 | K9: =J9+I9 -> 175820.78 | M9: 176909.36 | N9: =M9+L9 -> 176909.36 | P9: 176819.07 | Q9: =P9+O9 -> 176819.07 | S9: 216415.78 | T9: =S9+R9 -> 216415.78 | V9: 164685.06 | W9: =V9+U9 -> 164685.06 | Y9: 149217.62 | Z9: =Y9+X9 -> 149217.62 | AB9: 191854.95 | AC9: =AB9+AA9 -> 191854.95 | AF9: =AE9+AD9 -> 0 | AI9: =AH9+AG9 -> 0 | AL9: =AK9+AJ9 -> 0 | AM9: =AJ9+AG9+AD9+AA9+X9+U9+R9+O9+L9+I9+F9+C9 -> 0 | AN9: =AK9+AH9+AE9+AB9+Y9+V9+S9+P9+M9+J9+G9+D9 -> 1591065.6 | AO9: =AL9+AI9+AF9+AC9+Z9+W9+T9+Q9+N9+K9+H9+E9 -> 1591065.6
A10: 2120 | B10: Нарахування на оплату праці | D10: 38210.89 | E10: =D10+C10 -> 38210.89 | G10: 37497.02 | H10: =G10+F10 -> 37497.02 | J10: 38845.48 | K10: =J10+I10 -> 38845.48 | M10: 38946.65 | N10: =M10+L10 -> 38946.65 | P10: 38968.84 | Q10: =P10+O10 -> 38968.84 | S10: 47179.75 | T10: =S10+R10 -> 47179.75 | V10: 37351.64 | W10: =V10+U10 -> 37351.64 | Y10: 33365.16 | Z10: =Y10+X10 -> 33365.16 | AB10: 40251.4 | AC10: =AB10+AA10 -> 40251.4 | AF10: =AE10+AD10 -> 0 | AI10: =AH10+AG10 -> 0 | AL10: =AK10+AJ10 -> 0 | AM10: =AJ10+AG10+AD10+AA10+X10+U10+R10+O10+L10+I10+F10+C10 -> 0 | AN10: =AK10+AH10+AE10+AB10+Y10+V10+S10+P10+M10+J10+G10+D10 -> 350616.83 | AO10: =AL10+AI10+AF10+AC10+Z10+W10+T10+Q10+N10+K10+H10+E10 -> 350616.83
A11: 2210 | B11: Предмети, матеріали, обладнання та інвентар | D11: 12168.13 | E11: =D11+C11 -> 12168.13 | H11: =G11+F11 -> 0 | K11: =J11+I11 -> 0 | M11: 1516.22 | N11: =M11+L11 -> 1516.22 | P11: 1348.74 | Q11: =P11+O11 -> 1348.74 | T11: =S11+R11 -> 0 | W11: =V11+U11 -> 0 | Z11: =Y11+X11 -> 0 | AB11: 60.5 | AC11: =AB11+AA11 -> 60.5 | AF11: =AE11+AD11 -> 0 | AI11: =AH11+AG11 -> 0 | AL11: =AK11+AJ11 -> 0 | AM11: =AJ11+AG11+AD11+AA11+X11+U11+R11+O11+L11+I11+F11+C11 -> 0 | AN11: =AK11+AH11+AE11+AB11+Y11+V11+S11+P11+M11+J11+G11+D11 -> 15093.59 | AO11: =AL11+AI11+AF11+AC11+Z11+W11+T11+Q11+N11+K11+H11+E11 -> 15093.59
A12: 2220 | B12: Медикаменти та перев'язувальні матеріали | D12: 1690.8 | E12: =D12+C12 -> 1690.8 | H12: =G12+F12 -> 0 | K12: =J12+I12 -> 0 | M12: 1918.26 | N12: =M12+L12 -> 1918.26 | P12: 146.25 | Q12: =P12+O12 -> 146.25 | T12: =S12+R12 -> 0 | W12: =V12+U12 -> 0 | Z12: =Y12+X12 -> 0 | AC12: =AB12+AA12 -> 0 | AF12: =AE12+AD12 -> 0 | AI12: =AH12+AG12 -> 0 | AL12: =AK12+AJ12 -> 0 | AM12: =AJ12+AG12+AD12+AA12+X12+U12+R12+O12+L12+I12+F12+C12 -> 0 | AN12: =AK12+AH12+AE12+AB12+Y12+V12+S12+P12+M12+J12+G12+D12 -> 3755.31 | AO12: =AL12+AI12+AF12+AC12+Z12+W12+T12+Q12+N12+K12+H12+E12 -> 3755.31
A13: 2230 | B13: Продукти харчування | E13: =D13+C13 -> 0 | H13: =G13+F13 -> 0 | K13: =J13+I13 -> 0 | N13: =M13+L13 -> 0 | Q13: =P13+O13 -> 0 | T13: =S13+R13 -> 0 | W13: =V13+U13 -> 0 | Z13: =Y13+X13 -> 0 | AC13: =AB13+AA13 -> 0 | AF13: =AE13+AD13 -> 0 | AI13: =AH13+AG13 -> 0 | AL13: =AK13+AJ13 -> 0 | AM13: =AJ13+AG13+AD13+AA13+X13+U13+R13+O13+L13+I13+F13+C13 -> 0 | AN13: =AK13+AH13+AE13+AB13+Y13+V13+S13+P13+M13+J13+G13+D13 -> 0 | AO13: =AL13+AI13+AF13+AC13+Z13+W13+T13+Q13+N13+K13+H13+E13 -> 0
A14: 2240 | B14: Оплата послуг (крім комунальних) | E14: =D14+C14 -> 0 | G14: =150+7200 -> 7350 | H14: =G14+F14 -> 7350 | J14: =14811.02+150 -> 14961.02 | K14: =J14+I14 -> 14961.02 | M14: =150+34551.72 -> 34701.72 | N14: =M14+L14 -> 34701.72 | P14: =17141.72+150 -> 17291.72 | Q14: =P14+O14 -> 17291.72 | S14: =9628.72+150 -> 9778.72 | T14: =S14+R14 -> 9778.72 | V14: =12829.44+150 -> 12979.44 | W14: =V14+U14 -> 12979.44 | Y14: =150+14742.12 -> 14892.12 | Z14: =Y14+X14 -> 14892.12 | AB14: =12011.02+150 -> 12161.02 | AC14: =AB14+AA14 -> 12161.02 | AF14: =AE14+AD14 -> 0 | AI14: =AH14+AG14 -> 0 | AL14: =AK14+AJ14 -> 0 | AM14: =AJ14+AG14+AD14+AA14+X14+U14+R14+O14+L14+I14+F14+C14 -> 0 | AN14: =AK14+AH14+AE14+AB14+Y14+V14+S14+P14+M14+J14+G14+D14 -> 124115.76 | AO14: =AL14+AI14+AF14+AC14+Z14+W14+T14+Q14+N14+K14+H14+E14 -> 124115.76
A15: 2250 | B15: Видатки на відрядження | E15: =D15+C15 -> 0 | H15: =G15+F15 -> 0 | K15: =J15+I15 -> 0 | N15: =M15+L15 -> 0 | Q15: =P15+O15 -> 0 | T15: =S15+R15 -> 0 | W15: =V15+U15 -> 0 | Z15: =Y15+X15 -> 0 | AC15: =AB15+AA15 -> 0 | AF15: =AE15+AD15 -> 0 | AI15: =AH15+AG15 -> 0 | AL15: =AK15+AJ15 -> 0 | AM15: =AJ15+AG15+AD15+AA15+X15+U15+R15+O15+L15+I15+F15+C15 -> 0 | AN15: =AK15+AH15+AE15+AB15+Y15+V15+S15+P15+M15+J15+G15+D15 -> 0 | AO15: =AL15+AI15+AF15+AC15+Z15+W15+T15+Q15+N15+K15+H15+E15 -> 0
A16: 2260 | B16: Видатки та заходи спеціального призначення | E16: =D16+C16 -> 0 | H16: =G16+F16 -> 0 | K16: =J16+I16 -> 0 | N16: =M16+L16 -> 0 | Q16: =P16+O16 -> 0 | T16: =S16+R16 -> 0 | W16: =V16+U16 -> 0 | Z16: =Y16+X16 -> 0 | AC16: =AB16+AA16 -> 0 | AF16: =AE16+AD16 -> 0 | AI16: =AH16+AG16 -> 0 | AL16: =AK16+AJ16 -> 0 | AM16: =AJ16+AG16+AD16+AA16+X16+U16+R16+O16+L16+I16+F16+C16 -> 0 | AN16: =AK16+AH16+AE16+AB16+Y16+V16+S16+P16+M16+J16+G16+D16 -> 0 | AO16: =AL16+AI16+AF16+AC16+Z16+W16+T16+Q16+N16+K16+H16+E16 -> 0
A17: 2271 | B17: Оплата теплопостачання | E17: =D17+C17 -> 0 | G17: 657198.64 | H17: =G17+F17 -> 657198.64 | J17: 474205.64 | K17: =J17+I17 -> 474205.64 | M17: 128719.13 | N17: =M17+L17 -> 128719.13 | Q17: =P17+O17 -> 0 | T17: =S17+R17 -> 0 | W17: =V17+U17 -> 0 | Z17: =Y17+X17 -> 0 | AC17: =AB17+AA17 -> 0 | AF17: =AE17+AD17 -> 0 | AI17: =AH17+AG17 -> 0 | AL17: =AK17+AJ17 -> 0 | AM17: =AJ17+AG17+AD17+AA17+X17+U17+R17+O17+L17+I17+F17+C17 -> 0 | AN17: =AK17+AH17+AE17+AB17+Y17+V17+S17+P17+M17+J17+G17+D17 -> 1260123.4 | AO17: =AL17+AI17+AF17+AC17+Z17+W17+T17+Q17+N17+K17+H17+E17 -> 1260123.4
A18: 2272 | B18: Оплата водопостачання та водовідведення | D18: 987.84 | E18: =D18+C18 -> 987.84 | G18: 2469.6 | H18: =G18+F18 -> 2469.6 | J18: 1834.56 | K18: =J18+I18 -> 1834.56 | M18: 1905.12 | N18: =M18+L18 -> 1905.12 | P18: 1905.12 | Q18: =P18+O18 -> 1905.12 | S18: 2564.49 | T18: =S18+R18 -> 2564.49 | V18: 863.15 | W18: =V18+U18 -> 863.15 | Y18: 1020.08 | Z18: =Y18+X18 -> 1020.08 | AB18: 1961.7 | AC18: =AB18+AA18 -> 1961.7 | AF18: =AE18+AD18 -> 0 | AI18: =AH18+AG18 -> 0 | AL18: =AK18+AJ18 -> 0 | AM18: =AJ18+AG18+AD18+AA18+X18+U18+R18+O18+L18+I18+F18+C18 -> 0 | AN18: =AK18+AH18+AE18+AB18+Y18+V18+S18+P18+M18+J18+G18+D18 -> 15511.66 | AO18: =AL18+AI18+AF18+AC18+Z18+W18+T18+Q18+N18+K18+H18+E18 -> 15511.66
A19: 2273 | B19: Оплата електроенергії | E19: =D19+C19 -> 0 | G19: 17552.66 | H19: =G19+F19 -> 17552.66 | J19: 36183.44 | K19: =J19+I19 -> 36183.44 | M19: 42550.29 | N19: =M19+L19 -> 42550.29 | P19: 33172.34 | Q19: =P19+O19 -> 33172.34 | S19: 19272.23 | T19: =S19+R19 -> 19272.23 | V19: 5317.95 | W19: =V19+U19 -> 5317.95 | Y19: 4138.36 | Z19: =Y19+X19 -> 4138.36 | AB19: 5616.85 | AC19: =AB19+AA19 -> 5616.85 | AF19: =AE19+AD19 -> 0 | AI19: =AH19+AG19 -> 0 | AL19: =AK19+AJ19 -> 0 | AM19: =AJ19+AG19+AD19+AA19+X19+U19+R19+O19+L19+I19+F19+C19 -> 0 | AN19: =AK19+AH19+AE19+AB19+Y19+V19+S19+P19+M19+J19+G19+D19 -> 163804.12 | AO19: =AL19+AI19+AF19+AC19+Z19+W19+T19+Q19+N19+K19+H19+E19 -> 163804.12
A20: 2274 | B20: Оплата природного газу | E20: =D20+C20 -> 0 | H20: =G20+F20 -> 0 | K20: =J20+I20 -> 0 | N20: =M20+L20 -> 0 | Q20: =P20+O20 -> 0 | T20: =S20+R20 -> 0 | W20: =V20+U20 -> 0 | Z20: =Y20+X20 -> 0 | AC20: =AB20+AA20 -> 0 | AF20: =AE20+AD20 -> 0 | AI20: =AH20+AG20 -> 0 | AL20: =AK20+AJ20 -> 0 | AM20: =AJ20+AG20+AD20+AA20+X20+U20+R20+O20+L20+I20+F20+C20 -> 0 | AN20: =AK20+AH20+AE20+AB20+Y20+V20+S20+P20+M20+J20+G20+D20 -> 0 | AO20: =AL20+AI20+AF20+AC20+Z20+W20+T20+Q20+N20+K20+H20+E20 -> 0
A21: 2275 | B21: Оплата інших енергоносіїв | D21: 18114.03 | E21: =D21+C21 -> 18114.03 | G21: 12120.46 | H21: =G21+F21 -> 12120.46 | J21: 1135.84 | K21: =J21+I21 -> 1135.84 | M21: 1048.08 | N21: =M21+L21 -> 1048.08 | P21: 6699.24 | Q21: =P21+O21 -> 6699.24 | S21: 1400.92 | T21: =S21+R21 -> 1400.92 | V21: 5948.08 | W21: =V21+U21 -> 5948.08 | Y21: 1909.05 | Z21: =Y21+X21 -> 1909.05 | AB21: 1618.06 | AC21: =AB21+AA21 -> 1618.06 | AF21: =AE21+AD21 -> 0 | AI21: =AH21+AG21 -> 0 | AL21: =AK21+AJ21 -> 0 | AM21: =AJ21+AG21+AD21+AA21+X21+U21+R21+O21+L21+I21+F21+C21 -> 0 | AN21: =AK21+AH21+AE21+AB21+Y21+V21+S21+P21+M21+J21+G21+D21 -> 49993.76 | AO21: =AL21+AI21+AF21+AC21+Z21+W21+T21+Q21+N21+K21+H21+E21 -> 49993.76
