Workbook

Sheet 27
R1: Додаток 3
R2: до наказу управління освіти і науки
R3: виконкому міської ради
R4: від 23.02.2016 №56
A5: Інформація
A6: щодо фактичного використання бюджетних коштів у 2026
C7: Січень | F7: Лютий | I7: Березень | L7: Квітень | O7: Травень | R7: Червень | U7: Липень | X7: Серпень | AA7: Вересень | AD7: Жовтень | AG7: Листопад | AJ7: Грудень | AM7: Разом
C8: державний | D8: місцевий | E8: разом | F8: державний | G8: місцевий | H8: разом | I8: державний | J8: місцевий | K8: разом | L8: державний | M8: місцевий | N8: разом | O8: державний | P8: місцевий | Q8: разом | R8: державний | S8: місцевий | T8: разом | U8: державний | V8: місцевий | W8: разом | X8: державний | Y8: місцевий | Z8: разом | AA8: державний | AB8: місцевий | AC8: разом | AD8: державний | AE8: місцевий | AF8: разом | AG8: державний | AH8: місцевий | AI8: разом | AJ8: державний | AK8: місцевий | AL8: разом | AM8: державний | AN8: місцевий | AO8: разом
A9: 2111 | B9: Заробітна плата | D9: 230622.39 | E9: =D9+C9 -> 230622.39 | G9: 234321.42 | H9: =G9+F9 -> 234321.42 | J9: 242451.68 | K9: =J9+I9 -> 242451.68 | M9: 242488.04 | N9: =M9+L9 -> 242488.04 | P9: 240735.64 | Q9: =P9+O9 -> 240735.64 | S9: 281083.22 | T9: =S9+R9 -> 281083.22 | V9: 265994.53 | W9: =V9+U9 -> 265994.53 | Y9: 204640.19 | Z9: =Y9+X9 -> 204640.19 | AB9: 248702.59 | AC9: =AB9+AA9 -> 248702.59 | AF9: =AE9+AD9 -> 0 | AI9: =AH9+AG9 -> 0 | AL9: =AK9+AJ9 -> 0 | AM9: =AJ9+AG9+AD9+AA9+X9+U9+R9+O9+L9+I9+F9+C9 -> 0 | AN9: =AK9+AH9+AE9+AB9+Y9+V9+S9+P9+M9+J9+G9+D9 -> 2191039.7 | AO9: =AL9+AI9+AF9+AC9+Z9+W9+T9+Q9+N9+K9+H9+E9 -> 2191039.7
A10: 2120 | B10: Нарахування на оплату праці | D10: 50115.76 | E10: =D10+C10 -> 50115.76 | G10: 51939.35 | H10: =G10+F10 -> 51939.35 | J10: 53168.95 | K10: =J10+I10 -> 53168.95 | M10: 52995.42 | N10: =M10+L10 -> 52995.42 | P10: 52502.81 | Q10: =P10+O10 -> 52502.81 | S10: 59912.67 | T10: =S10+R10 -> 59912.67 | V10: 56568.33 | W10: =V10+U10 -> 56568.33 | Y10: 45032.67 | Z10: =Y10+X10 -> 45032.67 | AB10: 53516.94 | AC10: =AB10+AA10 -> 53516.94 | AF10: =AE10+AD10 -> 0 | AI10: =AH10+AG10 -> 0 | AL10: =AK10+AJ10 -> 0 | AM10: =AJ10+AG10+AD10+AA10+X10+U10+R10+O10+L10+I10+F10+C10 -> 0 | AN10: =AK10+AH10+AE10+AB10+Y10+V10+S10+P10+M10+J10+G10+D10 -> 475752.9 | AO10: =AL10+AI10+AF10+AC10+Z10+W10+T10+Q10+N10+K10+H10+E10 -> 475752.9
A11: 2210 | B11: Предмети, матеріали, обладнання та інвентар | D11: 2431.12 | E11: =D11+C11 -> 2431.12 | G11: 1751.8 | H11: =G11+F11 -> 1751.8 | J11: 1337.88 | K11: =J11+I11 -> 1337.88 | M11: 1337.88 | N11: =M11+L11 -> 1337.88 | P11: 613.95 | Q11: =P11+O11 -> 613.95 | S11: 619.75 | T11: =S11+R11 -> 619.75 | V11: 278.4 | W11: =V11+U11 -> 278.4 | Y11: 479.6 | Z11: =Y11+X11 -> 479.6 | AB11: 1611.81 | AC11: =AB11+AA11 -> 1611.81 | AF11: =AE11+AD11 -> 0 | AI11: =AH11+AG11 -> 0 | AL11: =AK11+AJ11 -> 0 | AM11: =AJ11+AG11+AD11+AA11+X11+U11+R11+O11+L11+I11+F11+C11 -> 0 | AN11: =AK11+AH11+AE11+AB11+Y11+V11+S11+P11+M11+J11+G11+D11 -> 10462.19 | AO11: =AL11+AI11+AF11+AC11+Z11+W11+T11+Q11+N11+K11+H11+E11 -> 10462.19
A12: 2220 | B12: Медикаменти та перев'язувальні матеріали | D12: 1011.96 | E12: =D12+C12 -> 1011.96 | G12: 1011.96 | H12: =G12+F12 -> 1011.96 | J12: 1110.22 | K12: =J12+I12 -> 1110.22 | M12: 1011.96 | N12: =M12+L12 -> 1011.96 | P12: 1371.89 | Q12: =P12+O12 -> 1371.89 | S12: 582.07 | T12: =S12+R12 -> 582.07 | W12: =V12+U12 -> 0 | Z12: =Y12+X12 -> 0 | AB12: 1113.15 | AC12: =AB12+AA12 -> 1113.15 | AF12: =AE12+AD12 -> 0 | AI12: =AH12+AG12 -> 0 | AL12: =AK12+AJ12 -> 0 | AM12: =AJ12+AG12+AD12+AA12+X12+U12+R12+O12+L12+I12+F12+C12 -> 0 | AN12: =AK12+AH12+AE12+AB12+Y12+V12+S12+P12+M12+J12+G12+D12 -> 7213.21 | AO12: =AL12+AI12+AF12+AC12+Z12+W12+T12+Q12+N12+K12+H12+E12 -> 7213.21
A13: 2230 | B13: Продукти харчування | D13: 8101.55 | E13: =D13+C13 -> 8101.55 | G13: 7851.3 | H13: =G13+F13 -> 7851.3 | J13: 6902.39 | K13: =J13+I13 -> 6902.39 | M13: 12503.07 | N13: =M13+L13 -> 12503.07 | P13: 10351.76 | Q13: =P13+O13 -> 10351.76 | T13: =S13+R13 -> 0 | W13: =V13+U13 -> 0 | Z13: =Y13+X13 -> 0 | AB13: 10551.37 | AC13: =AB13+AA13 -> 10551.37 | AF13: =AE13+AD13 -> 0 | AI13: =AH13+AG13 -> 0 | AL13: =AK13+AJ13 -> 0 | AM13: =AJ13+AG13+AD13+AA13+X13+U13+R13+O13+L13+I13+F13+C13 -> 0 | AN13: =AK13+AH13+AE13+AB13+Y13+V13+S13+P13+M13+J13+G13+D13 -> 56261.44 | AO13: =AL13+AI13+AF13+AC13+Z13+W13+T13+Q13+N13+K13+H13+E13 -> 56261.44
A14: 2240 | B14: Оплата послуг (крім комунальних) | E14: =D14+C14 -> 0 | G14: =150+10804.02 -> 10954.02 | H14: =G14+F14 -> 10954.02 | J14: =17898.43+150 -> 18048.43 | K14: =J14+I14 -> 18048.43 | M14: =150+43571.69 -> 43721.69 | N14: =M14+L14 -> 43721.69 | P14: =17319.25+150 -> 17469.25 | Q14: =P14+O14 -> 17469.25 | S14: =38619.51+150 -> 38769.51 | T14: =S14+R14 -> 38769.51 | V14: =285256.03+150 -> 285406.03 | W14: =V14+U14 -> 285406.03 | Y14: =150+98166.6 -> 98316.6 | Z14: =Y14+X14 -> 98316.6 | AB14: =103617.35+150 -> 103767.35 | AC14: =AB14+AA14 -> 103767.35 | AF14: =AE14+AD14 -> 0 | AI14: =AH14+AG14 -> 0 | AL14: =AK14+AJ14 -> 0 | AM14: =AJ14+AG14+AD14+AA14+X14+U14+R14+O14+L14+I14+F14+C14 -> 0 | AN14: =AK14+AH14+AE14+AB14+Y14+V14+S14+P14+M14+J14+G14+D14 -> 616452.88 | AO14: =AL14+AI14+AF14+AC14+Z14+W14+T14+Q14+N14+K14+H14+E14 -> 616452.88
A15: 2250 | B15: Видатки на відрядження | E15: =D15+C15 -> 0 | H15: =G15+F15 -> 0 | K15: =J15+I15 -> 0 | N15: =M15+L15 -> 0 | Q15: =P15+O15 -> 0 | T15: =S15+R15 -> 0 | W15: =V15+U15 -> 0 | Z15: =Y15+X15 -> 0 | AC15: =AB15+AA15 -> 0 | AF15: =AE15+AD15 -> 0 | AI15: =AH15+AG15 -> 0 | AL15: =AK15+AJ15 -> 0 | AM15: =AJ15+AG15+AD15+AA15+X15+U15+R15+O15+L15+I15+F15+C15 -> 0 | AN15: =AK15+AH15+AE15+AB15+Y15+V15+S15+P15+M15+J15+G15+D15 -> 0 | AO15: =AL15+AI15+AF15+AC15+Z15+W15+T15+Q15+N15+K15+H15+E15 -> 0
A16: 2260 | B16: Видатки та заходи спеціального призначення | E16: =D16+C16 -> 0 | H16: =G16+F16 -> 0 | K16: =J16+I16 -> 0 | N16: =M16+L16 -> 0 | Q16: =P16+O16 -> 0 | T16: =S16+R16 -> 0 | W16: =V16+U16 -> 0 | Z16: =Y16+X16 -> 0 | AC16: =AB16+AA16 -> 0 | AF16: =AE16+AD16 -> 0 | AI16: =AH16+AG16 -> 0 | AL16: =AK16+AJ16 -> 0 | AM16: =AJ16+AG16+AD16+AA16+X16+U16+R16+O16+L16+I16+F16+C16 -> 0 | AN16: =AK16+AH16+AE16+AB16+Y16+V16+S16+P16+M16+J16+G16+D16 -> 0 | AO16: =AL16+AI16+AF16+AC16+Z16+W16+T16+Q16+N16+K16+H16+E16 -> 0
A17: 2271 | B17: Оплата теплопостачання | E17: =D17+C17 -> 0 | G17: 726873.74 | H17: =G17+F17 -> 726873.74 | J17: 845583.79 | K17: =J17+I17 -> 845583.79 | M17: 210821.25 | N17: =M17+L17 -> 210821.25 | Q17: =P17+O17 -> 0 | T17: =S17+R17 -> 0 | W17: =V17+U17 -> 0 | Z17: =Y17+X17 -> 0 | AC17: =AB17+AA17 -> 0 | AF17: =AE17+AD17 -> 0 | AI17: =AH17+AG17 -> 0 | AL17: =AK17+AJ17 -> 0 | AM17: =AJ17+AG17+AD17+AA17+X17+U17+R17+O17+L17+I17+F17+C17 -> 0 | AN17: =AK17+AH17+AE17+AB17+Y17+V17+S17+P17+M17+J17+G17+D17 -> 1783278.8 | AO17: =AL17+AI17+AF17+AC17+Z17+W17+T17+Q17+N17+K17+H17+E17 -> 1783278.8
A18: 2272 | B18: Оплата водопостачання та водовідведення | D18: 9596.16 | E18: =D18+C18 -> 9596.16 | G18: 11712.96 | H18: =G18+F18 -> 11712.96 | J18: 11289.6 | K18: =J18+I18 -> 11289.6 | M18: 10513.44 | N18: =M18+L18 -> 10513.44 | P18: 11995.2 | Q18: =P18+O18 -> 11995.2 | S18: 7081.56 | T18: =S18+R18 -> 7081.56 | V18: 3103.48 | W18: =V18+U18 -> 3103.48 | Y18: 3217.18 | Z18: =Y18+X18 -> 3217.18 | AB18: 4472.67 | AC18: =AB18+AA18 -> 4472.67 | AF18: =AE18+AD18 -> 0 | AI18: =AH18+AG18 -> 0 | AL18: =AK18+AJ18 -> 0 | AM18: =AJ18+AG18+AD18+AA18+X18+U18+R18+O18+L18+I18+F18+C18 -> 0 | AN18: =AK18+AH18+AE18+AB18+Y18+V18+S18+P18+M18+J18+G18+D18 -> 72982.25 | AO18: =AL18+AI18+AF18+AC18+Z18+W18+T18+Q18+N18+K18+H18+E18 -> 72982.25
A19: 2273 | B19: Оплата електроенергії | E19: =D19+C19 -> 0 | G19: 59517.82 | H19: =G19+F19 -> 59517.82 | J19: 73205.73 | K19: =J19+I19 -> 73205.73 | M19: 78866.95 | N19: =M19+L19 -> 78866.95 | P19: 67085.16 | Q19: =P19+O19 -> 67085.16 | S19: 45320.72 | T19: =S19+R19 -> 45320.72 | V19: 10432.26 | W19: =V19+U19 -> 10432.26 | Y19: 381.29 | Z19: =Y19+X19 -> 381.29 | AB19: 2727.19 | AC19: =AB19+AA19 -> 2727.19 | AF19: =AE19+AD19 -> 0 | AI19: =AH19+AG19 -> 0 | AL19: =AK19+AJ19 -> 0 | AM19: =AJ19+AG19+AD19+AA19+X19+U19+R19+O19+L19+I19+F19+C19 -> 0 | AN19: =AK19+AH19+AE19+AB19+Y19+V19+S19+P19+M19+J19+G19+D19 -> 337537.12 | AO19: =AL19+AI19+AF19+AC19+Z19+W19+T19+Q19+N19+K19+H19+E19 -> 337537.12
A20: 2274 | B20: Оплата природного газу | E20: =D20+C20 -> 0 | H20: =G20+F20 -> 0 | K20: =J20+I20 -> 0 | N20: =M20+L20 -> 0 | Q20: =P20+O20 -> 0 | T20: =S20+R20 -> 0 | W20: =V20+U20 -> 0 | Z20: =Y20+X20 -> 0 | AC20: =AB20+AA20 -> 0 | AF20: =AE20+AD20 -> 0 | AI20: =AH20+AG20 -> 0 | AL20: =AK20+AJ20 -> 0 | AM20: =AJ20+AG20+AD20+AA20+X20+U20+R20+O20+L20+I20+F20+C20 -> 0 | AN20: =AK20+AH20+AE20+AB20+Y20+V20+S20+P20+M20+J20+G20+D20 -> 0 | AO20: =AL20+AI20+AF20+AC20+Z20+W20+T20+Q20+N20+K20+H20+E20 -> 0
A21: 2275 | B21: Оплата інших енергоносіїв | D21: 14720.01 | E21: =D21+C21 -> 14720.01 | G21: 9206.07 | H21: =G21+F21 -> 9206.07 | J21: 517.11 | K21: =J21+I21 -> 517.11 | M21: 2272.91 | N21: =M21+L21 -> 2272.91 | P21: 2143.95 | Q21: =P21+O21 -> 2143.95 | S21: 2273.46 | T21: =S21+R21 -> 2273.46 | V21: 2273.38 | W21: =V21+U21 -> 2273.38 | Y21: 3316.39 | Z21: =Y21+X21 -> 3316.39 | AB21: 4158.97 | AC21: =AB21+AA21 -> 4158.97 | AF21: =AE21+AD21 -> 0 | AI21: =AH21+AG21 -> 0 | AL21: =AK21+AJ21 -> 0 | AM21: =AJ21+AG21+AD21+AA21+X21+U21+R21+O21+L21+I21+F21+C21 -> 0 | AN21: =AK21+AH21+AE21+AB21+Y21+V21+S21+P21+M21+J21+G21+D21 -> 40882.25 | AO21: =AL21+AI21+AF21+AC21+Z21+W21+T21+Q21+N21+K21+H21+E21 -> 40882.25
A22: 2282 | B22: Окремі заходи по реалізації державних (регіональних) програм, не віднесені до заходів розвитку | E22: =D22+C22 -> 0 | H22: =G22+F22 -> 0 | K22: =J22+I22 -> 0 | N22: =M22+L22 -> 0 | Q22: =P22+O22 -> 0 | S22: 600 | T22: =S22+R22 -> 600 | W22: =V22+U22 -> 0 | Y22: 320 | Z22: =Y22+X22 -> 320 | AC22: =AB22+AA22 -> 0 | AF22: =AE22+AD22 -> 0 | AI22: =AH22+AG22 -> 0 | AL22: =AK22+AJ22 -> 0 | AM22: =AJ22+AG22+AD22+AA22+X22+U22+R22+O22+L22+I22+F22+C22 -> 0 | AN22: =AK22+AH22+AE22+AB22+Y22+V22+S22+P22+M22+J22+G22+D22 -> 920 | AO22: =AL22+AI22+AF22+AC22+Z22+W22+T22+Q22+N22+K22+H22+E22 -> 920
A23: 2700 | B23: Соціальне забезпечення | E23: =D23+C23 -> 0 | H23: =G23+F23 -> 0 | K23: =J23+I23 -> 0 | N23: =M23+L23 -> 0 | Q23: =P23+O23 -> 0 | T23: =S23+R23 -> 0 | W23: =V23+U23 -> 0 | Z23: =Y23+X23 -> 0 | AC23: =AB23+AA23 -> 0 | AF23: =AE23+AD23 -> 0 | AI23: =AH23+AG23 -> 0 | AL23: =AK23+AJ23 -> 0 | AM23: =AL23+AK23 -> 0 | AN23: =AM23+AL23 -> 0 | AO23: =AN23+AM23 -> 0
A24: 2800 | B24: Інші поточні видатки | E24: =D24+C24 -> 0 | H24: =G24+F24 -> 0 | K24: =J24+I24 -> 0 | N24: =M24+L24 -> 0 | P24: 9735.2 | Q24: =P24+O24 -> 9735.2 | T24: =S24+R24 -> 0 | V24: 12723.72 | W24: =V24+U24 -> 12723.72 | Z24: =Y24+X24 -> 0 | AC24: =AB24+AA24 -> 0 | AF24: =AE24+AD24 -> 0 | AI24: =AH24+AG24 -> 0 | AL24: =AK24+AJ24 -> 0 | AM24: =AL24+AK24 -> 0 | AN24: =AK24+AH24+AE24+AB24+Y24+V24+S24+P24+M24+J24+G24+D24 -> 22458.92 | AO24: =AL24+AI24+AF24+AC24+Z24+W24+T24+Q24+N24+K24+H24+E24 -> 22458.92
A25: 3110 | B25: Придбання обладнання, предметів довгострокового користування | E25: =D25+C25 -> 0 | H25: =G25+F25 -> 0 | K25: =J25+I25 -> 0 | N25: =M25+L25 -> 0 | Q25: =P25+O25 -> 0 | T25: =S25+R25 -> 0 | W25: =V25+U25 -> 0 | Z25: =Y25+X25 -> 0 | AC25: =AB25+AA25 -> 0 | AF25: =AE25+AD25 -> 0 | AI25: =AH25+AG25 -> 0 | AL25: =AK25+AJ25 -> 0 | AM25: =AJ25+AG25+AD25+AA25+X25+U25+R25+O25+L25+I25+F25+C25 -> 0 | AN25: =AK25+AH25+AE25+AB25+Y25+V25+S25+P25+M25+J25+G25+D25 -> 0 | AO25: =AL25+AI25+AF25+AC25+Z25+W25+T25+Q25+N25+K25+H25+E25 -> 0
A26: 3132 | B26: Капітальний ремонт інших об'єктів | E26: =D26+C26 -> 0 | H26: =G26+F26 -> 0 | K26: =J26+I26 -> 0 | N26: =M26+L26 -> 0 | Q26: =P26+O26 -> 0 | T26: =S26+R26 -> 0 | W26: =V26+U26 -> 0 | Z26: =Y26+X26 -> 0 | AC26: =AB26+AA26 -> 0 | AF26: =AE26+AD26 -> 0 | AI26: =AH26+AG26 -> 0 | AL26: =AK26+AJ26 -> 0 | AM26: =AL26+AK26 -> 0 | AN26: =AM26+AL26 -> 0 | AO26: =AN26+AM26 -> 0
E27: =D27+C27 -> 0 | H27: =G27+F27 -> 0 | K27: =J27+I27 -> 0 | N27: =M27+L27 -> 0 | Q27: =P27+O27 -> 0 | T27: =S27+R27 -> 0 | W27: =V27+U27 -> 0 | Z27: =Y27+X27 -> 0 | AC27: =AB27+AA27 -> 0 | AF27: =AE27+AD27 -> 0 | AI27: =AH27+AG27 -> 0 | AL27: =AK27+AJ27 -> 0 | AM27: =AJ27+AG27+AD27+AA27+X27+U27+R27+O27+L27+I27+F27+C27 -> 0 | AN27: =AK27+AH27+AE27+AB27+Y27+V27+S27+P27+M27+J27+G27+D27 -> 0 | AO27: =AL27+AI27+AF27+AC27+Z27+W27+T27+Q27+N27+K27+H27+E27 -> 0
A28: 2730 | E28: =D28+C28 -> 0 | H28: =G28+F28 -> 0 | K28: =J28+I28 -> 0 | N28: =M28+L28 -> 0 | Q28: =P28+O28 -> 0 | T28: =S28+R28 -> 0 | W28: =V28+U28 -> 0 | Z28: =Y28+X28 -> 0 | AC28: =AB28+AA28 -> 0 | AF28: =AE28+AD28 -> 0 | AI28: =AH28+AG28 -> 0 | AL28: =AK28+AJ28 -> 0 | AM28: =AJ28+AG28+AD28+AA28+X28+U28+R28+O28+L28+I28+F28+C28 -> 0 | AN28: =AK28+AH28+AE28+AB28+Y28+V28+S28+P28+M28+J28+G28+D28 -> 0 | AO28: =AL28+AI28+AF28+AC28+Z28+W28+T28+Q28+N28+K28+H28+E28 -> 0
A29: 7520 | B29: Реалізація Національної програми інформатизації | E29: =D29+C29 -> 0 | G29: 1435 | H29: =G29+F29 -> 1435 | J29: 1435 | K29: =J29+I29 -> 1435 | M29: 2360 | N29: =M29+L29 -> 2360 | P29: 1435 | Q29: =P29+O29 -> 1435 | S29: 1435 | T29: =S29+R29 -> 1435 | V29: 2360 | W29: =V29+U29 -> 2360 | Y29: 1435 | Z29: =Y29+X29 -> 1435 | AB29: 1435 | AC29: =AB29+AA29 -> 1435 | AF29: =AE29+AD29 -> 0 | AI29: =AH29+AG29 -> 0 | AL29: =AK29+AJ29 -> 0 | AM29: =AJ29+AG29+AD29+AA29+X29+U29+R29+O29+L29+I29+F29+C29 -> 0 | AN29: =AK29+AH29+AE29+AB29+Y29+V29+S29+P29+M29+J29+G29+D29 -> 13330 | AO29: =AL29+AI29+AF29+AC29+Z29+W29+T29+Q29+N29+K29+H29+E29 -> 13330
B30: Всього | C30: =SUM(C9:C29) -> 0 | D30: =SUM(D9:D29) -> 316598.95 | E30: =SUM(E9:E29) -> 316598.95 | F30: =SUM(F9:F29) -> 0 | G30: =SUM(G9:G29) -> 1116575.4 | H30: =SUM(H9:H29) -> 1116575.4 | I30: =SUM(I9:I29) -> 0 | J30: =SUM(J9:J29) -> 1255050.8 | K30: =J30+I30 -> 1255050.8 | L30: =SUM(L9:L29) -> 0 | M30: =SUM(M9:M29) -> 658892.61 | N30: =M30+L30 -> 658892.61 | O30: =SUM(O9:O29) -> 0 | P30: =SUM(P9:P29) -> 415439.81 | Q30: =P30+O30 -> 415439.81 | R30: =SUM(R9:R29) -> 0 | S30: =SUM(S9:S29) -> 437677.96 | T30: =S30+R30 -> 437677.96 | U30: =SUM(U9:U29) -> 0 | V30: =SUM(V9:V29) -> 639140.13 | W30: =V30+U30 -> 639140.13 | X30: =SUM(X9:X29) -> 0 | Y30: =SUM(Y9:Y29) -> 357138.92 | Z30: =Y30+X30 -> 357138.92 | AA30: =SUM(AA9:AA29) -> 0 | AB30: =SUM(AB9:AB29) -> 432057.04 | AC30: =AB30+AA30 -> 432057.04 | AD30: =SUM(AD9:AD29) -> 0 | AE30: =SUM(AE9:AE29) -> 0 | AF30: =AE30+AD30 -> 0 | AG30: =SUM(AG9:AG29) -> 0 | AH30: =SUM(AH9:AH29) -> 0 | AI30: =AH30+AG30 -> 0 | AJ30: =SUM(AJ9:AJ29) -> 0 | AK30: =SUM(AK9:AK29) -> 0 | AL30: =AK30+AJ30 -> 0 | AM30: =SUM(AM9:AM29) -> 0 | AN30: =SUM(AN9:AN29) -> 5628571.6 | AO30: =SUM(AO9:AO28) -> 5615241.6
A33: Керівник
A35: Виконавець(ПІБ,тел.)

Sheet 37
R1: Додаток 3
R2: до наказу управління освіти і науки
R3: виконкому міської ради
R4: від 23.02.2016 №56
A5: Інформація
A6: щодо фактичного використання бюджетних коштів у 2026
C7: Січень | F7: Лютий | I7: Березень | L7: Квітень | O7: Травень | R7: Червень | U7: Липень | X7: Серпень | AA7: Вересень | AD7: Жовтень | AG7: Листопад | AJ7: Грудень | AM7: Разом
C8: державний | D8: місцевий | E8: разом | F8: державний | G8: місцевий | H8: разом | I8: державний | J8: місцевий | K8: разом | L8: державний | M8: місцевий | N8: разом | O8: державний | P8: місцевий | Q8: разом | R8: державний | S8: місцевий | T8: разом | U8: державний | V8: місцевий | W8: разом | X8: державний | Y8: місцевий | Z8: разом | AA8: державний | AB8: місцевий | AC8: разом | AD8: державний | AE8: місцевий | AF8: разом | AG8: державний | AH8: місцевий | AI8: разом | AJ8: державний | AK8: місцевий | AL8: разом | AM8: державний | AN8: місцевий | AO8: разом
A9: 2111 | B9: Заробітна плата | D9: 144389.33 | E9: =D9+C9 -> 144389.33 | G9: 139650.28 | H9: =G9+F9 -> 139650.28 | J9: 150182.5 | K9: =J9+I9 -> 150182.5 | M9: 150188.68 | N9: =M9+L9 -> 150188.68 | P9: 144820.57 | Q9: =P9+O9 -> 144820.57 | S9: 150146.01 | T9: =S9+R9 -> 150146.01 | V9: 169139.07 | W9: =V9+U9 -> 169139.07 | Y9: 135975.35 | Z9: =Y9+X9 -> 135975.35 | AB9: 176820.66 | AC9: =AB9+AA9 -> 176820.66 | AF9: =AD9+AE9 -> 0 | AI9: =AH9+AG9 -> 0 | AL9: =AJ9+AK9 -> 0 | AM9: =AJ9+AG9+AD9+AA9+X9+U9+R9+O9+L9+I9+F9+C9 -> 0 | AN9: =AK9+AH9+AE9+AB9+Y9+V9+S9+P9+M9+J9+G9+D9 -> 1361312.5 | AO9: =AL9+AI9+AF9+AC9+Z9+W9+T9+Q9+N9+K9+H9+E9 -> 1361312.5
A10: 2120 | B10: Нарахування на оплату праці | D10: 29109.18 | E10: =D10+C10 -> 29109.18 | G10: 28390.96 | H10: =G10+F10 -> 28390.96 | J10: 29905.26 | K10: =J10+I10 -> 29905.26 | M10: 30000.89 | N10: =M10+L10 -> 30000.89 | P10: 29168.97 | Q10: =P10+O10 -> 29168.97 | S10: 30828.07 | T10: =S10+R10 -> 30828.07 | V10: 35163.15 | W10: =V10+U10 -> 35163.15 | Y10: 27074.08 | Z10: =Y10+X10 -> 27074.08 | AB10: 36410.75 | AC10: =AB10+AA10 -> 36410.75 | AF10: =AD10+AE10 -> 0 | AI10: =AH10+AG10 -> 0 | AL10: =AJ10+AK10 -> 0 | AM10: =AJ10+AG10+AD10+AA10+X10+U10+R10+O10+L10+I10+F10+C10 -> 0 | AN10: =AK10+AH10+AE10+AB10+Y10+V10+S10+P10+M10+J10+G10+D10 -> 276051.31 | AO10: =AL10+AI10+AF10+AC10+Z10+W10+T10+Q10+N10+K10+H10+E10 -> 276051.31
A11: 2210 | B11: Предмети, матеріали, обладнання та інвентар | D11: 2158 | E11: =D11+C11 -> 2158 | G11: 1687.43 | H11: =G11+F11 -> 1687.43 | J11: 1148.14 | K11: =J11+I11 -> 1148.14 | M11: 1392.8 | N11: =M11+L11 -> 1392.8 | P11: 2604.74 | Q11: =P11+O11 -> 2604.74 | S11: 877.8 | T11: =S11+R11 -> 877.8 | W11: =V11+U11 -> 0 | Z11: =Y11+X11 -> 0 | AB11: 4254.23 | AC11: =AB11+AA11 -> 4254.23 | AF11: =AD11+AE11 -> 0 | AI11: =AH11+AG11 -> 0 | AL11: =AJ11+AK11 -> 0 | AM11: =AJ11+AG11+AD11+AA11+X11+U11+R11+O11+L11+I11+F11+C11 -> 0 | AN11: =AK11+AH11+AE11+AB11+Y11+V11+S11+P11+M11+J11+G11+D11 -> 14123.14 | AO11: =AL11+AI11+AF11+AC11+Z11+W11+T11+Q11+N11+K11+H11+E11 -> 14123.14
A12: 2220 | B12: Медикаменти та перев'язувальні матеріали | D12: 784 | E12: =D12+C12 -> 784 | G12: 784 | H12: =G12+F12 -> 784 | J12: 444 | K12: =J12+I12 -> 444 | M12: 444 | N12: =M12+L12 -> 444 | P12: 420 | Q12: =P12+O12 -> 420 | S12: 444 | T12: =S12+R12 -> 444 | W12: =V12+U12 -> 0 | Y12: 420 | Z12: =Y12+X12 -> 420 | AB12: 931.5 | AC12: =AB12+AA12 -> 931.5 | AF12: =AD12+AE12 -> 0 | AI12: =AH12+AG12 -> 0 | AL12: =AJ12+AK12 -> 0 | AM12: =AJ12+AG12+AD12+AA12+X12+U12+R12+O12+L12+I12+F12+C12 -> 0 | AN12: =AK12+AH12+AE12+AB12+Y12+V12+S12+P12+M12+J12+G12+D12 -> 4671.5 | AO12: =AL12+AI12+AF12+AC12+Z12+W12+T12+Q12+N12+K12+H12+E12 -> 4671.5
A13: 2230 | B13: Продукти харчування | E13: =D13+C13 -> 0 | H13: =G13+F13 -> 0 | K13: =J13+I13 -> 0 | N13: =M13+L13 -> 0 | Q13: =P13+O13 -> 0 | T13: =S13+R13 -> 0 | W13: =V13+U13 -> 0 | Z13: =Y13+X13 -> 0 | AC13: =AB13+AA13 -> 0 | AF13: =AD13+AE13 -> 0 | AI13: =AH13+AG13 -> 0 | AL13: =AJ13+AK13 -> 0 | AM13: =AJ13+AG13+AD13+AA13+X13+U13+R13+O13+L13+I13+F13+C13 -> 0 | AN13: =AK13+AH13+AE13+AB13+Y13+V13+S13+P13+M13+J13+G13+D13 -> 0 | AO13: =AL13+AI13+AF13+AC13+Z13+W13+T13+Q13+N13+K13+H13+E13 -> 0
A14: 2240 | B14: Оплата послуг (крім комунальних) | E14: =D14+C14 -> 0 | H14: =G14+F14 -> 0 | K14: =J14+I14 -> 0 | M14: 11973 | N14: =M14+L14 -> 11973 | P14: =3991 -> 3991 | Q14: =P14+O14 -> 3991 | S14: 7469.19 | T14: =S14+R14 -> 7469.19 | V14: =625+3991 -> 4616 | W14: =V14+U14 -> 4616 | Y14: =1980.4+3991 -> 5971.4 | Z14: =Y14+X14 -> 5971.4 | AB14: =3991 -> 3991 | AC14: =AB14+AA14 -> 3991 | AF14: =AD14+AE14 -> 0 | AI14: =AH14+AG14 -> 0 | AL14: =AJ14+AK14 -> 0 | AM14: =AJ14+AG14+AD14+AA14+X14+U14+R14+O14+L14+I14+F14+C14 -> 0 | AN14: =AK14+AH14+AE14+AB14+Y14+V14+S14+P14+M14+J14+G14+D14 -> 38011.59 | AO14: =AL14+AI14+AF14+AC14+Z14+W14+T14+Q14+N14+K14+H14+E14 -> 38011.59
A15: 2250 | B15: Видатки на відрядження | E15: =D15+C15 -> 0 | H15: =G15+F15 -> 0 | K15: =J15+I15 -> 0 | N15: =M15+L15 -> 0 | Q15: =P15+O15 -> 0 | T15: =S15+R15 -> 0 | W15: =V15+U15 -> 0 | Z15: =Y15+X15 -> 0 | AC15: =AB15+AA15 -> 0 | AF15: =AD15+AE15 -> 0 | AI15: =AH15+AG15 -> 0 | AL15: =AJ15+AK15 -> 0 | AM15: =AJ15+AG15+AD15+AA15+X15+U15+R15+O15+L15+I15+F15+C15 -> 0 | AN15: =AK15+AH15+AE15+AB15+Y15+V15+S15+P15+M15+J15+G15+D15 -> 0 | AO15: =AL15+AI15+AF15+AC15+Z15+W15+T15+Q15+N15+K15+H15+E15 -> 0
A16: 2260 | B16: Видатки та заходи спеціального призначення | E16: =D16+C16 -> 0 | H16: =G16+F16 -> 0 | K16: =J16+I16 -> 0 | N16: =M16+L16 -> 0 | Q16: =P16+O16 -> 0 | T16: =S16+R16 -> 0 | W16: =V16+U16 -> 0 | Z16: =Y16+X16 -> 0 | AC16: =AB16+AA16 -> 0 | AF16: =AD16+AE16 -> 0 | AI16: =AH16+AG16 -> 0 | AL16: =AJ16+AK16 -> 0 | AM16: =AJ16+AG16+AD16+AA16+X16+U16+R16+O16+L16+I16+F16+C16 -> 0 | AN16: =AK16+AH16+AE16+AB16+Y16+V16+S16+P16+M16+J16+G16+D16 -> 0 | AO16: =AL16+AI16+AF16+AC16+Z16+W16+T16+Q16+N16+K16+H16+E16 -> 0
A17: 2271 | B17: Оплата теплопостачання | E17: =D17+C17 -> 0 | G17: 133588.15 | H17: =G17+F17 -> 133588.15 | J17: 95855.01 | K17: =J17+I17 -> 95855.01 | M17: 123288.44 | N17: =M17+L17 -> 123288.44 | Q17: =P17+O17 -> 0 | T17: =S17+R17 -> 0 | W17: =V17+U17 -> 0 | Z17: =Y17+X17 -> 0 | AC17: =AB17+AA17 -> 0 | AF17: =AD17+AE17 -> 0 | AI17: =AH17+AG17 -> 0 | AL17: =AJ17+AK17 -> 0 | AM17: =AJ17+AG17+AD17+AA17+X17+U17+R17+O17+L17+I17+F17+C17 -> 0 | AN17: =AK17+AH17+AE17+AB17+Y17+V17+S17+P17+M17+J17+G17+D17 -> 352731.6 | AO17: =AL17+AI17+AF17+AC17+Z17+W17+T17+Q17+N17+K17+H17+E17 -> 352731.6
A18: 2272 | B18: Оплата водопостачання та водовідведення | D18: 352.8 | E18: =D18+C18 -> 352.8 | G18: 776.16 | H18: =G18+F18 -> 776.16 | J18: 2963.52 | K18: =J18+I18 -> 2963.52 | M18: 705.6 | N18: =M18+L18 -> 705.6 | P18: 282.24 | Q18: =P18+O18 -> 282.24 | S18: 941.62 | T18: =S18+R18 -> 941.62 | V18: 1726.3 | W18: =V18+U18 -> 1726.3 | Y18: 470.81 | Z18: =Y18+X18 -> 470.81 | AC18: =AB18+AA18 -> 0 | AF18: =AD18+AE18 -> 0 | AI18: =AH18+AG18 -> 0 | AL18: =AJ18+AK18 -> 0 | AM18: =AJ18+AG18+AD18+AA18+X18+U18+R18+O18+L18+I18+F18+C18 -> 0 | AN18: =AK18+AH18+AE18+AB18+Y18+V18+S18+P18+M18+J18+G18+D18 -> 8219.05 | AO18: =AL18+AI18+AF18+AC18+Z18+W18+T18+Q18+N18+K18+H18+E18 -> 8219.05
A19: 2273 | B19: Оплата електроенергії | E19: =D19+C19 -> 0 | G19: =23365.83+28.29 -> 23394.12 | H19: =G19+F19 -> 23394.12 | J19: =47902.74+16.38 -> 47919.12 | K19: =J19+I19 -> 47919.12 | M19: 29579.34 | N19: =M19+L19 -> 29579.34 | P19: =8241.76+10.7 -> 8252.46 | Q19: =P19+O19 -> 8252.46 | S19: =2169.46+10.04 -> 2179.5 | T19: =S19+R19 -> 2179.5 | V19: 2263.65 | W19: =V19+U19 -> 2263.65 | Y19: 9.3 | Z19: =Y19+X19 -> 9.3 | AB19: =11.61 -> 11.61 | AC19: =AB19+AA19 -> 11.61 | AF19: =AD19+AE19 -> 0 | AI19: =AH19+AG19 -> 0 | AL19: =AJ19+AK19 -> 0 | AM19: =AJ19+AG19+AD19+AA19+X19+U19+R19+O19+L19+I19+F19+C19 -> 0 | AN19: =AK19+AH19+AE19+AB19+Y19+V19+S19+P19+M19+J19+G19+D19 -> 113609.1 | AO19: =AL19+AI19+AF19+AC19+Z19+W19+T19+Q19+N19+K19+H19+E19 -> 113609.1
A20: 2274 | B20: Оплата природного газу | E20: =D20+C20 -> 0 | H20: =G20+F20 -> 0 | K20: =J20+I20 -> 0 | N20: =M20+L20 -> 0 | Q20: =P20+O20 -> 0 | T20: =S20+R20 -> 0 | W20: =V20+U20 -> 0 | Z20: =Y20+X20 -> 0 | AC20: =AB20+AA20 -> 0 | AF20: =AD20+AE20 -> 0 | AI20: =AH20+AG20 -> 0 | AL20: =AJ20+AK20 -> 0 | AM20: =AJ20+AG20+AD20+AA20+X20+U20+R20+O20+L20+I20+F20+C20 -> 0 | AN20: =AK20+AH20+AE20+AB20+Y20+V20+S20+P20+M20+J20+G20+D20 -> 0 | AO20: =AL20+AI20+AF20+AC20+Z20+W20+T20+Q20+N20+K20+H20+E20 -> 0
A21: 2275 | B21: Оплата інших енергоносіїв | E21: =D21+C21 -> 0 | H21: =G21+F21 -> 0 | K21: =J21+I21 -> 0 | N21: =M21+L21 -> 0 | Q21: =P21+O21 -> 0 | T21: =S21+R21 -> 0 | W21: =V21+U21 -> 0 | Z21: =Y21+X21 -> 0 | AC21: =AB21+AA21 -> 0 | AF21: =AD21+AE21 -> 0 | AI21: =AH21+AG21 -> 0 | AL21: =AJ21+AK21 -> 0 | AM21: =AJ21+AG21+AD21+AA21+X21+U21+R21+O21+L21+I21+F21+C21 -> 0 | AN21: =AK21+AH21+AE21+AB21+Y21+V21+S21+P21+M21+J21+G21+D21 -> 0 | AO21: =AL21+AI21+AF21+AC21+Z21+W21+T21+Q21+N21+K21+H21+E21 -> 0
A22: 2282 | B22: Окремі заходи по реалізації державних (регіональних) програм, не віднесені до заходів розвитку | E22: =D22+C22 -> 0 | H22: =G22+F22 -> 0 | K22: =J22+I22 -> 0 | N22: =M22+L22 -> 0 | Q22: =P22+O22 -> 0 | S22: 600 | T22: =S22+R22 -> 600 | W22: =V22+U22 -> 0 | Y22: 1020 | Z22: =Y22+X22 -> 1020 | AC22: =AB22+AA22 -> 0 | AF22: =AD22+AE22 -> 0 | AI22: =AH22+AG22 -> 0 | AL22: =AJ22+AK22 -> 0 | AM22: =AJ22+AG22+AD22+AA22+X22+U22+R22+O22+L22+I22+F22+C22 -> 0 | AN22: =AK22+AH22+AE22+AB22+Y22+V22+S22+P22+M22+J22+G22+D22 -> 1620 | AO22: =AL22+AI22+AF22+AC22+Z22+W22+T22+Q22+N22+K22+H22+E22 -> 1620
A23: 2700 | B23: Соціальне забезпечення | E23: =D23+C23 -> 0 | H23: =G23+F23 -> 0 | K23: =J23+I23 -> 0 | N23: =M23+L23 -> 0 | Q23: =P23+O23 -> 0 | T23: =S23+R23 -> 0 | W23: =V23+U23 -> 0 | Z23: =Y23+X23 -> 0 | AC23: =AB23+AA23 -> 0 | AF23: =AD23+AE23 -> 0 | AI23: =AH23+AG23 -> 0 | AL23: =AJ23+AK23 -> 0 | AM23: =AJ23+AG23+AD23+AA23+X23+U23+R23+O23+L23+I23+F23+C23 -> 0 | AN23: =AK23+AH23+AE23+AB23+Y23+V23+S23+P23+M23+J23+G23+D23 -> 0 | AO23: =AL23+AI23+AF23+AC23+Z23+W23+T23+Q23+N23+K23+H23+E23 -> 0
A24: 2800 | B24: Інші поточні видатки | E24: =D24+C24 -> 0 | H24: =G24+F24 -> 0 | K24: =J24+I24 -> 0 | N24: =M24+L24 -> 0 | Q24: =P24+O24 -> 0 | T24: =S24+R24 -> 0 | V24: -12723.72 | W24: =V24+U24 -> -12723.72 | Z24: =Y24+X24 -> 0 | AC24: =AB24+AA24 -> 0 | AF24: =AE24+AD24 -> 0 | AI24: =AH24+AG24 -> 0 | AL24: =AK24+AJ24 -> 0 | AM24: =AL24+AK24 -> 0 | AN24: =AK24+AH24+AE24+AB24+Y24+V24+S24+P24+M24+J24+G24+D24 -> -12723.72 | AO24: =AL24+AI24+AF24+AC24+Z24+W24+T24+Q24+N24+K24+H24+E24 -> -12723.72
A25: 3110 | B25: Придбання обладнання, предметів довгострокового користування | E25: =D25+C25 -> 0 | H25: =G25+F25 -> 0 | K25: =J25+I25 -> 0 | N25: =M25+L25 -> 0 | Q25: =P25+O25 -> 0 | T25: =S25+R25 -> 0 | W25: =V25+U25 -> 0 | Z25: =Y25+X25 -> 0 | AC25: =AB25+AA25 -> 0 | AF25: =AD25+AE25 -> 0 | AI25: =AH25+AG25 -> 0 | AL25: =AJ25+AK25 -> 0 | AM25: =AJ25+AG25+AD25+AA25+X25+U25+R25+O25+L25+I25+F25+C25 -> 0 | AN25: =AK25+AH25+AE25+AB25+Y25+V25+S25+P25+M25+J25+G25+D25 -> 0 | AO25: =AL25+AI25+AF25+AC25+Z25+W25+T25+Q25+N25+K25+H25+E25 -> 0
A26: 3132 | B26: Капітальний ремонт інших об'єктів | E26: =D26+C26 -> 0 | H26: =G26+F26 -> 0 | K26: =J26+I26 -> 0 | N26: =M26+L26 -> 0 | Q26: =P26+O26 -> 0 | T26: =S26+R26 -> 0 | W26: =V26+U26 -> 0 | Z26: =Y26+X26 -> 0 | AC26: =AB26+AA26 -> 0 | AF26: =AD26+AE26 -> 0 | AI26: =AH26+AG26 -> 0 | AL26: =AJ26+AK26 -> 0 | AM26: =AJ26+AG26+AD26+AA26+X26+U26+R26+O26+L26+I26+F26+C26 -> 0 | AN26: =AK26+AH26+AE26+AB26+Y26+V26+S26+P26+M26+J26+G26+D26 -> 0 | AO26: =AL26+AI26+AF26+AC26+Z26+W26+T26+Q26+N26+K26+H26+E26 -> 0
E27: =D27+C27 -> 0 | H27: =G27+F27 -> 0 | K27: =J27+I27 -> 0 | N27: =M27+L27 -> 0 | Q27: =P27+O27 -> 0 | T27: =S27+R27 -> 0 | W27: =V27+U27 -> 0 | Z27: =Y27+X27 -> 0 | AC27: =AB27+AA27 -> 0 | AF27: =AD27+AE27 -> 0 | AI27: =AH27+AG27 -> 0 | AL27: =AJ27+AK27 -> 0 | AM27: =AJ27+AG27+AD27+AA27+X27+U27+R27+O27+L27+I27+F27+C27 -> 0 | AN27: =AK27+AH27+AE27+AB27+Y27+V27+S27+P27+M27+J27+G27+D27 -> 0 | AO27: =AL27+AI27+AF27+AC27+Z27+W27+T27+Q27+N27+K27+H27+E27 -> 0
A28: 2730 | E28: =D28+C28 -> 0 | H28: =G28+F28 -> 0 | K28: =J28+I28 -> 0 | N28: =M28+L28 -> 0 | Q28: =P28+O28 -> 0 | T28: =S28+R28 -> 0 | W28: =V28+U28 -> 0 | Z28: =Y28+X28 -> 0 | AC28: =AB28+AA28 -> 0 | AF28: =AD28+AE28 -> 0 | AI28: =AH28+AG28 -> 0 | AL28: =AJ28+AK28 -> 0 | AM28: =AJ28+AG28+AD28+AA28+X28+U28+R28+O28+L28+I28+F28+C28 -> 0 | AN28: =AK28+AH28+AE28+AB28+Y28+V28+S28+P28+M28+J28+G28+D28 -> 0 | AO28: =AL28+AI28+AF28+AC28+Z28+W28+T28+Q28+N28+K28+H28+E28 -> 0
A29: 7520 | B29: Реалізація Національної програми інформатизації | E29: =D29+C29 -> 0 | H29: =G29+F29 -> 0 | K29: =J29+I29 -> 0 | M29: 925 | N29: =M29+L29 -> 925 | T29: =S29+R29 -> 0 | V29: 925 | W29: =V29+U29 -> 925 | Z29: =Y29+X29 -> 0 | AC29: =AB29+AA29 -> 0 | AF29: =AD29+AE29 -> 0 | AI29: =AH29+AG29 -> 0 | AL29: =AJ29+AK29 -> 0 | AM29: =AJ29+AG29+AD29+AA29+X29+U29+R29+O29+L29+I29+F29+C29 -> 0 | AN29: =AK29+AH29+AE29+AB29+Y29+V29+S29+P29+M29+J29+G29+D29 -> 1850 | AO29: =AL29+AI29+AF29+AC29+Z29+W29+T29+Q29+N29+K29+H29+E29 -> 1850
B30: Всього | C30: =SUM(C9:C28) -> 0 | D30: =SUM(D9:D28) -> 176793.31 | E30: =SUM(E9:E28) -> 176793.31 | F30: =SUM(F9:F28) -> 0 | G30: =SUM(G9:G28) -> 328271.1 | H30: =SUM(H9:H28) -> 328271.1 | I30: =SUM(I9:I28) -> 0 | J30: =SUM(J9:J28) -> 328417.55 | K30: =J30+I30 -> 328417.55 | L30: =SUM(L9:L28) -> 0 | M30: =SUM(M9:M28) -> 347572.75 | N30: =M30+L30 -> 347572.75 | O30: =SUM(O9:O28) -> 0 | P30: =SUM(P9:P28) -> 189539.98 | Q30: =P30+O30 -> 189539.98 | R30: =SUM(R9:R28) -> 0 | S30: =SUM(S9:S28) -> 193486.19 | T30: =S30+R30 -> 193486.19 | U30: =SUM(U9:U28) -> 0 | V30: =SUM(V9:V28) -> 200184.45 | W30: =V30+U30 -> 200184.45 | X30: =SUM(X9:X28) -> 0 | Y30: =SUM(Y9:Y28) -> 170940.94 | Z30: =Y30+X30 -> 170940.94 | AA30: =SUM(AA9:AA28) -> 0 | AB30: =SUM(AB9:AB28) -> 222419.75 | AC30: =AB30+AA30 -> 222419.75 | AD30: =SUM(AD9:AD28) -> 0 | AE30: =SUM(AE9:AE28) -> 0 | AF30: =AE30+AD30 -> 0 | AG30: =SUM(AG9:AG28) -> 0 | AH30: =SUM(AH9:AH28) -> 0 | AI30: =AH30+AG30 -> 0 | AJ30: =SUM(AJ9:AJ28) -> 0 | AK30: =SUM(AK9:AK28) -> 0 | AL30: =AJ30+AK30 -> 0 | AM30: =SUM(AM9:AM28) -> 0 | AN30: =SUM(AN9:AN28) -> 2157626 | AO30: =SUM(AO9:AO28) -> 2157626
A33: Керівник
A35: Виконавець(ПІБ,тел.)

Sheet 38
R1: Додаток 3
R3: від 23.02.2016 №56
A4: Інформація
A5: щодо фактичного використання бюджетних коштів у 202
A6: Криворізька гімназія №38 Криворізької міської ради
C7: Січень | F7: Лютий | I7: Березень | L7: Квітень | O7: Травень | R7: Червень | U7: Липень | X7: Серпень | AA7: Вересень | AD7: Жовтень | AG7: Листопад | AJ7: Грудень | AM7: Разом
C8: державний | D8: місцевий | E8: разом | F8: державний | G8: місцевий | H8: разом | I8: державний | J8: місцевий | K8: разом | L8: державний | M8: місцевий | N8: разом | O8: державний | P8: місцевий | Q8: разом | R8: державний | S8: місцевий | T8: разом | U8: державний | V8: місцевий | W8: разом | X8: державний | Y8: місцевий | Z8: разом | AA8: державний | AB8: місцевий | AC8: разом | AD8: державний | AE8: місцевий | AF8: разом | AG8: державний | AH8: місцевий | AI8: разом | AJ8: державний | AK8: місцевий | AL8: разом | AM8: державний | AN8: місцевий | AO8: разом
A9: 2111 | B9: Заробітна плата | D9: 212195.78 | E9: =D9+C9 -> 212195.78 | G9: 205333.76 | H9: =G9+F9 -> 205333.76 | J9: 203758.82 | K9: =J9+I9 -> 203758.82 | M9: 213199.47 | N9: =M9+L9 -> 213199.47 | P9: 224465.65 | Q9: =P9+O9 -> 224465.65 | S9: 306417.66 | T9: =S9+R9 -> 306417.66 | V9: 130725.55 | W9: =V9+U9 -> 130725.55 | Y9: =166841.88 -> 166841.88 | Z9: =Y9+X9 -> 166841.88 | AB9: 246153.84 | AC9: =AB9+AA9 -> 246153.84 | AF9: =AD9+AE9 -> 0 | AI9: =AH9+AG9 -> 0 | AL9: =AJ9+AK9 -> 0 | AM9: =AJ9+AG9+AD9+AA9+X9+U9+R9+O9+L9+I9+F9+C9 -> 0 | AN9: =AK9+AH9+AE9+AB9+Y9+V9+S9+P9+M9+J9+G9+D9 -> 1909092.4 | AO9: =AL9+AI9+AF9+AC9+Z9+W9+T9+Q9+N9+K9+H9+E9 -> 1909092.4
A10: 2120 | B10: Нарахування на оплату праці | D10: 48759.39 | E10: =D10+C10 -> 48759.39 | G10: 47112.63 | H10: =G10+F10 -> 47112.63 | J10: 47778.7 | K10: =J10+I10 -> 47778.7 | M10: 50985.63 | N10: =M10+L10 -> 50985.63 | P10: 52628.3 | Q10: =P10+O10 -> 52628.3 | S10: 71037.06 | T10: =S10+R10 -> 71037.06 | V10: 34908.16 | W10: =V10+U10 -> 34908.16 | Y10: 42369.78 | Z10: =Y10+X10 -> 42369.78 | AB10: 56116.59 | AC10: =AB10+AA10 -> 56116.59 | AF10: =AD10+AE10 -> 0 | AI10: =AH10+AG10 -> 0 | AL10: =AJ10+AK10 -> 0 | AM10: =AJ10+AG10+AD10+AA10+X10+U10+R10+O10+L10+I10+F10+C10 -> 0 | AN10: =AK10+AH10+AE10+AB10+Y10+V10+S10+P10+M10+J10+G10+D10 -> 451696.24 | AO10: =AL10+AI10+AF10+AC10+Z10+W10+T10+Q10+N10+K10+H10+E10 -> 451696.24
A11: 2210 | B11: Предмети, матеріали, обладнання та інвентар | D11: 827.58 | E11: =D11+C11 -> 827.58 | G11: 827.58 | H11: =G11+F11 -> 827.58 | J11: 563.58 | K11: =J11+I11 -> 563.58 | M11: 563.58 | N11: =M11+L11 -> 563.58 | P11: 563.58 | Q11: =P11+O11 -> 563.58 | S11: 374.82 | T11: =S11+R11 -> 374.82 | W11: =V11+U11 -> 0 | Z11: =Y11+X11 -> 0 | AB11: 1141.34 | AC11: =AB11+AA11 -> 1141.34 | AF11: =AD11+AE11 -> 0 | AI11: =AH11+AG11 -> 0 | AL11: =AJ11+AK11 -> 0 | AM11: =AJ11+AG11+AD11+AA11+X11+U11+R11+O11+L11+I11+F11+C11 -> 0 | AN11: =AK11+AH11+AE11+AB11+Y11+V11+S11+P11+M11+J11+G11+D11 -> 4862.06 | AO11: =AL11+AI11+AF11+AC11+Z11+W11+T11+Q11+N11+K11+H11+E11 -> 4862.06
A12: 2220 | B12: Медикаменти та перев'язувальні матеріали | D12: 840 | E12: =D12+C12 -> 840 | G12: 840 | H12: =G12+F12 -> 840 | J12: 840 | K12: =J12+I12 -> 840 | M12: 840 | N12: =M12+L12 -> 840 | P12: 1296.14 | Q12: =P12+O12 -> 1296.14 | S12: 840 | T12: =S12+R12 -> 840 | W12: =V12+U12 -> 0 | Z12: =Y12+X12 -> 0 | AB12: 405 | AC12: =AB12+AA12 -> 405 | AF12: =AD12+AE12 -> 0 | AI12: =AH12+AG12 -> 0 | AL12: =AJ12+AK12 -> 0 | AM12: =AJ12+AG12+AD12+AA12+X12+U12+R12+O12+L12+I12+F12+C12 -> 0 | AN12: =AK12+AH12+AE12+AB12+Y12+V12+S12+P12+M12+J12+G12+D12 -> 5901.14 | AO12: =AL12+AI12+AF12+AC12+Z12+W12+T12+Q12+N12+K12+H12+E12 -> 5901.14
A13: 2230 | B13: Продукти харчування | E13: =D13+C13 -> 0 | H13: =G13+F13 -> 0 | K13: =J13+I13 -> 0 | N13: =M13+L13 -> 0 | Q13: =P13+O13 -> 0 | T13: =S13+R13 -> 0 | W13: =V13+U13 -> 0 | Z13: =Y13+X13 -> 0 | AC13: =AB13+AA13 -> 0 | AF13: =AD13+AE13 -> 0 | AI13: =AH13+AG13 -> 0 | AL13: =AJ13+AK13 -> 0 | AM13: =AJ13+AG13+AD13+AA13+X13+U13+R13+O13+L13+I13+F13+C13 -> 0 | AN13: =AK13+AH13+AE13+AB13+Y13+V13+S13+P13+M13+J13+G13+D13 -> 0 | AO13: =AL13+AI13+AF13+AC13+Z13+W13+T13+Q13+N13+K13+H13+E13 -> 0
A14: 2240 | B14: Оплата послуг (крім комунальних) | E14: =D14+C14 -> 0 | G14: =38999.47 -> 38999.47 | H14: =G14+F14 -> 38999.47 | J14: =832.45+44775.45 -> 45607.9 | K14: =J14+I14 -> 45607.9 | M14: =1582.45+85404.08 -> 86986.53 | N14: =M14+L14 -> 86986.53 | P14: =832.45+50728.65 -> 51561.1 | Q14: =P14+O14 -> 51561.1 | S14: =832.45+49419.15 -> 50251.6 | T14: =S14+R14 -> 50251.6 | V14: =1457.45+12554.65 -> 14012.1 | W14: =V14+U14 -> 14012.1 | Y14: =2232.45+20259.05 -> 22491.5 | Z14: =Y14+X14 -> 22491.5 | AB14: =832.45+12118.95 -> 12951.4 | AC14: =AB14+AA14 -> 12951.4 | AF14: =AD14+AE14 -> 0 | AI14: =AH14+AG14 -> 0 | AL14: =AJ14+AK14 -> 0 | AM14: =AJ14+AG14+AD14+AA14+X14+U14+R14+O14+L14+I14+F14+C14 -> 0 | AN14: =AK14+AH14+AE14+AB14+Y14+V14+S14+P14+M14+J14+G14+D14 -> 322861.6 | AO14: =AL14+AI14+AF14+AC14+Z14+W14+T14+Q14+N14+K14+H14+E14 -> 322861.6
A15: 2250 | B15: Видатки на відрядження | E15: =D15+C15 -> 0 | H15: =G15+F15 -> 0 | K15: =J15+I15 -> 0 | N15: =M15+L15 -> 0 | Q15: =P15+O15 -> 0 | T15: =S15+R15 -> 0 | W15: =V15+U15 -> 0 | Z15: =Y15+X15 -> 0 | AC15: =AB15+AA15 -> 0 | AF15: =AD15+AE15 -> 0 | AI15: =AH15+AG15 -> 0 | AL15: =AJ15+AK15 -> 0 | AM15: =AJ15+AG15+AD15+AA15+X15+U15+R15+O15+L15+I15+F15+C15 -> 0 | AN15: =AK15+AH15+AE15+AB15+Y15+V15+S15+P15+M15+J15+G15+D15 -> 0 | AO15: =AL15+AI15+AF15+AC15+Z15+W15+T15+Q15+N15+K15+H15+E15 -> 0
A16: 2260 | B16: Видатки та заходи спеціального призначення | E16: =D16+C16 -> 0 | H16: =G16+F16 -> 0 | K16: =J16+I16 -> 0 | N16: =M16+L16 -> 0 | Q16: =P16+O16 -> 0 | T16: =S16+R16 -> 0 | W16: =V16+U16 -> 0 | Z16: =Y16+X16 -> 0 | AC16: =AB16+AA16 -> 0 | AF16: =AD16+AE16 -> 0 | AI16: =AH16+AG16 -> 0 | AL16: =AJ16+AK16 -> 0 | AM16: =AJ16+AG16+AD16+AA16+X16+U16+R16+O16+L16+I16+F16+C16 -> 0 | AN16: =AK16+AH16+AE16+AB16+Y16+V16+S16+P16+M16+J16+G16+D16 -> 0 | AO16: =AL16+AI16+AF16+AC16+Z16+W16+T16+Q16+N16+K16+H16+E16 -> 0
A17: 2271 | B17: Оплата теплопостачання | E17: =D17+C17 -> 0 | G17: 184158.84 | H17: =G17+F17 -> 184158.84 | J17: 78253.25 | K17: =J17+I17 -> 78253.25 | M17: 153619.47 | N17: =M17+L17 -> 153619.47 | Q17: =P17+O17 -> 0 | T17: =S17+R17 -> 0 | W17: =V17+U17 -> 0 | Z17: =Y17+X17 -> 0 | AC17: =AB17+AA17 -> 0 | AF17: =AD17+AE17 -> 0 | AI17: =AH17+AG17 -> 0 | AL17: =AJ17+AK17 -> 0 | AM17: =AJ17+AG17+AD17+AA17+X17+U17+R17+O17+L17+I17+F17+C17 -> 0 | AN17: =AK17+AH17+AE17+AB17+Y17+V17+S17+P17+M17+J17+G17+D17 -> 416031.56 | AO17: =AL17+AI17+AF17+AC17+Z17+W17+T17+Q17+N17+K17+H17+E17 -> 416031.56
A18: 2272 | B18: Оплата водопостачання та водовідведення | D18: 940.33 | E18: =D18+C18 -> 940.33 | G18: 981.22 | H18: =G18+F18 -> 981.22 | J18: =81.77+1267.4 -> 1349.17 | K18: =J18+I18 -> 1349.17 | M18: =40.88+1226.52 -> 1267.4 | N18: =M18+L18 -> 1267.4 | P18: =40.88+1390.06 -> 1430.94 | Q18: =P18+O18 -> 1430.94 | S18: 877.67 | T18: =S18+R18 -> 877.67 | V18: =45.66+228.3 -> 273.96 | W18: =V18+U18 -> 273.96 | Y18: =45.66+365.28 -> 410.94 | Z18: =Y18+X18 -> 410.94 | AB18: =136.98+1050.18 -> 1187.16 | AC18: =AB18+AA18 -> 1187.16 | AF18: =AD18+AE18 -> 0 | AI18: =AH18+AG18 -> 0 | AL18: =AJ18+AK18 -> 0 | AM18: =AJ18+AG18+AD18+AA18+X18+U18+R18+O18+L18+I18+F18+C18 -> 0 | AN18: =AK18+AH18+AE18+AB18+Y18+V18+S18+P18+M18+J18+G18+D18 -> 8718.79 | AO18: =AL18+AI18+AF18+AC18+Z18+W18+T18+Q18+N18+K18+H18+E18 -> 8718.79
A19: 2273 | B19: Оплата електроенергії | E19: =D19+C19 -> 0 | G19: =4073.46+13592.35 -> 17665.81 | H19: =G19+F19 -> 17665.81 | J19: =6504.12+18250.86 -> 24754.98 | K19: =J19+I19 -> 24754.98 | M19: =3971.89+18747.39 -> 22719.28 | N19: =M19+L19 -> 22719.28 | P19: =738.55+20646.56 -> 21385.11 | Q19: =P19+O19 -> 21385.11 | S19: =231.01+16631.27 -> 16862.28 | T19: =S19+R19 -> 16862.28 | V19: =205.79+4711.42 -> 4917.21 | W19: =V19+U19 -> 4917.21 | Y19: =223.19+2464.42 -> 2687.61 | Z19: =Y19+X19 -> 2687.61 | AB19: =232.1+3562.75 -> 3794.85 | AC19: =AB19+AA19 -> 3794.85 | AF19: =AD19+AE19 -> 0 | AI19: =AH19+AG19 -> 0 | AL19: =AJ19+AK19 -> 0 | AM19: =AJ19+AG19+AD19+AA19+X19+U19+R19+O19+L19+I19+F19+C19 -> 0 | AN19: =AK19+AH19+AE19+AB19+Y19+V19+S19+P19+M19+J19+G19+D19 -> 114787.13 | AO19: =AL19+AI19+AF19+AC19+Z19+W19+T19+Q19+N19+K19+H19+E19 -> 114787.13
A20: 2274 | B20: Оплата природного газу | E20: =D20+C20 -> 0 | H20: =G20+F20 -> 0 | K20: =J20+I20 -> 0 | N20: =M20+L20 -> 0 | Q20: =P20+O20 -> 0 | T20: =S20+R20 -> 0 | W20: =V20+U20 -> 0 | Z20: =Y20+X20 -> 0 | AC20: =AB20+AA20 -> 0 | AF20: =AD20+AE20 -> 0 | AI20: =AH20+AG20 -> 0 | AL20: =AJ20+AK20 -> 0 | AM20: =AJ20+AG20+AD20+AA20+X20+U20+R20+O20+L20+I20+F20+C20 -> 0 | AN20: =AK20+AH20+AE20+AB20+Y20+V20+S20+P20+M20+J20+G20+D20 -> 0 | AO20: =AL20+AI20+AF20+AC20+Z20+W20+T20+Q20+N20+K20+H20+E20 -> 0
A21: 2275 | B21: Оплата інших енергоносіїв | D21: 2988.08 | E21: =D21+C21 -> 2988.08 | G21: 2219.56 | H21: =G21+F21 -> 2219.56 | J21: 442.43 | K21: =J21+I21 -> 442.43 | M21: 535.95 | N21: =M21+L21 -> 535.95 | P21: 892.21 | Q21: =P21+O21 -> 892.21 | S21: 893.25 | T21: =S21+R21 -> 893.25 | V21: 535.95 | W21: =V21+U21 -> 535.95 | Y21: 1041.3 | Z21: =Y21+X21 -> 1041.3 | AB21: =9570+866.11 -> 10436.11 | AC21: =AB21+AA21 -> 10436.11 | AF21: =AD21+AE21 -> 0 | AI21: =AH21+AG21 -> 0 | AL21: =AJ21+AK21 -> 0 | AM21: =AJ21+AG21+AD21+AA21+X21+U21+R21+O21+L21+I21+F21+C21 -> 0 | AN21: =AK21+AH21+AE21+AB21+Y21+V21+S21+P21+M21+J21+G21+D21 -> 19984.84 | AO21: =AL21+AI21+AF21+AC21+Z21+W21+T21+Q21+N21+K21+H21+E21 -> 19984.84
A22: 2282 | B22: Окремі заходи по реалізації державних (регіональних) програм, не віднесені до заходів розвитку | E22: =D22+C22 -> 0 | H22: =G22+F22 -> 0 | K22: =J22+I22 -> 0 | N22: =M22+L22 -> 0 | Q22: =P22+O22 -> 0 | S22: 600 | T22: =S22+R22 -> 600 | W22: =V22+U22 -> 0 | Y22: 320 | Z22: =Y22+X22 -> 320 | AC22: =AB22+AA22 -> 0 | AF22: =AD22+AE22 -> 0 | AI22: =AH22+AG22 -> 0 | AL22: =AJ22+AK22 -> 0 | AM22: =AJ22+AG22+AD22+AA22+X22+U22+R22+O22+L22+I22+F22+C22 -> 0 | AN22: =AK22+AH22+AE22+AB22+Y22+V22+S22+P22+M22+J22+G22+D22 -> 920 | AO22: =AL22+AI22+AF22+AC22+Z22+W22+T22+Q22+N22+K22+H22+E22 -> 920
A23: 2700 | B23: Соціальне забезпечення | E23: =D23+C23 -> 0 | H23: =G23+F23 -> 0 | K23: =J23+I23 -> 0 | N23: =M23+L23 -> 0 | Q23: =P23+O23 -> 0 | T23: =S23+R23 -> 0 | W23: =V23+U23 -> 0 | Z23: =Y23+X23 -> 0 | AC23: =AB23+AA23 -> 0 | AF23: =AE23+AD23 -> 0 | AI23: =AH23+AG23 -> 0 | AL23: =AK23+AJ23 -> 0 | AM23: =AL23+AK23 -> 0 | AN23: =AK23+AH23+AE23+AB23+Y23+V23+S23+P23+M23+J23+G23+D23 -> 0 | AO23: =AL23+AI23+AF23+AC23+Z23+W23+T23+Q23+N23+K23+H23+E23 -> 0
A24: 2800 | B24: Інші поточні видатки | E24: =D24+C24 -> 0 | H24: =G24+F24 -> 0 | K24: =J24+I24 -> 0 | N24: =M24+L24 -> 0 | Q24: =P24+O24 -> 0 | T24: =S24+R24 -> 0 | W24: =V24+U24 -> 0 | Z24: =Y24+X24 -> 0 | AC24: =AB24+AA24 -> 0 | AF24: =AD24+AE24 -> 0 | AI24: =AH24+AG24 -> 0 | AL24: =AJ24+AK24 -> 0 | AM24: =AJ24+AG24+AD24+AA24+X24+U24+R24+O24+L24+I24+F24+C24 -> 0 | AN24: =AK24+AH24+AE24+AB24+Y24+V24+S24+P24+M24+J24+G24+D24 -> 0 | AO24: =AL24+AI24+AF24+AC24+Z24+W24+T24+Q24+N24+K24+H24+E24 -> 0
A25: 3110 | B25: Придбання обладнання, предметів довгострокового користування | E25: =D25+C25 -> 0 | H25: =G25+F25 -> 0 | K25: =J25+I25 -> 0 | N25: =M25+L25 -> 0 | Q25: =P25+O25 -> 0 | T25: =S25+R25 -> 0 | W25: =V25+U25 -> 0 | Z25: =Y25+X25 -> 0 | AC25: =AB25+AA25 -> 0 | AF25: =AD25+AE25 -> 0 | AI25: =AH25+AG25 -> 0 | AL25: =AJ25+AK25 -> 0 | AM25: =AJ25+AG25+AD25+AA25+X25+U25+R25+O25+L25+I25+F25+C25 -> 0 | AN25: =AK25+AH25+AE25+AB25+Y25+V25+S25+P25+M25+J25+G25+D25 -> 0 | AO25: =AL25+AI25+AF25+AC25+Z25+W25+T25+Q25+N25+K25+H25+E25 -> 0
A26: 3132 | B26: Капітальний ремонт інших об'єктів | E26: =D26+C26 -> 0 | H26: =G26+F26 -> 0 | K26: =J26+I26 -> 0 | N26: =M26+L26 -> 0 | Q26: =P26+O26 -> 0 | T26: =S26+R26 -> 0 | W26: =V26+U26 -> 0 | Z26: =Y26+X26 -> 0 | AC26: =AB26+AA26 -> 0 | AF26: =AD26+AE26 -> 0 | AI26: =AH26+AG26 -> 0 | AL26: =AJ26+AK26 -> 0 | AM26: =AJ26+AG26+AD26+AA26+X26+U26+R26+O26+L26+I26+F26+C26 -> 0 | AN26: =AK26+AH26+AE26+AB26+Y26+V26+S26+P26+M26+J26+G26+D26 -> 0 | AO26: =AL26+AI26+AF26+AC26+Z26+W26+T26+Q26+N26+K26+H26+E26 -> 0
E27: =D27+C27 -> 0 | H27: =G27+F27 -> 0 | K27: =J27+I27 -> 0 | N27: =M27+L27 -> 0 | Q27: =P27+O27 -> 0 | T27: =S27+R27 -> 0 | W27: =V27+U27 -> 0 | Z27: =Y27+X27 -> 0 | AC27: =AB27+AA27 -> 0 | AF27: =AD27+AE27 -> 0 | AI27: =AH27+AG27 -> 0 | AL27: =AJ27+AK27 -> 0 | AM27: =AJ27+AG27+AD27+AA27+X27+U27+R27+O27+L27+I27+F27+C27 -> 0 | AN27: =AK27+AH27+AE27+AB27+Y27+V27+S27+P27+M27+J27+G27+D27 -> 0 | AO27: =AL27+AI27+AF27+AC27+Z27+W27+T27+Q27+N27+K27+H27+E27 -> 0
A28: 2730 | E28: =D28+C28 -> 0 | H28: =G28+F28 -> 0 | K28: =J28+I28 -> 0 | N28: =M28+L28 -> 0 | Q28: =P28+O28 -> 0 | T28: =S28+R28 -> 0 | W28: =V28+U28 -> 0 | Z28: =Y28+X28 -> 0 | AC28: =AB28+AA28 -> 0 | AF28: =AD28+AE28 -> 0 | AI28: =AH28+AG28 -> 0 | AL28: =AJ28+AK28 -> 0 | AM28: =AJ28+AG28+AD28+AA28+X28+U28+R28+O28+L28+I28+F28+C28 -> 0 | AN28: =AK28+AH28+AE28+AB28+Y28+V28+S28+P28+M28+J28+G28+D28 -> 0 | AO28: =AL28+AI28+AF28+AC28+Z28+W28+T28+Q28+N28+K28+H28+E28 -> 0
A29: 7520 | B29: Реалізація Національної програми інформатизації | E29: =D29+C29 -> 0 | G29: 1516 | H29: =G29+F29 -> 1516 | J29: 1516 | K29: =J29+I29 -> 1516 | M29: 2266 | N29: =M29+L29 -> 2266 | P29: 1516 | Q29: =P29+O29 -> 1516 | S29: 1516 | T29: =S29+R29 -> 1516 | V29: 2266 | W29: =V29+U29 -> 2266 | Y29: 1516 | Z29: =Y29+X29 -> 1516 | AB29: 1516 | AC29: =AB29+AA29 -> 1516 | AF29: =AD29+AE29 -> 0 | AI29: =AH29+AG29 -> 0 | AL29: =AJ29+AK29 -> 0 | AM29: =AJ29+AG29+AD29+AA29+X29+U29+R29+O29+L29+I29+F29+C29 -> 0 | AN29: =AK29+AH29+AE29+AB29+Y29+V29+S29+P29+M29+J29+G29+D29 -> 13628 | AO29: =AL29+AI29+AF29+AC29+Z29+W29+T29+Q29+N29+K29+H29+E29 -> 13628
B30: Всього | C30: =SUM(C9:C27) -> 0 | D30: =SUM(D9:D27) -> 266551.16 | E30: =SUM(E9:E27) -> 266551.16 | F30: =SUM(F9:F27) -> 0 | G30: =SUM(G9:G29) -> 499654.87 | H30: =SUM(H9:H29) -> 499654.87 | I30: =SUM(I9:I27) -> 0 | J30: =SUM(J9:J27) -> 403348.83 | K30: =J30+I30 -> 403348.83 | L30: =SUM(L9:L27) -> 0 | M30: =SUM(M9:M27) -> 530717.31 | N30: =M30+L30 -> 530717.31 | O30: =SUM(O9:O27) -> 0 | P30: =SUM(P9:P27) -> 354223.03 | Q30: =P30+O30 -> 354223.03 | R30: =SUM(R9:R27) -> 0 | S30: =SUM(S9:S27) -> 448154.34 | T30: =S30+R30 -> 448154.34 | U30: =SUM(U9:U27) -> 0 | V30: =SUM(V9:V27) -> 185372.93 | W30: =V30+U30 -> 185372.93 | X30: =SUM(X9:X27) -> 0 | Y30: =SUM(Y9:Y27) -> 236163.01 | Z30: =Y30+X30 -> 236163.01 | AA30: =SUM(AA9:AA27) -> 0 | AB30: =SUM(AB9:AB27) -> 332186.29 | AC30: =AB30+AA30 -> 332186.29 | AD30: =SUM(AD9:AD27) -> 0 | AE30: =SUM(AE9:AE27) -> 0 | AF30: =AE30+AD30 -> 0 | AG30: =SUM(AG9:AG27) -> 0 | AH30: =SUM(AH9:AH27) -> 0 | AI30: =AH30+AG30 -> 0 | AJ30: =SUM(AJ9:AJ27) -> 0 | AK30: =SUM(AK9:AK27) -> 0 | AL30: =AK30+AJ30 -> 0 | AM30: =SUM(AM9:AM27) -> 0 | AN30: =SUM(AN9:AN27) -> 3254855.8 | AO30: =SUM(AO9:AO27) -> 3254855.8
A33: Керівник
A35: Виконавець(ПІБ,тел.)

Sheet 40
R1: Додаток 3
R2: до наказу управління освіти і науки
R3: виконкому міської ради
A4: Інформація
A5: щодо фактичного використання бюджетних коштів у 2026
A6: Криворізька гімназія №40 Криворізької міської ради
C7: Січень | F7: Лютий | I7: Березень | L7: Квітень | O7: Травень | R7: Червень | U7: Липень | X7: Серпень | AA7: Вересень | AD7: Жовтень | AG7: Листопад | AJ7: Грудень | AM7: Разом
C8: державний | D8: місцевий | E8: разом | F8: державний | G8: місцевий | H8: разом | I8: державний | J8: місцевий | K8: разом | L8: державний | M8: місцевий | N8: разом | O8: державний | P8: місцевий | Q8: разом | R8: державний | S8: місцевий | T8: разом | U8: державний | V8: місцевий | W8: разом | X8: державний | Y8: місцевий | Z8: разом | AA8: державний | AB8: місцевий | AC8: разом | AD8: державний | AE8: місцевий | AF8: разом | AG8: державний | AH8: місцевий | AI8: разом | AJ8: державний | AK8: місцевий | AL8: разом | AM8: державний | AN8: місцевий | AO8: разом
A9: 2111 | B9: Заробітна плата | D9: 178717.18 | E9: =D9+C9 -> 178717.18 | G9: 174409.09 | H9: =G9+F9 -> 174409.09 | J9: 177690.3 | K9: =J9+I9 -> 177690.3 | M9: 172420.87 | N9: =M9+L9 -> 172420.87 | P9: 180718.29 | Q9: =P9+O9 -> 180718.29 | S9: 249393.26 | T9: =S9+R9 -> 249393.26 | V9: 137918.89 | W9: =V9+U9 -> 137918.89 | Y9: 143306.41 | Z9: =Y9+X9 -> 143306.41 | AB9: 202969 | AC9: =AB9+AA9 -> 202969 | AF9: =AE9+AD9 -> 0 | AI9: =AH9+AG9:AG10 -> 0 | AL9: =AK9+AJ9 -> 0 | AM9: =AJ9+AG9+AD9+AA9+X9+U9+R9+O9+L9+I9+F9+C9 -> 0 | AN9: =AK9+AH9+AE9+AB9+Y9+V9+S9+P9+M9+J9+G9+D9 -> 1617543.3 | AO9: =AL9+AI9+AF9+AC9+Z9+W9+T9+Q9+N9+K9+H9+E9 -> 1617543.3
A10: 2120 | B10: Нарахування на оплату праці | D10: 40560.45 | E10: =D10+C10 -> 40560.45 | G10: 39321.18 | H10: =G10+F10 -> 39321.18 | J10: 43020.38 | K10: =J10+I10 -> 43020.38 | M10: 36820.75 | N10: =M10+L10 -> 36820.75 | P10: 40959.43 | Q10: =P10+O10 -> 40959.43 | S10: 51919.85 | T10: =S10+R10 -> 51919.85 | V10: 32064.45 | W10: =V10+U10 -> 32064.45 | Y10: 31063.73 | Z10: =Y10+X10 -> 31063.73 | AB10: 43953.64 | AC10: =AB10+AA10 -> 43953.64 | AF10: =AE10+AD10 -> 0 | AI10: =AH10+AG10:AG11 -> 0 | AL10: =AK10+AJ10 -> 0 | AM10: =AJ10+AG10+AD10+AA10+X10+U10+R10+O10+L10+I10+F10+C10 -> 0 | AN10: =AK10+AH10+AE10+AB10+Y10+V10+S10+P10+M10+J10+G10+D10 -> 359683.86 | AO10: =AL10+AI10+AF10+AC10+Z10+W10+T10+Q10+N10+K10+H10+E10 -> 359683.86
A11: 2210 | B11: Предмети, матеріали, обладнання та інвентар | D11: 1170.45 | E11: =D11+C11 -> 1170.45 | G11: 915.51 | H11: =G11+F11 -> 915.51 | J11: 576.37 | K11: =J11+I11 -> 576.37 | M11: 666.08 | N11: =M11+L11 -> 666.08 | P11: 1093.58 | Q11: =P11+O11 -> 1093.58 | S11: 218.4 | T11: =S11+R11 -> 218.4 | W11: =V11+U11 -> 0 | Z11: =Y11+X11 -> 0 | AB11: 6015.07 | AC11: =AB11+AA11 -> 6015.07 | AF11: =AE11+AD11 -> 0 | AI11: =AH11+AG11:AG12 -> 0 | AL11: =AK11+AJ11 -> 0 | AM11: =AJ11+AG11+AD11+AA11+X11+U11+R11+O11+L11+I11+F11+C11 -> 0 | AN11: =AK11+AH11+AE11+AB11+Y11+V11+S11+P11+M11+J11+G11+D11 -> 10655.46 | AO11: =AL11+AI11+AF11+AC11+Z11+W11+T11+Q11+N11+K11+H11+E11 -> 10655.46
A12: 2220 | B12: Медикаменти та перев'язувальні матеріали | E12: =D12+C12 -> 0 | G12: 250 | H12: =G12+F12 -> 250 | K12: =J12+I12 -> 0 | N12: =M12+L12 -> 0 | P12: 290.87 | Q12: =P12+O12 -> 290.87 | T12: =S12+R12 -> 0 | W12: =V12+U12 -> 0 | Z12: =Y12+X12 -> 0 | AB12: 455 | AC12: =AB12+AA12 -> 455 | AF12: =AE12+AD12 -> 0 | AI12: =AH12+AG12:AG13 -> 0 | AL12: =AK12+AJ12 -> 0 | AM12: =AJ12+AG12+AD12+AA12+X12+U12+R12+O12+L12+I12+F12+C12 -> 0 | AN12: =AK12+AH12+AE12+AB12+Y12+V12+S12+P12+M12+J12+G12+D12 -> 995.87 | AO12: =AL12+AI12+AF12+AC12+Z12+W12+T12+Q12+N12+K12+H12+E12 -> 995.87
A13: 2230 | B13: Продукти харчування | D13: 9699.82 | E13: =D13+C13 -> 9699.82 | G13: 15049.78 | H13: =G13+F13 -> 15049.78 | J13: 13200.54 | K13: =J13+I13 -> 13200.54 | M13: 14450.07 | N13: =M13+L13 -> 14450.07 | P13: 16600.41 | Q13: =P13+O13 -> 16600.41 | T13: =S13+R13 -> 0 | W13: =V13+U13 -> 0 | Z13: =Y13+X13 -> 0 | AB13: 16052.22 | AC13: =AB13+AA13 -> 16052.22 | AF13: =AE13+AD13 -> 0 | AI13: =AH13+AG13:AG14 -> 0 | AL13: =AK13+AJ13 -> 0 | AM13: =AJ13+AG13+AD13+AA13+X13+U13+R13+O13+L13+I13+F13+C13 -> 0 | AN13: =AK13+AH13+AE13+AB13+Y13+V13+S13+P13+M13+J13+G13+D13 -> 85052.84 | AO13: =AL13+AI13+AF13+AC13+Z13+W13+T13+Q13+N13+K13+H13+E13 -> 85052.84
A14: 2240 | B14: Оплата послуг (крім комунальних) | E14: =D14+C14 -> 0 | G14: =7200 -> 7200 | H14: =G14+F14 -> 7200 | J14: =13823.1 -> 13823.1 | K14: =J14+I14 -> 13823.1 | M14: =15005.8 -> 15005.8 | N14: =M14+L14 -> 15005.8 | P14: =8097.8 -> 8097.8 | Q14: =P14+O14 -> 8097.8 | S14: =18721.52 -> 18721.52 | T14: =S14+R14 -> 18721.52 | V14: =15781.82 -> 15781.82 | W14: =V14+U14 -> 15781.82 | Y14: 15078.2 | Z14: =Y14+X14 -> 15078.2 | AB14: 15144.1 | AC14: =AB14+AA14 -> 15144.1 | AF14: =AE14+AD14 -> 0 | AI14: =AH14+AG14:AG15 -> 0 | AL14: =AK14+AJ14 -> 0 | AM14: =AJ14+AG14+AD14+AA14+X14+U14+R14+O14+L14+I14+F14+C14 -> 0 | AN14: =AK14+AH14+AE14+AB14+Y14+V14+S14+P14+M14+J14+G14+D14 -> 108852.34 | AO14: =AL14+AI14+AF14+AC14+Z14+W14+T14+Q14+N14+K14+H14+E14 -> 108852.34
A15: 2250 | B15: Видатки на відрядження | E15: =D15+C15 -> 0 | H15: =G15+F15 -> 0 | K15: =J15+I15 -> 0 | N15: =M15+L15 -> 0 | Q15: =P15+O15 -> 0 | T15: =S15+R15 -> 0 | W15: =V15+U15 -> 0 | Z15: =Y15+X15 -> 0 | AC15: =AB15+AA15 -> 0 | AF15: =AE15+AD15 -> 0 | AI15: =AH15+AG15:AG16 -> 0 | AL15: =AK15+AJ15 -> 0 | AM15: =AJ15+AG15+AD15+AA15+X15+U15+R15+O15+L15+I15+F15+C15 -> 0 | AN15: =AK15+AH15+AE15+AB15+Y15+V15+S15+P15+M15+J15+G15+D15 -> 0 | AO15: =AL15+AI15+AF15+AC15+Z15+W15+T15+Q15+N15+K15+H15+E15 -> 0
A16: 2260 | B16: Видатки та заходи спеціального призначення | E16: =D16+C16 -> 0 | H16: =G16+F16 -> 0 | K16: =J16+I16 -> 0 | N16: =M16+L16 -> 0 | Q16: =P16+O16 -> 0 | T16: =S16+R16 -> 0 | W16: =V16+U16 -> 0 | Z16: =Y16+X16 -> 0 | AC16: =AB16+AA16 -> 0 | AF16: =AE16+AD16 -> 0 | AI16: =AH16+AG16:AG17 -> 0 | AL16: =AK16+AJ16 -> 0 | AM16: =AJ16+AG16+AD16+AA16+X16+U16+R16+O16+L16+I16+F16+C16 -> 0 | AN16: =AK16+AH16+AE16+AB16+Y16+V16+S16+P16+M16+J16+G16+D16 -> 0 | AO16: =AL16+AI16+AF16+AC16+Z16+W16+T16+Q16+N16+K16+H16+E16 -> 0
A17: 2271 | B17: Оплата теплопостачання | E17: =D17+C17 -> 0 | G17: 446817.95 | H17: =G17+F17 -> 446817.95 | J17: 512298.02 | K17: =J17+I17 -> 512298.02 | M17: 154601.62 | N17: =M17+L17 -> 154601.62 | Q17: =P17+O17 -> 0 | T17: =S17+R17 -> 0 | W17: =V17+U17 -> 0 | Z17: =Y17+X17 -> 0 | AC17: =AB17+AA17 -> 0 | AF17: =AE17+AD17 -> 0 | AI17: =AH17+AG17:AG18 -> 0 | AL17: =AK17+AJ17 -> 0 | AM17: =AJ17+AG17+AD17+AA17+X17+U17+R17+O17+L17+I17+F17+C17 -> 0 | AN17: =AK17+AH17+AE17+AB17+Y17+V17+S17+P17+M17+J17+G17+D17 -> 1113717.6 | AO17: =AL17+AI17+AF17+AC17+Z17+W17+T17+Q17+N17+K17+H17+E17 -> 1113717.6
A18: 2272 | B18: Оплата водопостачання та водовідведення | D18: 2751.84 | E18: =D18+C18 -> 2751.84 | G18: 3316.32 | H18: =G18+F18 -> 3316.32 | J18: 3386.88 | K18: =J18+I18 -> 3386.88 | M18: 4163.04 | N18: =M18+L18 -> 4163.04 | P18: 3880.8 | Q18: =P18+O18 -> 3880.8 | S18: 3920.95 | T18: =S18+R18 -> 3920.95 | V18: 1412.42 | W18: =V18+U18 -> 1412.42 | Y18: 1569.36 | Z18: =Y18+X18 -> 1569.36 | AB18: 4629.61 | AC18: =AB18+AA18 -> 4629.61 | AF18: =AE18+AD18 -> 0 | AI18: =AH18+AG18:AG19 -> 0 | AL18: =AK18+AJ18 -> 0 | AM18: =AJ18+AG18+AD18+AA18+X18+U18+R18+O18+L18+I18+F18+C18 -> 0 | AN18: =AK18+AH18+AE18+AB18+Y18+V18+S18+P18+M18+J18+G18+D18 -> 29031.22 | AO18: =AL18+AI18+AF18+AC18+Z18+W18+T18+Q18+N18+K18+H18+E18 -> 29031.22
A19: 2273 | B19: Оплата електроенергії | E19: =D19+C19 -> 0 | G19: 27580.74 | H19: =G19+F19 -> 27580.74 | J19: 28698.85 | K19: =J19+I19 -> 28698.85 | M19: 33685.12 | N19: =M19+L19 -> 33685.12 | P19: 32500.46 | Q19: =P19+O19 -> 32500.46 | S19: 34859.53 | T19: =S19+R19 -> 34859.53 | V19: 6812.61 | W19: =V19+U19 -> 6812.61 | Y19: 5858.81 | Z19: =Y19+X19 -> 5858.81 | AB19: 8448.48 | AC19: =AB19+AA19 -> 8448.48 | AF19: =AE19+AD19 -> 0 | AI19: =AH19+AG19:AG20 -> 0 | AL19: =AK19+AJ19 -> 0 | AM19: =AJ19+AG19+AD19+AA19+X19+U19+R19+O19+L19+I19+F19+C19 -> 0 | AN19: =AK19+AH19+AE19+AB19+Y19+V19+S19+P19+M19+J19+G19+D19 -> 178444.6 | AO19: =AL19+AI19+AF19+AC19+Z19+W19+T19+Q19+N19+K19+H19+E19 -> 178444.6
A20: 2274 | B20: Оплата природного газу | E20: =D20+C20 -> 0 | H20: =G20+F20 -> 0 | K20: =J20+I20 -> 0 | N20: =M20+L20 -> 0 | Q20: =P20+O20 -> 0 | T20: =S20+R20 -> 0 | W20: =V20+U20 -> 0 | Z20: =Y20+X20 -> 0 | AC20: =AB20+AA20 -> 0 | AF20: =AE20+AD20 -> 0 | AI20: =AH20+AG20:AG21 -> 0 | AL20: =AK20+AJ20 -> 0 | AM20: =AJ20+AG20+AD20+AA20+X20+U20+R20+O20+L20+I20+F20+C20 -> 0 | AN20: =AK20+AH20+AE20+AB20+Y20+V20+S20+P20+M20+J20+G20+D20 -> 0 | AO20: =AL20+AI20+AF20+AC20+Z20+W20+T20+Q20+N20+K20+H20+E20 -> 0
A21: 2275 | B21: Оплата інших енергоносіїв | D21: 10693.94 | E21: =D21+C21 -> 10693.94 | G21: 2059.34 | H21: =G21+F21 -> 2059.34 | J21: 1048.08 | K21: =J21+I21 -> 1048.08 | M21: 1812.05 | N21: =M21+L21 -> 1812.05 | P21: 4548.08 | Q21: =P21+O21 -> 4548.08 | S21: 1048.08 | T21: =S21+R21 -> 1048.08 | V21: 1310.1 | W21: =V21+U21 -> 1310.1 | Y21: 1527.24 | Z21: =Y21+X21 -> 1527.24 | AB21: =1976.12 -> 1976.12 | AC21: =AB21+AA21 -> 1976.12 | AF21: =AE21+AD21 -> 0 | AI21: =AH21+AG21:AG22 -> 0 | AL21: =AK21+AJ21 -> 0 | AM21: =AJ21+AG21+AD21+AA21+X21+U21+R21+O21+L21+I21+F21+C21 -> 0 | AN21: =AK21+AH21+AE21+AB21+Y21+V21+S21+P21+M21+J21+G21+D21 -> 26023.03 | AO21: =AL21+AI21+AF21+AC21+Z21+W21+T21+Q21+N21+K21+H21+E21 -> 26023.03
A22: 2282 | B22: Окремі заходи по реалізації державних (регіональних) програм, не віднесені до заходів розвитку | E22: =D22+C22 -> 0 | H22: =G22+F22 -> 0 | K22: =J22+I22 -> 0 | N22: =M22+L22 -> 0 | P22: 2880 | Q22: =P22+O22 -> 2880 | S22: 600 | T22: =S22+R22 -> 600 | W22: =V22+U22 -> 0 | Y22: 320 | Z22: =Y22+X22 -> 320 | AC22: =AB22+AA22 -> 0 | AF22: =AE22+AD22 -> 0 | AI22: =AH22+AG22:AG25 -> 0 | AL22: =AK22+AJ22 -> 0 | AM22: =AJ22+AG22+AD22+AA22+X22+U22+R22+O22+L22+I22+F22+C22 -> 0 | AN22: =AK22+AH22+AE22+AB22+Y22+V22+S22+P22+M22+J22+G22+D22 -> 3800 | AO22: =AL22+AI22+AF22+AC22+Z22+W22+T22+Q22+N22+K22+H22+E22 -> 3800
A23: 2700 | B23: Соціальне забезпечення
A24: 2800 | B24: Інші поточні видатки | E24: =D24+C24 -> 0 | H24: =G24+F24 -> 0 | K24: =J24+I24 -> 0 | N24: =M24+L24 -> 0 | Q24: =P24+O24 -> 0 | T24: =S24+R24 -> 0 | W24: =V24+U24 -> 0 | Y24: 12723.72 | Z24: =Y24+X24 -> 12723.72 | AC24: =AB24+AA24 -> 0 | AF24: =AE24+AD24 -> 0 | AI24: =AH24+AG24 -> 0 | AL24: =AK24+AJ24 -> 0 | AM24: =AL24+AK24 -> 0 | AN24: =AK24+AH24+AE24+AB24+Y24+V24+S24+P24+M24+J24+G24+D24 -> 12723.72 | AO24: =AL24+AI24+AF24+AC24+Z24+W24+T24+Q24+N24+K24+H24+E24 -> 12723.72
A25: 3110 | B25: Придбання обладнання, предметів довгострокового користування | E25: =D25+C25 -> 0 | H25: =G25+F25 -> 0 | K25: =J25+I25 -> 0 | N25: =M25+L25 -> 0 | Q25: =P25+O25 -> 0 | T25: =S25+R25 -> 0 | W25: =V25+U25 -> 0 | Z25: =Y25+X25 -> 0 | AC25: =AB25+AA25 -> 0 | AF25: =AE25+AD25 -> 0 | AI25: =AH25+AG25:AG27 -> 0 | AL25: =AK25+AJ25 -> 0 | AM25: =AJ25+AG25+AD25+AA25+X25+U25+R25+O25+L25+I25+F25+C25 -> 0 | AN25: =AK25+AH25+AE25+AB25+Y25+V25+S25+P25+M25+J25+G25+D25 -> 0 | AO25: =AL25+AI25+AF25+AC25+Z25+W25+T25+Q25+N25+K25+H25+E25 -> 0
A26: 3132 | B26: Капітальний ремонт інших об'єктів | E26: =D26+C26 -> 0 | H26: =G26+F26 -> 0 | K26: =J26+I26 -> 0 | N26: =M26+L26 -> 0 | Q26: =P26+O26 -> 0 | T26: =S26+R26 -> 0 | W26: =V26+U26 -> 0 | Z26: =Y26+X26 -> 0 | AC26: =AB26+AA26 -> 0 | AF26: =AE26+AD26 -> 0 | AI26: =AH26+AG26:AG28 -> 0 | AL26: =AK26+AJ26 -> 0 | AM26: =AJ26+AG26+AD26+AA26+X26+U26+R26+O26+L26+I26+F26+C26 -> 0 | AN26: =AK26+AH26+AE26+AB26+Y26+V26+S26+P26+M26+J26+G26+D26 -> 0 | AO26: =AL26+AI26+AF26+AC26+Z26+W26+T26+Q26+N26+K26+H26+E26 -> 0
E27: =D27+C27 -> 0 | H27: =G27+F27 -> 0 | K27: =J27+I27 -> 0 | N27: =M27+L27 -> 0 | Q27: =P27+O27 -> 0 | T27: =S27+R27 -> 0 | W27: =V27+U27 -> 0 | Z27: =Y27+X27 -> 0 | AC27: =AB27+AA27 -> 0 | AF27: =AE27+AD27 -> 0 | AI27: =AH27+AG27:AG28 -> 0 | AL27: =AK27+AJ27 -> 0 | AM27: =AJ27+AG27+AD27+AA27+X27+U27+R27+O27+L27+I27+F27+C27 -> 0 | AN27: =AK27+AH27+AE27+AB27+Y27+V27+S27+P27+M27+J27+G27+D27 -> 0 | AO27: =AL27+AI27+AF27+AC27+Z27+W27+T27+Q27+N27+K27+H27+E27 -> 0
A28: 2730 | E28: =D28+C28 -> 0 | H28: =G28+F28 -> 0 | K28: =J28+I28 -> 0 | N28: =M28+L28 -> 0 | Q28: =P28+O28 -> 0 | T28: =S28+R28 -> 0 | W28: =V28+U28 -> 0 | Z28: =Y28+X28 -> 0 | AC28: =AB28+AA28 -> 0 | AF28: =AE28+AD28 -> 0 | AI28: =AH28+AG28:AG30 -> 0 | AL28: =AK28+AJ28 -> 0 | AM28: =AJ28+AG28+AD28+AA28+X28+U28+R28+O28+L28+I28+F28+C28 -> 0 | AN28: =AK28+AH28+AE28+AB28+Y28+V28+S28+P28+M28+J28+G28+D28 -> 0 | AO28: =AL28+AI28+AF28+AC28+Z28+W28+T28+Q28+N28+K28+H28+E28 -> 0
A29: 7520 | B29: Реалізація Національної програми інформатизації | E29: =D29+C29 -> 0 | G29: 1435 | H29: =G29+F29 -> 1435 | J29: 1435 | K29: =J29+I29 -> 1435 | M29: 2360 | N29: =M29+L29 -> 2360 | P29: 1435 | Q29: =P29+O29 -> 1435 | S29: 1435 | T29: =S29+R29 -> 1435 | V29: 2360 | W29: =V29+U29 -> 2360 | Y29: 1435 | Z29: =Y29+X29 -> 1435 | AB29: 1435 | AC29: =AB29+AA29 -> 1435 | AF29: =AE29+AD29 -> 0 | AI29: =AH29+AG29:AG31 -> 0 | AL29: =AK29+AJ29 -> 0 | AM29: =AJ29+AG29+AD29+AA29+X29+U29+R29+O29+L29+I29+F29+C29 -> 0 | AN29: =AK29+AH29+AE29+AB29+Y29+V29+S29+P29+M29+J29+G29+D29 -> 13330 | AO29: =AL29+AI29+AF29+AC29+Z29+W29+T29+Q29+N29+K29+H29+E29 -> 13330
B30: Всього | C30: =SUM(C9:C28) -> 0 | D30: =SUM(D9:D28) -> 243593.68 | E30: =SUM(E9:E28) -> 243593.68 | F30: =SUM(F9:F28) -> 0 | G30: =SUM(G9:G28) -> 716919.91 | H30: =SUM(H9:H28) -> 716919.91 | I30: =SUM(I9:I28) -> 0 | J30: =SUM(J9:J28) -> 793742.52 | K30: =J30+I30 -> 793742.52 | L30: =SUM(L9:L28) -> 0 | M30: =SUM(M9:M28) -> 433625.4 | N30: =M30+L30 -> 433625.4 | O30: =SUM(O9:O28) -> 0 | P30: =SUM(P9:P28) -> 291569.72 | Q30: =P30+O30 -> 291569.72 | R30: =SUM(R9:R28) -> 0 | S30: =SUM(S9:S28) -> 360681.59 | T30: =S30+R30 -> 360681.59 | U30: =SUM(U9:U28) -> 0 | V30: =SUM(V9:V28) -> 195300.29 | W30: =V30+U30 -> 195300.29 | X30: =SUM(X9:X28) -> 0 | Y30: =SUM(Y9:Y28) -> 211447.47 | Z30: =Y30+X30 -> 211447.47 | AA30: =SUM(AA9:AA28) -> 0 | AB30: =SUM(AB9:AB28) -> 299643.24 | AC30: =AB30+AA30 -> 299643.24 | AD30: =SUM(AD9:AD28) -> 0 | AE30: =SUM(AE9:AE28) -> 0 | AF30: =AE30+AD30 -> 0 | AG30: =SUM(AG9:AG28) -> 0 | AH30: =SUM(AH9:AH28) -> 0 | AI30: =AH30+AG30 -> 0 | AJ30: =SUM(AJ9:AJ28) -> 0 | AK30: =SUM(AK9:AK28) -> 0 | AL30: =AK30+AJ30 -> 0 | AM30: =SUM(AM9:AM28) -> 0 | AN30: =SUM(AN9:AN28) -> 3546523.8 | AO30: =SUM(AO9:AO28) -> 3546523.8
A33: Керівник
A35: Виконавець(ПІБ,тел.)

Sheet 42
R1: Додаток 3
R2: до наказу управління освіти і науки
R3: виконкому міської ради
A4: Інформація
A5: щодо фактичного використання бюджетних коштів у 2026
A6: Криворізька гімназія №42 Криворізької міської ради
C7: Січень | F7: Лютий | I7: Березень | L7: Квітень | O7: Травень | R7: Червень | U7: Липень | X7: Серпень | AA7: Вересень | AD7: Жовтень | AG7: Листопад | AJ7: Грудень | AM7: Разом
C8: державний | D8: місцевий | E8: разом | F8: державний | G8: місцевий | H8: разом | I8: державний | J8: місцевий | K8: разом | L8: державний | M8: місцевий | N8: разом | O8: державний | P8: місцевий | Q8: разом | R8: державний | S8: місцевий | T8: разом | U8: державний | V8: місцевий | W8: разом | X8: державний | Y8: місцевий | Z8: разом | AA8: державний | AB8: місцевий | AC8: разом | AD8: державний | AE8: місцевий | AF8: разом | AG8: державний | AH8: місцевий | AI8: разом | AJ8: державний | AK8: місцевий | AL8: разом | AM8: державний | AN8: місцевий | AO8: разом
A9: 2111 | B9: Заробітна плата | D9: 289127.92 | E9: =D9+C9 -> 289127.92 | G9: 299431.44 | H9: =G9+F9 -> 299431.44 | J9: 302081.29 | K9: =J9+I9 -> 302081.29 | M9: 286992.25 | N9: =M9+L9 -> 286992.25 | P9: 291169.68 | Q9: =P9+O9 -> 291169.68 | S9: 310528.2 | T9: =S9+R9 -> 310528.2 | V9: 278565.28 | W9: =V9+U9 -> 278565.28 | Y9: 232825.41 | Z9: =Y9+X9 -> 232825.41 | AB9: 290441.81 | AC9: =AB9+AA9 -> 290441.81 | AF9: =AD9+AE9 -> 0 | AI9: =AH9+AG9 -> 0 | AL9: =AK9+AJ9 -> 0 | AM9: =AJ9+AG9+AD9+AA9+X9+U9+R9+O9+L9+I9+F9+C9 -> 0 | AN9: =AK9+AH9+AE9+AB9+Y9+V9+S9+P9+M9+J9+G9+D9 -> 2581163.3 | AO9: =AL9+AI9+AF9+AC9+Z9+W9+T9+Q9+N9+K9+H9+E9 -> 2581163.3
